BEGIN:VCALENDAR
VERSION:2.0
PRODID:-//Chiens d&#039;arrêt - ECPv6.8.3//NONSGML v1.0//EN
CALSCALE:GREGORIAN
METHOD:PUBLISH
X-ORIGINAL-URL:https://www.chiendarret.fr
X-WR-CALDESC:Évènements pour Chiens d&#039;arrêt
REFRESH-INTERVAL;VALUE=DURATION:PT1H
X-Robots-Tag:noindex
X-PUBLISHED-TTL:PT1H
BEGIN:VTIMEZONE
TZID:Europe/Paris
BEGIN:DAYLIGHT
TZOFFSETFROM:+0100
TZOFFSETTO:+0200
TZNAME:CEST
DTSTART:20210328T010000
END:DAYLIGHT
BEGIN:STANDARD
TZOFFSETFROM:+0200
TZOFFSETTO:+0100
TZNAME:CET
DTSTART:20211031T010000
END:STANDARD
END:VTIMEZONE
BEGIN:VEVENT
DTSTART;VALUE=DATE:20211209
DTEND;VALUE=DATE:20211210
DTSTAMP:20260420T231333
CREATED:20210619T071158Z
LAST-MODIFIED:20210619T071158Z
UID:2034-1639008000-1639094399@www.chiendarret.fr
SUMMARY:LOUDEAC - CACT BRITANNIQUES - C SETTER ANGLAIS
DESCRIPTION:
URL:https://www.chiendarret.fr/les-concours/loudeac-cact-britanniques-c-setter-anglais/
LOCATION:22600 LOUDEAC\, LOUDEAC\, 22600\, France
CATEGORIES:Fields Trials Gibier Sauvage
ATTACH;FMTTYPE=image/jpeg:https://www.chiendarret.fr/wp-content/uploads/2021/07/setter_irlandais_field.jpg
ORGANIZER;CN="C SETTER ANGLAIS - M. HUPE YVES":MAILTO:yvonhupe@gmail.com
END:VEVENT
BEGIN:VEVENT
DTSTART;VALUE=DATE:20211209
DTEND;VALUE=DATE:20211210
DTSTAMP:20260420T231333
CREATED:20210619T071228Z
LAST-MODIFIED:20210619T071228Z
UID:2042-1639008000-1639094399@www.chiendarret.fr
SUMMARY:MIOS - CACT BRITANNIQUES - POINTER CF
DESCRIPTION:CHEQUES A L ORDRE DU CUSCA 33
URL:https://www.chiendarret.fr/les-concours/mios-cact-britanniques-pointer-cf/
LOCATION:33380 MIOS\, MIOS\, 33380\, France
CATEGORIES:Fields Trials Gibier Sauvage
ATTACH;FMTTYPE=image/jpeg:https://www.chiendarret.fr/wp-content/uploads/2021/07/setter_irlandais_field.jpg
ORGANIZER;CN="POINTER CF - M. CARPENTEY JEAN":MAILTO:jean.carpentey@wanadoo.fr
END:VEVENT
END:VCALENDAR