BEGIN:VCALENDAR
VERSION:2.0
PRODID:-//Chiens d&#039;arrêt - ECPv6.8.3//NONSGML v1.0//EN
CALSCALE:GREGORIAN
METHOD:PUBLISH
X-ORIGINAL-URL:https://www.chiendarret.fr
X-WR-CALDESC:Évènements pour Chiens d&#039;arrêt
REFRESH-INTERVAL;VALUE=DURATION:PT1H
X-Robots-Tag:noindex
X-PUBLISHED-TTL:PT1H
BEGIN:VTIMEZONE
TZID:Europe/Paris
BEGIN:DAYLIGHT
TZOFFSETFROM:+0100
TZOFFSETTO:+0200
TZNAME:CEST
DTSTART:20210328T010000
END:DAYLIGHT
BEGIN:STANDARD
TZOFFSETFROM:+0200
TZOFFSETTO:+0100
TZNAME:CET
DTSTART:20211031T010000
END:STANDARD
END:VTIMEZONE
BEGIN:VEVENT
DTSTART;VALUE=DATE:20211207
DTEND;VALUE=DATE:20211208
DTSTAMP:20260420T213657
CREATED:20210618T232944Z
LAST-MODIFIED:20210619T071733Z
UID:1800-1638835200-1638921599@www.chiendarret.fr
SUMMARY:MAGNY - CACIT CONTINENTAUX - CUSCA-28
DESCRIPTION:
URL:https://www.chiendarret.fr/les-concours/magny-cacit-continentaux-cusca-28/
LOCATION:28120 MAGNY\, MAGNY\, 28120\, France
CATEGORIES:Fields Trials Gibier Naturel
ATTACH;FMTTYPE=image/jpeg:https://www.chiendarret.fr/wp-content/uploads/2021/07/field-trial-griffon.jpg
ORGANIZER;CN="CUSCA-28 - M. LAPORTE BRUNO":MAILTO:bruno.laporte99@wanadoo.fr
END:VEVENT
BEGIN:VEVENT
DTSTART;VALUE=DATE:20211207
DTEND;VALUE=DATE:20211208
DTSTAMP:20260420T213657
CREATED:20210618T232959Z
LAST-MODIFIED:20210619T071747Z
UID:1801-1638835200-1638921599@www.chiendarret.fr
SUMMARY:MAGNY - CACT BRITANNIQUES - CUSCA-28
DESCRIPTION:
URL:https://www.chiendarret.fr/les-concours/magny-cact-britanniques-cusca-28/
LOCATION:28120 MAGNY\, MAGNY\, 28120\, France
CATEGORIES:Fields Trials Gibier Naturel
ATTACH;FMTTYPE=image/jpeg:https://www.chiendarret.fr/wp-content/uploads/2021/07/field-trial-griffon.jpg
ORGANIZER;CN="CUSCA-28 - M. LAPORTE BRUNO":MAILTO:bruno.laporte99@wanadoo.fr
END:VEVENT
BEGIN:VEVENT
DTSTART;VALUE=DATE:20211207
DTEND;VALUE=DATE:20211208
DTSTAMP:20260420T213657
CREATED:20210619T071014Z
LAST-MODIFIED:20210619T071014Z
UID:1999-1638835200-1638921599@www.chiendarret.fr
SUMMARY:Forêt du Gâvre - CACT BRITANNIQUES - ASS DRESS PRO
DESCRIPTION:UNIQUEMENT COUPLE
URL:https://www.chiendarret.fr/les-concours/foret-du-gavre-cact-britanniques-ass-dress-pro/
LOCATION:44130 LE GAVRE\, LE GAVRE\, 44130\, France
CATEGORIES:Fields Trials Gibier Sauvage
ATTACH;FMTTYPE=image/jpeg:https://www.chiendarret.fr/wp-content/uploads/2021/07/setter_irlandais_field.jpg
ORGANIZER;CN="ASS DRESS PRO - M. JONCOUR YVES":MAILTO:yves.joncour@wanadoo.fr
END:VEVENT
BEGIN:VEVENT
DTSTART;VALUE=DATE:20211207
DTEND;VALUE=DATE:20211208
DTSTAMP:20260420T213657
CREATED:20210619T071128Z
LAST-MODIFIED:20210619T071128Z
UID:2025-1638835200-1638921599@www.chiendarret.fr
SUMMARY:Le Gavre - CACT CONTINENTAUX - ASS DRESS PRO
DESCRIPTION:UNIQUEMENT COUPLE
URL:https://www.chiendarret.fr/les-concours/le-gavre-cact-continentaux-ass-dress-pro/
LOCATION:44131 Le Gavre\, Le Gavre\, 44131\, France
CATEGORIES:Fields Trials Gibier Sauvage
ATTACH;FMTTYPE=image/jpeg:https://www.chiendarret.fr/wp-content/uploads/2021/07/setter_irlandais_field.jpg
ORGANIZER;CN="ASS DRESS PRO - M. JONCOUR YVES":MAILTO:yves.joncour@wanadoo.fr
END:VEVENT
END:VCALENDAR