BEGIN:VCALENDAR
VERSION:2.0
PRODID:-//Chiens d&#039;arrêt - ECPv6.8.3//NONSGML v1.0//EN
CALSCALE:GREGORIAN
METHOD:PUBLISH
X-ORIGINAL-URL:https://www.chiendarret.fr
X-WR-CALDESC:Évènements pour Chiens d&#039;arrêt
REFRESH-INTERVAL;VALUE=DURATION:PT1H
X-Robots-Tag:noindex
X-PUBLISHED-TTL:PT1H
BEGIN:VTIMEZONE
TZID:Europe/Paris
BEGIN:DAYLIGHT
TZOFFSETFROM:+0100
TZOFFSETTO:+0200
TZNAME:CEST
DTSTART:20210328T010000
END:DAYLIGHT
BEGIN:STANDARD
TZOFFSETFROM:+0200
TZOFFSETTO:+0100
TZNAME:CET
DTSTART:20211031T010000
END:STANDARD
END:VTIMEZONE
BEGIN:VEVENT
DTSTART;VALUE=DATE:20211206
DTEND;VALUE=DATE:20211207
DTSTAMP:20260420T213646
CREATED:20210618T232445Z
LAST-MODIFIED:20210619T070843Z
UID:1750-1638748800-1638835199@www.chiendarret.fr
SUMMARY:CALLAC 2 - CACT BRITANNIQUES - SC BRETONNE
DESCRIPTION:CHALLENGE NORMANDIE – BRETAGNE
URL:https://www.chiendarret.fr/les-concours/callac-2-cact-britanniques-sc-bretonne/
LOCATION:22160 CALLAC\, CALLAC\, 22160\, France
CATEGORIES:Fields Trials Gibier Sauvage
ATTACH;FMTTYPE=image/jpeg:https://www.chiendarret.fr/wp-content/uploads/2021/07/setter_irlandais_field.jpg
ORGANIZER;CN="SC BRETONNE - M. BOLLOCH JEAN-CHRISTOPHE":MAILTO:jc.bolloch@orange.fr
END:VEVENT
BEGIN:VEVENT
DTSTART;VALUE=DATE:20211206
DTEND;VALUE=DATE:20211207
DTSTAMP:20260420T213646
CREATED:20210618T232446Z
LAST-MODIFIED:20210619T070843Z
UID:1751-1638748800-1638835199@www.chiendarret.fr
SUMMARY:CALLAC 2 - CACT CONTINENTAUX - SC BRETONNE
DESCRIPTION:CHALLENGE NORMANDIE – BRETAGNE
URL:https://www.chiendarret.fr/les-concours/callac-2-cact-continentaux-sc-bretonne/
LOCATION:22160 CALLAC\, CALLAC\, 22160\, France
CATEGORIES:Fields Trials Gibier Sauvage
ATTACH;FMTTYPE=image/jpeg:https://www.chiendarret.fr/wp-content/uploads/2021/07/setter_irlandais_field.jpg
ORGANIZER;CN="SC BRETONNE - M. BOLLOCH JEAN-CHRISTOPHE":MAILTO:jc.bolloch@orange.fr
END:VEVENT
END:VCALENDAR