BEGIN:VCALENDAR
VERSION:2.0
PRODID:-//Chiens d&#039;arrêt - ECPv6.8.3//NONSGML v1.0//EN
CALSCALE:GREGORIAN
METHOD:PUBLISH
X-ORIGINAL-URL:https://www.chiendarret.fr
X-WR-CALDESC:Évènements pour Chiens d&#039;arrêt
REFRESH-INTERVAL;VALUE=DURATION:PT1H
X-Robots-Tag:noindex
X-PUBLISHED-TTL:PT1H
BEGIN:VTIMEZONE
TZID:Europe/Paris
BEGIN:DAYLIGHT
TZOFFSETFROM:+0100
TZOFFSETTO:+0200
TZNAME:CEST
DTSTART:20210328T010000
END:DAYLIGHT
BEGIN:STANDARD
TZOFFSETFROM:+0200
TZOFFSETTO:+0100
TZNAME:CET
DTSTART:20211031T010000
END:STANDARD
END:VTIMEZONE
BEGIN:VEVENT
DTSTART;VALUE=DATE:20211204
DTEND;VALUE=DATE:20211205
DTSTAMP:20260420T231221
CREATED:20210618T232213Z
LAST-MODIFIED:20210619T070725Z
UID:1694-1638576000-1638662399@www.chiendarret.fr
SUMMARY:BAILLEUL - CACT CONTINENTAUX - C EPAGNEUL PICARD
DESCRIPTION:CBSG – CEF – CGK – CABW – CFEML – DCF – RABA – VCF – CLÔTURE DES ENGAGEMENTS LE 20/11/2021
URL:https://www.chiendarret.fr/les-concours/bailleul-cact-continentaux-c-epagneul-picard-3/
LOCATION:59270 BAILLEUL\, BAILLEUL\, 59270\, France
CATEGORIES:Fields Trials Gibier Sauvage
ATTACH;FMTTYPE=image/jpeg:https://www.chiendarret.fr/wp-content/uploads/2021/07/setter_irlandais_field.jpg
ORGANIZER;CN="C EPAGNEUL PICARD - M. BRUTELLE WILLIAM":MAILTO:william.brutelle@wanadoo.fr
END:VEVENT
BEGIN:VEVENT
DTSTART;VALUE=DATE:20211204
DTEND;VALUE=DATE:20211205
DTSTAMP:20260420T231221
CREATED:20210618T232446Z
LAST-MODIFIED:20210619T070843Z
UID:1752-1638576000-1638662399@www.chiendarret.fr
SUMMARY:CENTRE BRETAGNE - CACIT BRITANNIQUES - POINTER CF
DESCRIPTION:
URL:https://www.chiendarret.fr/les-concours/centre-bretagne-cacit-britanniques-pointer-cf-2/
LOCATION:22110 ROSTRENEN\, ROSTRENEN\, 22110\, France
CATEGORIES:Fields Trials Gibier Sauvage
ATTACH;FMTTYPE=image/jpeg:https://www.chiendarret.fr/wp-content/uploads/2021/07/setter_irlandais_field.jpg
ORGANIZER;CN="POINTER CF - M. COATMELLEC LOUIS":MAILTO:l.coatmellec@miloco.fr
END:VEVENT
BEGIN:VEVENT
DTSTART;VALUE=DATE:20211204
DTEND;VALUE=DATE:20211205
DTSTAMP:20260420T231221
CREATED:20210619T071029Z
LAST-MODIFIED:20210619T071029Z
UID:2005-1638576000-1638662399@www.chiendarret.fr
SUMMARY:GUERN - CACIT CONTINENTAUX - C EPAGNEUL BRETON
DESCRIPTION:
URL:https://www.chiendarret.fr/les-concours/guern-cacit-continentaux-c-epagneul-breton/
LOCATION:56310 GUERN\, GUERN\, 56310\, France
CATEGORIES:Fields Trials Gibier Sauvage
ATTACH;FMTTYPE=image/jpeg:https://www.chiendarret.fr/wp-content/uploads/2021/07/setter_irlandais_field.jpg
ORGANIZER;CN="C EPAGNEUL BRETON - M. TANGUY RENE":MAILTO:nouchtang@orange.fr
END:VEVENT
BEGIN:VEVENT
DTSTART;VALUE=DATE:20211204
DTEND;VALUE=DATE:20211205
DTSTAMP:20260420T231221
CREATED:20210626T120648Z
LAST-MODIFIED:20210626T120648Z
UID:2994-1638576000-1638662399@www.chiendarret.fr
SUMMARY:ST MARTIN DE BOSSENAY - CACIT BRITANNIQUES - AMIC AMATEURS FT
DESCRIPTION:
URL:https://www.chiendarret.fr/les-concours/st-martin-de-bossenay-cacit-britanniques-amic-amateurs-ft/
LOCATION:10100 ST MARTIN DE BOSSENAY\, ST MARTIN DE BOSSENAY\, 10100\, France
CATEGORIES:Fields Trials Grande Quête
ATTACH;FMTTYPE=image/jpeg:https://www.chiendarret.fr/wp-content/uploads/2021/07/Field-trial-setter-2.jpg
ORGANIZER;CN="AMIC AMATEURS FT - M. LEBRUN DOMINIQUE":MAILTO:dominique-lebrun@orange.fr
END:VEVENT
END:VCALENDAR