BEGIN:VCALENDAR
VERSION:2.0
PRODID:-//Chiens d&#039;arrêt - ECPv6.8.3//NONSGML v1.0//EN
CALSCALE:GREGORIAN
METHOD:PUBLISH
X-ORIGINAL-URL:https://www.chiendarret.fr
X-WR-CALDESC:Évènements pour Chiens d&#039;arrêt
REFRESH-INTERVAL;VALUE=DURATION:PT1H
X-Robots-Tag:noindex
X-PUBLISHED-TTL:PT1H
BEGIN:VTIMEZONE
TZID:Europe/Paris
BEGIN:DAYLIGHT
TZOFFSETFROM:+0100
TZOFFSETTO:+0200
TZNAME:CEST
DTSTART:20210328T010000
END:DAYLIGHT
BEGIN:STANDARD
TZOFFSETFROM:+0200
TZOFFSETTO:+0100
TZNAME:CET
DTSTART:20211031T010000
END:STANDARD
END:VTIMEZONE
BEGIN:VEVENT
DTSTART;VALUE=DATE:20211203
DTEND;VALUE=DATE:20211204
DTSTAMP:20260420T213708
CREATED:20210619T071059Z
LAST-MODIFIED:20210619T071059Z
UID:2013-1638489600-1638575999@www.chiendarret.fr
SUMMARY:La Ferme "La Bataille" - CACT BRITANNIQUES - C SETTER ANGLAIS
DESCRIPTION:
URL:https://www.chiendarret.fr/les-concours/la-ferme-la-bataille-cact-britanniques-c-setter-anglais/
LOCATION:56250 TREDION\, TREDION\, 56250\, France
CATEGORIES:Fields Trials Gibier Sauvage
ATTACH;FMTTYPE=image/jpeg:https://www.chiendarret.fr/wp-content/uploads/2021/07/setter_irlandais_field.jpg
ORGANIZER;CN="C SETTER ANGLAIS - M. COATMELLEC LOUIS":MAILTO:l.coatmellec@miloco.fr
END:VEVENT
BEGIN:VEVENT
DTSTART;VALUE=DATE:20211203
DTEND;VALUE=DATE:20211204
DTSTAMP:20260420T213708
CREATED:20210619T071259Z
LAST-MODIFIED:20210619T071259Z
UID:2054-1638489600-1638575999@www.chiendarret.fr
SUMMARY:PRIZIAC - CACIT CONTINENTAUX - VIZSLA CF
DESCRIPTION:POUR VALIDATION REGLEMENT UNIQUEMENT PAR CHEQUE A L’ORDRE DU CLUB DU GRIFFON KORTHALS
URL:https://www.chiendarret.fr/les-concours/priziac-cacit-continentaux-vizsla-cf/
LOCATION:56320 PRIZIAC\, PRIZIAC\, 56320\, France
CATEGORIES:Fields Trials Gibier Sauvage
ATTACH;FMTTYPE=image/jpeg:https://www.chiendarret.fr/wp-content/uploads/2021/07/setter_irlandais_field.jpg
ORGANIZER;CN="VIZSLA CF - M. ROUSSEAU YVON":MAILTO:yy.rousseau@orange.fr
END:VEVENT
BEGIN:VEVENT
DTSTART;VALUE=DATE:20211203
DTEND;VALUE=DATE:20211204
DTSTAMP:20260420T213708
CREATED:20210626T120727Z
LAST-MODIFIED:20210626T120727Z
UID:2999-1638489600-1638575999@www.chiendarret.fr
SUMMARY:ST MARTIN DE BOSSENAY 5 - CACIT BRITANNIQUES - POINTER CF
DESCRIPTION:
URL:https://www.chiendarret.fr/les-concours/st-martin-de-bossenay-5-cacit-britanniques-pointer-cf/
LOCATION:10100 ST MARTIN DE BOSSENAY\, ST MARTIN DE BOSSENAY\, 10100\, France
CATEGORIES:Fields Trials Grande Quête
ATTACH;FMTTYPE=image/jpeg:https://www.chiendarret.fr/wp-content/uploads/2021/07/Field-trial-setter-2.jpg
ORGANIZER;CN="POINTER CF - Mme PIAT SYLVIE":MAILTO:piatsylvie@orange.fr
END:VEVENT
END:VCALENDAR