BEGIN:VCALENDAR
VERSION:2.0
PRODID:-//Chiens d&#039;arrêt - ECPv6.8.3//NONSGML v1.0//EN
CALSCALE:GREGORIAN
METHOD:PUBLISH
X-ORIGINAL-URL:https://www.chiendarret.fr
X-WR-CALDESC:Évènements pour Chiens d&#039;arrêt
REFRESH-INTERVAL;VALUE=DURATION:PT1H
X-Robots-Tag:noindex
X-PUBLISHED-TTL:PT1H
BEGIN:VTIMEZONE
TZID:Europe/Paris
BEGIN:DAYLIGHT
TZOFFSETFROM:+0100
TZOFFSETTO:+0200
TZNAME:CEST
DTSTART:20210328T010000
END:DAYLIGHT
BEGIN:STANDARD
TZOFFSETFROM:+0200
TZOFFSETTO:+0100
TZNAME:CET
DTSTART:20211031T010000
END:STANDARD
END:VTIMEZONE
BEGIN:VEVENT
DTSTART;VALUE=DATE:20211202
DTEND;VALUE=DATE:20211203
DTSTAMP:20260420T213657
CREATED:20210618T232801Z
LAST-MODIFIED:20210619T071648Z
UID:1784-1638403200-1638489599@www.chiendarret.fr
SUMMARY:DEOLS 2 - CACT BRITANNIQUES - AMIC AMATEURS FT
DESCRIPTION:PAIEMENT OBLIGATOIRE AVEC LES ENGAGEMENTS. AUCUNE EXCEPTION. AUCUN CHANGEMENT APRES LE 20/11/21
URL:https://www.chiendarret.fr/les-concours/deols-2-cact-britanniques-amic-amateurs-ft/
LOCATION:36130 DEOLS\, DEOLS\, 36130\, France
CATEGORIES:Fields Trials Gibier Naturel
ATTACH;FMTTYPE=image/jpeg:https://www.chiendarret.fr/wp-content/uploads/2021/07/field-trial-griffon.jpg
ORGANIZER;CN="AMIC AMATEURS FT - Mme DUMAND EVELYNE":MAILTO:evelyne.dumand@sfr.fr
END:VEVENT
BEGIN:VEVENT
DTSTART;VALUE=DATE:20211202
DTEND;VALUE=DATE:20211203
DTSTAMP:20260420T213657
CREATED:20210618T232801Z
LAST-MODIFIED:20210619T071648Z
UID:1785-1638403200-1638489599@www.chiendarret.fr
SUMMARY:DEOLS 2 - CACT CONTINENTAUX - AMIC AMATEURS FT
DESCRIPTION:PAIEMENT OBLIGATOIRE AVEC LES ENGAGEMENTS POUR ETRE VALIDES. AUCUN CHANGEMENT APRES LE 20/11/21
URL:https://www.chiendarret.fr/les-concours/deols-2-cact-continentaux-amic-amateurs-ft/
LOCATION:36130 DEOLS\, DEOLS\, 36130\, France
CATEGORIES:Fields Trials Gibier Naturel
ATTACH;FMTTYPE=image/jpeg:https://www.chiendarret.fr/wp-content/uploads/2021/07/field-trial-griffon.jpg
ORGANIZER;CN="AMIC AMATEURS FT - Mme DUMAND EVELYNE":MAILTO:evelyne.dumand@sfr.fr
END:VEVENT
BEGIN:VEVENT
DTSTART;VALUE=DATE:20211202
DTEND;VALUE=DATE:20211203
DTSTAMP:20260420T213657
CREATED:20210619T071059Z
LAST-MODIFIED:20210619T071059Z
UID:2015-1638403200-1638489599@www.chiendarret.fr
SUMMARY:LA FEUILLEE - CACT CONTINENTAUX - DRAHTHAAR CF
DESCRIPTION:
URL:https://www.chiendarret.fr/les-concours/la-feuillee-cact-continentaux-drahthaar-cf/
LOCATION:29690 LA FEUILLEE\, LA FEUILLEE\, 29690\, France
CATEGORIES:Fields Trials Gibier Sauvage
ATTACH;FMTTYPE=image/jpeg:https://www.chiendarret.fr/wp-content/uploads/2021/07/setter_irlandais_field.jpg
ORGANIZER;CN="DRAHTHAAR CF - M. GARAND PASCAL":MAILTO:crann.bihan@orange.fr
END:VEVENT
BEGIN:VEVENT
DTSTART;VALUE=DATE:20211202
DTEND;VALUE=DATE:20211203
DTSTAMP:20260420T213657
CREATED:20210619T071429Z
LAST-MODIFIED:20210619T071429Z
UID:2086-1638403200-1638489599@www.chiendarret.fr
SUMMARY:VILLEBAUDON - CACT BRITANNIQUES - C SETTER ANGLAIS
DESCRIPTION:
URL:https://www.chiendarret.fr/les-concours/villebaudon-cact-britanniques-c-setter-anglais/
LOCATION:50410 VILLEBAUDON\, VILLEBAUDON\, 50410\, France
CATEGORIES:Fields Trials Gibier Sauvage
ATTACH;FMTTYPE=image/jpeg:https://www.chiendarret.fr/wp-content/uploads/2021/07/setter_irlandais_field.jpg
ORGANIZER;CN="C SETTER ANGLAIS - M. PERSON HERVE":MAILTO:person.herve@free.fr
END:VEVENT
BEGIN:VEVENT
DTSTART;VALUE=DATE:20211202
DTEND;VALUE=DATE:20211203
DTSTAMP:20260420T213657
CREATED:20210626T120727Z
LAST-MODIFIED:20210626T120727Z
UID:2998-1638403200-1638489599@www.chiendarret.fr
SUMMARY:ST MARTIN DE BOSSENAY 4 - CACIT BRITANNIQUES - POINTER CF
DESCRIPTION:
URL:https://www.chiendarret.fr/les-concours/st-martin-de-bossenay-4-cacit-britanniques-pointer-cf/
LOCATION:10100 ST MARTIN DE BOSSENAY\, ST MARTIN DE BOSSENAY\, 10100\, France
CATEGORIES:Fields Trials Grande Quête
ATTACH;FMTTYPE=image/jpeg:https://www.chiendarret.fr/wp-content/uploads/2021/07/Field-trial-setter-2.jpg
ORGANIZER;CN="POINTER CF - Mme PIAT SYLVIE":MAILTO:piatsylvie@orange.fr
END:VEVENT
END:VCALENDAR