BEGIN:VCALENDAR
VERSION:2.0
PRODID:-//Chiens d&#039;arrêt - ECPv6.8.3//NONSGML v1.0//EN
CALSCALE:GREGORIAN
METHOD:PUBLISH
X-WR-CALNAME:Chiens d&#039;arrêt
X-ORIGINAL-URL:https://www.chiendarret.fr
X-WR-CALDESC:Évènements pour Chiens d&#039;arrêt
REFRESH-INTERVAL;VALUE=DURATION:PT1H
X-Robots-Tag:noindex
X-PUBLISHED-TTL:PT1H
BEGIN:VTIMEZONE
TZID:Europe/Paris
BEGIN:DAYLIGHT
TZOFFSETFROM:+0100
TZOFFSETTO:+0200
TZNAME:CEST
DTSTART:20210328T010000
END:DAYLIGHT
BEGIN:STANDARD
TZOFFSETFROM:+0200
TZOFFSETTO:+0100
TZNAME:CET
DTSTART:20211031T010000
END:STANDARD
END:VTIMEZONE
BEGIN:VEVENT
DTSTART;VALUE=DATE:20211129
DTEND;VALUE=DATE:20211130
DTSTAMP:20260420T213524
CREATED:20210618T232231Z
LAST-MODIFIED:20210619T070743Z
UID:1703-1638144000-1638230399@www.chiendarret.fr
SUMMARY:BERRIEN - CACIT CONTINENTAUX - C EPAGNEUL BRETON
DESCRIPTION:
URL:https://www.chiendarret.fr/les-concours/berrien-cacit-continentaux-c-epagneul-breton-2/
LOCATION:29690 BERRIEN\, BERRIEN\, 29690\, France
CATEGORIES:Fields Trials Gibier Sauvage
ATTACH;FMTTYPE=image/jpeg:https://www.chiendarret.fr/wp-content/uploads/2021/07/setter_irlandais_field.jpg
ORGANIZER;CN="C EPAGNEUL BRETON - M. GARAND PASCAL":MAILTO:crann.bihan@orange.fr
END:VEVENT
BEGIN:VEVENT
DTSTART;VALUE=DATE:20211129
DTEND;VALUE=DATE:20211130
DTSTAMP:20260420T213524
CREATED:20210618T233000Z
LAST-MODIFIED:20210619T071748Z
UID:1804-1638144000-1638230399@www.chiendarret.fr
SUMMARY:NOHANT EN GRACAY - CACIT BRITANNIQUES - ASS DRESS PRO
DESCRIPTION:
URL:https://www.chiendarret.fr/les-concours/nohant-en-gracay-cacit-britanniques-ass-dress-pro/
LOCATION:18310 NOHANT EN GRACAY\, NOHANT EN GRACAY\, 18310\, France
CATEGORIES:Fields Trials Gibier Naturel
ATTACH;FMTTYPE=image/jpeg:https://www.chiendarret.fr/wp-content/uploads/2021/07/field-trial-griffon.jpg
ORGANIZER;CN="ASS DRESS PRO - M. DUNEAU WILFRID":MAILTO:duneau.wilfrid@orange.fr
END:VEVENT
BEGIN:VEVENT
DTSTART;VALUE=DATE:20211129
DTEND;VALUE=DATE:20211130
DTSTAMP:20260420T213524
CREATED:20210618T233000Z
LAST-MODIFIED:20210619T071748Z
UID:1805-1638144000-1638230399@www.chiendarret.fr
SUMMARY:NOHANT EN GRACAY - CACIT CONTINENTAUX - ASS DRESS PRO
DESCRIPTION:
URL:https://www.chiendarret.fr/les-concours/nohant-en-gracay-cacit-continentaux-ass-dress-pro/
LOCATION:18310 NOHANT EN GRACAY\, NOHANT EN GRACAY\, 18310\, France
CATEGORIES:Fields Trials Gibier Naturel
ATTACH;FMTTYPE=image/jpeg:https://www.chiendarret.fr/wp-content/uploads/2021/07/field-trial-griffon.jpg
ORGANIZER;CN="ASS DRESS PRO - M. DUNEAU WILFRID":MAILTO:duneau.wilfrid@orange.fr
END:VEVENT
BEGIN:VEVENT
DTSTART;VALUE=DATE:20211129
DTEND;VALUE=DATE:20211130
DTSTAMP:20260420T213524
CREATED:20210619T071043Z
LAST-MODIFIED:20210619T071043Z
UID:2007-1638144000-1638230399@www.chiendarret.fr
SUMMARY:HUELGOAT - CACT BRITANNIQUES - C SETTER ANGLAIS
DESCRIPTION:
URL:https://www.chiendarret.fr/les-concours/huelgoat-cact-britanniques-c-setter-anglais/
LOCATION:29690 HUELGOAT\, HUELGOAT\, 29690\, France
CATEGORIES:Fields Trials Gibier Sauvage
ATTACH;FMTTYPE=image/jpeg:https://www.chiendarret.fr/wp-content/uploads/2021/07/setter_irlandais_field.jpg
ORGANIZER;CN="C SETTER ANGLAIS - M. PLUSQUELLEC THIERRY":MAILTO:thierry.plusquellec@orange.fr
END:VEVENT
BEGIN:VEVENT
DTSTART;VALUE=DATE:20211129
DTEND;VALUE=DATE:20211130
DTSTAMP:20260420T213524
CREATED:20210626T120648Z
LAST-MODIFIED:20210626T120648Z
UID:2995-1638144000-1638230399@www.chiendarret.fr
SUMMARY:ST MARTIN DE BOSSENAY - CACIT BRITANNIQUES - POINTER CF
DESCRIPTION:
URL:https://www.chiendarret.fr/les-concours/st-martin-de-bossenay-cacit-britanniques-pointer-cf/
LOCATION:10100 ST MARTIN DE BOSSENAY\, ST MARTIN DE BOSSENAY\, 10100\, France
CATEGORIES:Fields Trials Grande Quête
ATTACH;FMTTYPE=image/jpeg:https://www.chiendarret.fr/wp-content/uploads/2021/07/Field-trial-setter-2.jpg
ORGANIZER;CN="POINTER CF - Mme PIAT SYLVIE":MAILTO:piatsylvie@orange.fr
END:VEVENT
END:VCALENDAR