BEGIN:VCALENDAR
VERSION:2.0
PRODID:-//Chiens d&#039;arrêt - ECPv6.8.3//NONSGML v1.0//EN
CALSCALE:GREGORIAN
METHOD:PUBLISH
X-ORIGINAL-URL:https://www.chiendarret.fr
X-WR-CALDESC:Évènements pour Chiens d&#039;arrêt
REFRESH-INTERVAL;VALUE=DURATION:PT1H
X-Robots-Tag:noindex
X-PUBLISHED-TTL:PT1H
BEGIN:VTIMEZONE
TZID:Europe/Paris
BEGIN:DAYLIGHT
TZOFFSETFROM:+0100
TZOFFSETTO:+0200
TZNAME:CEST
DTSTART:20210328T010000
END:DAYLIGHT
BEGIN:STANDARD
TZOFFSETFROM:+0200
TZOFFSETTO:+0100
TZNAME:CET
DTSTART:20211031T010000
END:STANDARD
END:VTIMEZONE
BEGIN:VEVENT
DTSTART;VALUE=DATE:20211128
DTEND;VALUE=DATE:20211129
DTSTAMP:20260420T232851
CREATED:20210619T071359Z
LAST-MODIFIED:20210619T071359Z
UID:2072-1638057600-1638143999@www.chiendarret.fr
SUMMARY:TREGARVAN - CACIT BRITANNIQUES - SC BRETONNE
DESCRIPTION:CHALLENGE NORMANDIE – BRETAGNE COUPLE UNIQUEMENT
URL:https://www.chiendarret.fr/les-concours/tregarvan-cacit-britanniques-sc-bretonne/
LOCATION:29560 TREGARVAN\, TREGARVAN\, 29560\, France
CATEGORIES:Fields Trials Gibier Sauvage
ATTACH;FMTTYPE=image/jpeg:https://www.chiendarret.fr/wp-content/uploads/2021/07/setter_irlandais_field.jpg
ORGANIZER;CN="SC BRETONNE - Mme DANIEL PASCALE":MAILTO:philippe.daniel12@orange.fr
END:VEVENT
BEGIN:VEVENT
DTSTART;VALUE=DATE:20211128
DTEND;VALUE=DATE:20211129
DTSTAMP:20260420T232851
CREATED:20210619T071359Z
LAST-MODIFIED:20210619T071359Z
UID:2073-1638057600-1638143999@www.chiendarret.fr
SUMMARY:TREGARVAN - CACIT CONTINENTAUX - SC BRETONNE
DESCRIPTION:CHALLENGE NORMANDIE – BRETAGNE
URL:https://www.chiendarret.fr/les-concours/tregarvan-cacit-continentaux-sc-bretonne/
LOCATION:29560 TREGARVAN\, TREGARVAN\, 29560\, France
CATEGORIES:Fields Trials Gibier Sauvage
ATTACH;FMTTYPE=image/jpeg:https://www.chiendarret.fr/wp-content/uploads/2021/07/setter_irlandais_field.jpg
ORGANIZER;CN="SC BRETONNE - Mme DANIEL PASCALE":MAILTO:philippe.daniel12@orange.fr
END:VEVENT
BEGIN:VEVENT
DTSTART;VALUE=DATE:20211128
DTEND;VALUE=DATE:20211129
DTSTAMP:20260420T232851
CREATED:20210626T120648Z
LAST-MODIFIED:20210626T120648Z
UID:2993-1638057600-1638143999@www.chiendarret.fr
SUMMARY:LA CHEPPE - CACIT BRITANNIQUES - POINTER CF
DESCRIPTION:
URL:https://www.chiendarret.fr/les-concours/la-cheppe-cacit-britanniques-pointer-cf/
LOCATION:51600 LA CHEPPE\, LA CHEPPE\, 51600\, France
CATEGORIES:Fields Trials Grande Quête
ATTACH;FMTTYPE=image/jpeg:https://www.chiendarret.fr/wp-content/uploads/2021/07/Field-trial-setter-2.jpg
ORGANIZER;CN="POINTER CF - M. BURLAT PASCAL":MAILTO:burlat.scca@gmail.com
END:VEVENT
END:VCALENDAR