BEGIN:VCALENDAR
VERSION:2.0
PRODID:-//Chiens d&#039;arrêt - ECPv6.8.3//NONSGML v1.0//EN
CALSCALE:GREGORIAN
METHOD:PUBLISH
X-WR-CALNAME:Chiens d&#039;arrêt
X-ORIGINAL-URL:https://www.chiendarret.fr
X-WR-CALDESC:Évènements pour Chiens d&#039;arrêt
REFRESH-INTERVAL;VALUE=DURATION:PT1H
X-Robots-Tag:noindex
X-PUBLISHED-TTL:PT1H
BEGIN:VTIMEZONE
TZID:Europe/Paris
BEGIN:DAYLIGHT
TZOFFSETFROM:+0100
TZOFFSETTO:+0200
TZNAME:CEST
DTSTART:20210328T010000
END:DAYLIGHT
BEGIN:STANDARD
TZOFFSETFROM:+0200
TZOFFSETTO:+0100
TZNAME:CET
DTSTART:20211031T010000
END:STANDARD
END:VTIMEZONE
BEGIN:VEVENT
DTSTART;VALUE=DATE:20211125
DTEND;VALUE=DATE:20211126
DTSTAMP:20260420T231155
CREATED:20210618T232524Z
LAST-MODIFIED:20210619T071618Z
UID:1774-1637798400-1637884799@www.chiendarret.fr
SUMMARY:BUSLOUP 2 - CACT BRITANNIQUES - RED CLUB
DESCRIPTION:PAIEMENT ORDRE DU CUSCA 41
URL:https://www.chiendarret.fr/les-concours/busloup-2-cact-britanniques-red-club/
LOCATION:41160 BUSLOUP\, BUSLOUP\, 41160\, France
CATEGORIES:Fields Trials Gibier Naturel
ATTACH;FMTTYPE=image/jpeg:https://www.chiendarret.fr/wp-content/uploads/2021/07/field-trial-griffon.jpg
ORGANIZER;CN="RED CLUB - M. MATHIEU JACQUES":MAILTO:jac.mathieu@outlook.com
END:VEVENT
BEGIN:VEVENT
DTSTART;VALUE=DATE:20211125
DTEND;VALUE=DATE:20211126
DTSTAMP:20260420T231155
CREATED:20210618T232525Z
LAST-MODIFIED:20210619T071618Z
UID:1775-1637798400-1637884799@www.chiendarret.fr
SUMMARY:BUSLOUP 2 - CACT CONTINENTAUX - C EPAGNEUL BRETON
DESCRIPTION:PAIEMENT ORDRE DU CUSCA 41
URL:https://www.chiendarret.fr/les-concours/busloup-2-cact-continentaux-c-epagneul-breton/
LOCATION:41160 BUSLOUP\, BUSLOUP\, 41160\, France
CATEGORIES:Fields Trials Gibier Naturel
ATTACH;FMTTYPE=image/jpeg:https://www.chiendarret.fr/wp-content/uploads/2021/07/field-trial-griffon.jpg
ORGANIZER;CN="C EPAGNEUL BRETON - M. MATHIEU JACQUES":MAILTO:jac.mathieu@outlook.com
END:VEVENT
BEGIN:VEVENT
DTSTART;VALUE=DATE:20211125
DTEND;VALUE=DATE:20211126
DTSTAMP:20260420T231155
CREATED:20210619T071044Z
LAST-MODIFIED:20210619T071044Z
UID:2009-1637798400-1637884799@www.chiendarret.fr
SUMMARY:INGUINIEL 2 - CACT CONTINENTAUX - C GRIFFON KORTHALS
DESCRIPTION:
URL:https://www.chiendarret.fr/les-concours/inguiniel-2-cact-continentaux-c-griffon-korthals/
LOCATION:56240 INGUINIEL\, INGUINIEL\, 56240\, France
CATEGORIES:Fields Trials Gibier Sauvage
ATTACH;FMTTYPE=image/jpeg:https://www.chiendarret.fr/wp-content/uploads/2021/07/setter_irlandais_field.jpg
ORGANIZER;CN="C GRIFFON KORTHALS - M. ROUSSEAU YVON":MAILTO:yy.rousseau@orange.fr
END:VEVENT
END:VCALENDAR