BEGIN:VCALENDAR
VERSION:2.0
PRODID:-//Chiens d&#039;arrêt - ECPv6.8.3//NONSGML v1.0//EN
CALSCALE:GREGORIAN
METHOD:PUBLISH
X-ORIGINAL-URL:https://www.chiendarret.fr
X-WR-CALDESC:Évènements pour Chiens d&#039;arrêt
REFRESH-INTERVAL;VALUE=DURATION:PT1H
X-Robots-Tag:noindex
X-PUBLISHED-TTL:PT1H
BEGIN:VTIMEZONE
TZID:Europe/Paris
BEGIN:DAYLIGHT
TZOFFSETFROM:+0100
TZOFFSETTO:+0200
TZNAME:CEST
DTSTART:20210328T010000
END:DAYLIGHT
BEGIN:STANDARD
TZOFFSETFROM:+0200
TZOFFSETTO:+0100
TZNAME:CET
DTSTART:20211031T010000
END:STANDARD
END:VTIMEZONE
BEGIN:VEVENT
DTSTART;VALUE=DATE:20211110
DTEND;VALUE=DATE:20211111
DTSTAMP:20260420T231232
CREATED:20210619T071214Z
LAST-MODIFIED:20210619T071214Z
UID:2041-1636502400-1636588799@www.chiendarret.fr
SUMMARY:MIOS - CACT BRITANNIQUES - C SETTER ANGLAIS
DESCRIPTION:CSA – PCF – RASG – REGLEMENT UNIQUEMENT PAR CHEQUE A L ORDRE DU CSA
URL:https://www.chiendarret.fr/les-concours/mios-cact-britanniques-c-setter-anglais/
LOCATION:33380 MIOS\, MIOS\, 33380\, France
CATEGORIES:Fields Trials Gibier Sauvage
ATTACH;FMTTYPE=image/jpeg:https://www.chiendarret.fr/wp-content/uploads/2021/07/setter_irlandais_field.jpg
ORGANIZER;CN="C SETTER ANGLAIS - M. CARPENTEY JEAN":MAILTO:jean.carpentey@wanadoo.fr
END:VEVENT
END:VCALENDAR