BEGIN:VCALENDAR
VERSION:2.0
PRODID:-//Chiens d&#039;arrêt - ECPv6.8.3//NONSGML v1.0//EN
CALSCALE:GREGORIAN
METHOD:PUBLISH
X-ORIGINAL-URL:https://www.chiendarret.fr
X-WR-CALDESC:Évènements pour Chiens d&#039;arrêt
REFRESH-INTERVAL;VALUE=DURATION:PT1H
X-Robots-Tag:noindex
X-PUBLISHED-TTL:PT1H
BEGIN:VTIMEZONE
TZID:Europe/Paris
BEGIN:DAYLIGHT
TZOFFSETFROM:+0100
TZOFFSETTO:+0200
TZNAME:CEST
DTSTART:20210328T010000
END:DAYLIGHT
BEGIN:STANDARD
TZOFFSETFROM:+0200
TZOFFSETTO:+0100
TZNAME:CET
DTSTART:20211031T010000
END:STANDARD
END:VTIMEZONE
BEGIN:VEVENT
DTSTART;VALUE=DATE:20211108
DTEND;VALUE=DATE:20211109
DTSTAMP:20260420T231220
CREATED:20210619T070538Z
LAST-MODIFIED:20210619T070538Z
UID:1949-1636329600-1636415999@www.chiendarret.fr
SUMMARY:VAL D AUGE 2 - CACT CONTINENTAUX - C EPAGNEUL FRANCAIS
DESCRIPTION:CEB – CEF – CGK – CABW – CFBA – DCF – RABA – CBB – RENDEZ VOUS SALLE RESTAURANT LA BELLE ETAPE.VERDILLE 16140
URL:https://www.chiendarret.fr/les-concours/val-d-auge-2-cact-continentaux-c-epagneul-francais/
LOCATION:16170 VAL D AUGE\, VAL D AUGE\, 16170\, France
CATEGORIES:Fields Trials d'Automne
ATTACH;FMTTYPE=image/jpeg:https://www.chiendarret.fr/wp-content/uploads/2021/06/iamalaya.jpg
ORGANIZER;CN="C EPAGNEUL FRANCAIS - M. MEUNIER GUY":MAILTO:guymeunier742882@aol.com
END:VEVENT
BEGIN:VEVENT
DTSTART;VALUE=DATE:20211108
DTEND;VALUE=DATE:20211109
DTSTAMP:20260420T231220
CREATED:20210619T071314Z
LAST-MODIFIED:20210619T071314Z
UID:2058-1636329600-1636415999@www.chiendarret.fr
SUMMARY:SALLES 2 - CACT BRITANNIQUES - SC GIRONDE
DESCRIPTION:
URL:https://www.chiendarret.fr/les-concours/salles-2-cact-britanniques-sc-gironde/
LOCATION:33770 SALLES\, SALLES\, 33770\, France
CATEGORIES:Fields Trials Gibier Sauvage
ATTACH;FMTTYPE=image/jpeg:https://www.chiendarret.fr/wp-content/uploads/2021/07/setter_irlandais_field.jpg
ORGANIZER;CN="SC GIRONDE - M. BONNEAU MARLENE":MAILTO:marlene.bonneau@hotmail.fr
END:VEVENT
BEGIN:VEVENT
DTSTART;VALUE=DATE:20211108
DTEND;VALUE=DATE:20211109
DTSTAMP:20260420T231220
CREATED:20210619T071314Z
LAST-MODIFIED:20210619T071314Z
UID:2059-1636329600-1636415999@www.chiendarret.fr
SUMMARY:SALLES2 - CACT CONTINENTAUX - SC GIRONDE
DESCRIPTION:
URL:https://www.chiendarret.fr/les-concours/salles2-cact-continentaux-sc-gironde/
LOCATION:33770 SALLES\, SALLES\, 33770\, France
CATEGORIES:Fields Trials Gibier Sauvage
ATTACH;FMTTYPE=image/jpeg:https://www.chiendarret.fr/wp-content/uploads/2021/07/setter_irlandais_field.jpg
ORGANIZER;CN="SC GIRONDE - M. BONNEAU MARLENE":MAILTO:marlene.bonneau@hotmail.fr
END:VEVENT
END:VCALENDAR