BEGIN:VCALENDAR
VERSION:2.0
PRODID:-//Chiens d&#039;arrêt - ECPv6.8.3//NONSGML v1.0//EN
CALSCALE:GREGORIAN
METHOD:PUBLISH
X-WR-CALNAME:Chiens d&#039;arrêt
X-ORIGINAL-URL:https://www.chiendarret.fr
X-WR-CALDESC:Évènements pour Chiens d&#039;arrêt
REFRESH-INTERVAL;VALUE=DURATION:PT1H
X-Robots-Tag:noindex
X-PUBLISHED-TTL:PT1H
BEGIN:VTIMEZONE
TZID:Europe/Paris
BEGIN:DAYLIGHT
TZOFFSETFROM:+0100
TZOFFSETTO:+0200
TZNAME:CEST
DTSTART:20210328T010000
END:DAYLIGHT
BEGIN:STANDARD
TZOFFSETFROM:+0200
TZOFFSETTO:+0100
TZNAME:CET
DTSTART:20211031T010000
END:STANDARD
END:VTIMEZONE
BEGIN:VEVENT
DTSTART;VALUE=DATE:20211107
DTEND;VALUE=DATE:20211108
DTSTAMP:20260420T230952
CREATED:20210618T232725Z
LAST-MODIFIED:20210619T071632Z
UID:1777-1636243200-1636329599@www.chiendarret.fr
SUMMARY:CAGNICOURT - CACT CONTINENTAUX - CA BRAQUE DE WEIMAR
DESCRIPTION:
URL:https://www.chiendarret.fr/les-concours/cagnicourt-cact-continentaux-ca-braque-de-weimar/
LOCATION:62182 CAGNICOURT\, CAGNICOURT\, 62182\, France
CATEGORIES:Fields Trials Gibier Naturel
ATTACH;FMTTYPE=image/jpeg:https://www.chiendarret.fr/wp-content/uploads/2021/07/field-trial-griffon.jpg
ORGANIZER;CN="CA BRAQUE DE WEIMAR - M. SAGOT JEAN-CLAUDE":MAILTO:cabw@wanadoo.fr
END:VEVENT
BEGIN:VEVENT
DTSTART;VALUE=DATE:20211107
DTEND;VALUE=DATE:20211108
DTSTAMP:20260420T230952
CREATED:20210619T070524Z
LAST-MODIFIED:20210619T070524Z
UID:1945-1636243200-1636329599@www.chiendarret.fr
SUMMARY:VAL D AUGE - CACT CONTINENTAUX - C EPAGNEUL FRANCAIS
DESCRIPTION:RENDEZ VOUS RESTAURANT LA BELLE ETAPE.VERDILLE 16140
URL:https://www.chiendarret.fr/les-concours/val-d-auge-cact-continentaux-c-epagneul-francais/
LOCATION:16170 VAL D AUGE\, VAL D AUGE\, 16170\, France
CATEGORIES:Fields Trials d'Automne
ATTACH;FMTTYPE=image/jpeg:https://www.chiendarret.fr/wp-content/uploads/2021/06/iamalaya.jpg
ORGANIZER;CN="C EPAGNEUL FRANCAIS - M. MEUNIER GUY":MAILTO:guymeunier742882@aol.com
END:VEVENT
BEGIN:VEVENT
DTSTART;VALUE=DATE:20211107
DTEND;VALUE=DATE:20211108
DTSTAMP:20260420T230952
CREATED:20210619T070524Z
LAST-MODIFIED:20210619T070524Z
UID:1946-1636243200-1636329599@www.chiendarret.fr
SUMMARY:VAL D AUGE - CACT CONTINENTAUX - C GRIFFON KORTHALS
DESCRIPTION:
URL:https://www.chiendarret.fr/les-concours/val-d-auge-cact-continentaux-c-griffon-korthals/
LOCATION:16170 VAL D AUGE\, VAL D AUGE\, 16170\, France
CATEGORIES:Fields Trials d'Automne
ATTACH;FMTTYPE=image/jpeg:https://www.chiendarret.fr/wp-content/uploads/2021/06/iamalaya.jpg
ORGANIZER;CN="C GRIFFON KORTHALS - M. PICARD CHRISTIAN":MAILTO:picard_christ@live.fr
END:VEVENT
BEGIN:VEVENT
DTSTART;VALUE=DATE:20211107
DTEND;VALUE=DATE:20211108
DTSTAMP:20260420T230952
CREATED:20210619T070538Z
LAST-MODIFIED:20210619T070538Z
UID:1948-1636243200-1636329599@www.chiendarret.fr
SUMMARY:VAL D AUGE - CACT CONTINENTAUX - RA BRAQUE AUVERGNE
DESCRIPTION:
URL:https://www.chiendarret.fr/les-concours/val-d-auge-cact-continentaux-ra-braque-auvergne/
LOCATION:16170 VAL D AUGE\, VAL D AUGE\, 16170\, France
CATEGORIES:Fields Trials d'Automne
ATTACH;FMTTYPE=image/jpeg:https://www.chiendarret.fr/wp-content/uploads/2021/06/iamalaya.jpg
ORGANIZER;CN="RA BRAQUE AUVERGNE - M. VIAUD JEAN-LOUIS":MAILTO:jlviaud@gmail.com
END:VEVENT
BEGIN:VEVENT
DTSTART;VALUE=DATE:20211107
DTEND;VALUE=DATE:20211108
DTSTAMP:20260420T230952
CREATED:20210619T071114Z
LAST-MODIFIED:20210619T071114Z
UID:2020-1636243200-1636329599@www.chiendarret.fr
SUMMARY:LARRAU 2 - CACT BRITANNIQUES - C SETTER ANGLAIS
DESCRIPTION:CSA – PCF – RED.CLUB –
URL:https://www.chiendarret.fr/les-concours/larrau-2-cact-britanniques-c-setter-anglais/
LOCATION:64560 LARRAU\, LARRAU\, 64560\, France
CATEGORIES:Fields Trials Gibier Sauvage
ATTACH;FMTTYPE=image/jpeg:https://www.chiendarret.fr/wp-content/uploads/2021/07/setter_irlandais_field.jpg
ORGANIZER;CN="C SETTER ANGLAIS - M. LALAUDE GILLES":MAILTO:gilles.lalaude@wanadoo.fr
END:VEVENT
BEGIN:VEVENT
DTSTART;VALUE=DATE:20211107
DTEND;VALUE=DATE:20211108
DTSTAMP:20260420T230952
CREATED:20210619T071259Z
LAST-MODIFIED:20210619T071259Z
UID:2056-1636243200-1636329599@www.chiendarret.fr
SUMMARY:SALLES - CACT BRITANNIQUES - SC GIRONDE
DESCRIPTION:
URL:https://www.chiendarret.fr/les-concours/salles-cact-britanniques-sc-gironde/
LOCATION:33770 SALLES\, SALLES\, 33770\, France
CATEGORIES:Fields Trials Gibier Sauvage
ATTACH;FMTTYPE=image/jpeg:https://www.chiendarret.fr/wp-content/uploads/2021/07/setter_irlandais_field.jpg
ORGANIZER;CN="SC GIRONDE - M. BONNEAU MARLENE":MAILTO:marlene.bonneau@hotmail.fr
END:VEVENT
BEGIN:VEVENT
DTSTART;VALUE=DATE:20211107
DTEND;VALUE=DATE:20211108
DTSTAMP:20260420T230952
CREATED:20210619T071313Z
LAST-MODIFIED:20210619T071313Z
UID:2057-1636243200-1636329599@www.chiendarret.fr
SUMMARY:SALLES - CACT CONTINENTAUX - SC GIRONDE
DESCRIPTION:
URL:https://www.chiendarret.fr/les-concours/salles-cact-continentaux-sc-gironde/
LOCATION:33770 SALLES\, SALLES\, 33770\, France
CATEGORIES:Fields Trials Gibier Sauvage
ATTACH;FMTTYPE=image/jpeg:https://www.chiendarret.fr/wp-content/uploads/2021/07/setter_irlandais_field.jpg
ORGANIZER;CN="SC GIRONDE - M. BONNEAU MARLENE":MAILTO:marlene.bonneau@hotmail.fr
END:VEVENT
BEGIN:VEVENT
DTSTART;VALUE=DATE:20211107
DTEND;VALUE=DATE:20211108
DTSTAMP:20260420T230952
CREATED:20210619T071414Z
LAST-MODIFIED:20210619T071414Z
UID:2077-1636243200-1636329599@www.chiendarret.fr
SUMMARY:TROARN 2 - CACT BRITANNIQUES - RA SETTER GORDON
DESCRIPTION:SOLO UNIQUEMENT CHÈQUE À L’ORDRE DE LA RASG
URL:https://www.chiendarret.fr/les-concours/troarn-2-cact-britanniques-ra-setter-gordon/
LOCATION:14670 TROARN\, TROARN\, 14670\, France
CATEGORIES:Fields Trials Gibier Sauvage
ATTACH;FMTTYPE=image/jpeg:https://www.chiendarret.fr/wp-content/uploads/2021/07/setter_irlandais_field.jpg
ORGANIZER;CN="RA SETTER GORDON - M. MERET JEAN FRANCOIS":MAILTO:jmeret@perrigo.com
END:VEVENT
BEGIN:VEVENT
DTSTART;VALUE=DATE:20211107
DTEND;VALUE=DATE:20211108
DTSTAMP:20260420T230952
CREATED:20210619T071414Z
LAST-MODIFIED:20210619T071414Z
UID:2078-1636243200-1636329599@www.chiendarret.fr
SUMMARY:TROARN 2 - CACT CONTINENTAUX - CF BRAQUE ALLEMAND
DESCRIPTION:
URL:https://www.chiendarret.fr/les-concours/troarn-2-cact-continentaux-cf-braque-allemand/
LOCATION:14670 TROARN\, TROARN\, 14670\, France
CATEGORIES:Fields Trials Gibier Sauvage
ATTACH;FMTTYPE=image/jpeg:https://www.chiendarret.fr/wp-content/uploads/2021/07/setter_irlandais_field.jpg
ORGANIZER;CN="CF BRAQUE ALLEMAND - M. CARDIN PHILIPPE":MAILTO:florence.lemiere50@gmail.com
END:VEVENT
END:VCALENDAR