BEGIN:VCALENDAR
VERSION:2.0
PRODID:-//Chiens d&#039;arrêt - ECPv6.8.3//NONSGML v1.0//EN
CALSCALE:GREGORIAN
METHOD:PUBLISH
X-ORIGINAL-URL:https://www.chiendarret.fr
X-WR-CALDESC:Évènements pour Chiens d&#039;arrêt
REFRESH-INTERVAL;VALUE=DURATION:PT1H
X-Robots-Tag:noindex
X-PUBLISHED-TTL:PT1H
BEGIN:VTIMEZONE
TZID:Europe/Paris
BEGIN:DAYLIGHT
TZOFFSETFROM:+0100
TZOFFSETTO:+0200
TZNAME:CEST
DTSTART:20210328T010000
END:DAYLIGHT
BEGIN:STANDARD
TZOFFSETFROM:+0200
TZOFFSETTO:+0100
TZNAME:CET
DTSTART:20211031T010000
END:STANDARD
END:VTIMEZONE
BEGIN:VEVENT
DTSTART;VALUE=DATE:20211031
DTEND;VALUE=DATE:20211101
DTSTAMP:20260421T004706
CREATED:20210618T232501Z
LAST-MODIFIED:20210622T110708Z
UID:1759-1635638400-1635724799@www.chiendarret.fr
SUMMARY:CERISY LA FORET 2 - CACT BRITANNIQUES - C ST LOIS CA
DESCRIPTION:
URL:https://www.chiendarret.fr/les-concours/cerisy-la-foret-2-cact-britanniques-c-st-lois-ca/
LOCATION:50680 St Georges d Elle\, St Georges d'Elle\, 50680\, France
CATEGORIES:Fields Trials Gibier Sauvage
ATTACH;FMTTYPE=image/jpeg:https://www.chiendarret.fr/wp-content/uploads/2021/07/setter_irlandais_field.jpg
ORGANIZER;CN="C ST LOIS CA - Mme LIOT MARTINE":MAILTO:liot.martine@9business.fr
END:VEVENT
BEGIN:VEVENT
DTSTART;VALUE=DATE:20211031
DTEND;VALUE=DATE:20211101
DTSTAMP:20260421T004706
CREATED:20210618T232501Z
LAST-MODIFIED:20210622T110702Z
UID:1760-1635638400-1635724799@www.chiendarret.fr
SUMMARY:CERISY LA FORET 2 - CACT CONTINENTAUX - C ST LOIS CA
DESCRIPTION:
URL:https://www.chiendarret.fr/les-concours/cerisy-la-foret-2-cact-continentaux-c-st-lois-ca/
LOCATION:50680 St Georges d Elle\, St Georges d'Elle\, 50680\, France
CATEGORIES:Fields Trials Gibier Sauvage
ATTACH;FMTTYPE=image/jpeg:https://www.chiendarret.fr/wp-content/uploads/2021/07/setter_irlandais_field.jpg
ORGANIZER;CN="C ST LOIS CA - Mme LIOT MARTINE":MAILTO:liot.martine@9business.fr
END:VEVENT
BEGIN:VEVENT
DTSTART;VALUE=DATE:20211031
DTEND;VALUE=DATE:20211101
DTSTAMP:20260421T004706
CREATED:20210619T070308Z
LAST-MODIFIED:20210619T070308Z
UID:1898-1635638400-1635724799@www.chiendarret.fr
SUMMARY:JUVELIZE - CACT BRITANNIQUES - SC LORRAINE
DESCRIPTION:CLOTURE DES ENGAGEMENTS ET PAIEMENTS LE 19 OCTOBRE 2021 AU PLUS TARD
URL:https://www.chiendarret.fr/les-concours/juvelize-cact-britanniques-sc-lorraine/
LOCATION:57630 JUVELIZE\, JUVELIZE\, 57630\, France
CATEGORIES:Fields Trials d'Automne
ATTACH;FMTTYPE=image/jpeg:https://www.chiendarret.fr/wp-content/uploads/2021/06/iamalaya.jpg
ORGANIZER;CN="SC LORRAINE - Mme EHRMINGER KARINE":MAILTO:kehrminger@yahoo.fr
END:VEVENT
BEGIN:VEVENT
DTSTART;VALUE=DATE:20211031
DTEND;VALUE=DATE:20211101
DTSTAMP:20260421T004706
CREATED:20210619T070943Z
LAST-MODIFIED:20210619T070943Z
UID:1988-1635638400-1635724799@www.chiendarret.fr
SUMMARY:EGLISENEUVE D ENTRAIGUES 2 - CACT BRITANNIQUES - RED CLUB
DESCRIPTION:PCF – RASG – RED.CLUB –
URL:https://www.chiendarret.fr/les-concours/egliseneuve-d-entraigues-2-cact-britanniques-red-club/
LOCATION:63850 EGLISENEUVE D ENTRAIGUES\, EGLISENEUVE D ENTRAIGUES\, 63850\, France
CATEGORIES:Fields Trials Gibier Sauvage
ATTACH;FMTTYPE=image/jpeg:https://www.chiendarret.fr/wp-content/uploads/2021/07/setter_irlandais_field.jpg
ORGANIZER;CN="RED CLUB - M. TRUBUILT BERNARD":MAILTO:bt.redclub@hotmail.fr
END:VEVENT
BEGIN:VEVENT
DTSTART;VALUE=DATE:20211031
DTEND;VALUE=DATE:20211101
DTSTAMP:20260421T004706
CREATED:20210619T071158Z
LAST-MODIFIED:20210619T071158Z
UID:2032-1635638400-1635724799@www.chiendarret.fr
SUMMARY:LEVIER 3 - CACT BRITANNIQUES - SC FRANCHE COMTE
DESCRIPTION:CHEQUE ORDRE ACTFC
URL:https://www.chiendarret.fr/les-concours/levier-3-cact-britanniques-sc-franche-comte/
LOCATION:25270 LEVIER\, LEVIER\, 25270\, France
CATEGORIES:Fields Trials Gibier Sauvage
ATTACH;FMTTYPE=image/jpeg:https://www.chiendarret.fr/wp-content/uploads/2021/07/setter_irlandais_field.jpg
ORGANIZER;CN="SC FRANCHE COMTE - M. MORIN MICHEL":MAILTO:Michel.morin15@free.fr
END:VEVENT
BEGIN:VEVENT
DTSTART;VALUE=DATE:20211031
DTEND;VALUE=DATE:20211101
DTSTAMP:20260421T004706
CREATED:20210619T071158Z
LAST-MODIFIED:20210619T071158Z
UID:2033-1635638400-1635724799@www.chiendarret.fr
SUMMARY:LEVIER 3 - CACT CONTINENTAUX - SC FRANCHE COMTE
DESCRIPTION:CHEQUE ORDRE ACTFC
URL:https://www.chiendarret.fr/les-concours/levier-3-cact-continentaux-sc-franche-comte/
LOCATION:25270 LEVIER\, LEVIER\, 25270\, France
CATEGORIES:Fields Trials Gibier Sauvage
ATTACH;FMTTYPE=image/jpeg:https://www.chiendarret.fr/wp-content/uploads/2021/07/setter_irlandais_field.jpg
ORGANIZER;CN="SC FRANCHE COMTE - M. MORIN MICHEL":MAILTO:Michel.morin15@free.fr
END:VEVENT
END:VCALENDAR