BEGIN:VCALENDAR
VERSION:2.0
PRODID:-//Chiens d&#039;arrêt - ECPv6.8.3//NONSGML v1.0//EN
CALSCALE:GREGORIAN
METHOD:PUBLISH
X-ORIGINAL-URL:https://www.chiendarret.fr
X-WR-CALDESC:Évènements pour Chiens d&#039;arrêt
REFRESH-INTERVAL;VALUE=DURATION:PT1H
X-Robots-Tag:noindex
X-PUBLISHED-TTL:PT1H
BEGIN:VTIMEZONE
TZID:Europe/Paris
BEGIN:DAYLIGHT
TZOFFSETFROM:+0100
TZOFFSETTO:+0200
TZNAME:CEST
DTSTART:20210328T010000
END:DAYLIGHT
BEGIN:STANDARD
TZOFFSETFROM:+0200
TZOFFSETTO:+0100
TZNAME:CET
DTSTART:20211031T010000
END:STANDARD
END:VTIMEZONE
BEGIN:VEVENT
DTSTART;VALUE=DATE:20211024
DTEND;VALUE=DATE:20211025
DTSTAMP:20260421T004706
CREATED:20210619T070553Z
LAST-MODIFIED:20210619T070553Z
UID:1955-1635033600-1635119999@www.chiendarret.fr
SUMMARY:VILLESEQUE - CACIT CONTINENTAUX - SC LOT
DESCRIPTION:
URL:https://www.chiendarret.fr/les-concours/villeseque-cacit-continentaux-sc-lot/
LOCATION:46090 VILLESEQUE\, VILLESEQUE\, 46090\, France
CATEGORIES:Fields Trials d'Automne
ATTACH;FMTTYPE=image/jpeg:https://www.chiendarret.fr/wp-content/uploads/2021/06/iamalaya.jpg
ORGANIZER;CN="SC LOT - M. PLANARD CHARLES":MAILTO:sclot46@orange.fr
END:VEVENT
BEGIN:VEVENT
DTSTART;VALUE=DATE:20211024
DTEND;VALUE=DATE:20211025
DTSTAMP:20260421T004706
CREATED:20210619T070554Z
LAST-MODIFIED:20210619T070554Z
UID:1956-1635033600-1635119999@www.chiendarret.fr
SUMMARY:VILLESEQUE - CACT BRITANNIQUES - C SETTER ANGLAIS
DESCRIPTION:CSA – PCF – RASG –
URL:https://www.chiendarret.fr/les-concours/villeseque-cact-britanniques-c-setter-anglais/
LOCATION:46090 VILLESEQUE\, VILLESEQUE\, 46090\, France
CATEGORIES:Fields Trials d'Automne
ATTACH;FMTTYPE=image/jpeg:https://www.chiendarret.fr/wp-content/uploads/2021/06/iamalaya.jpg
ORGANIZER;CN="C SETTER ANGLAIS - M. PLANARD CHARLES":MAILTO:sclot46@orange.fr
END:VEVENT
END:VCALENDAR