BEGIN:VCALENDAR
VERSION:2.0
PRODID:-//Chiens d&#039;arrêt - ECPv6.8.3//NONSGML v1.0//EN
CALSCALE:GREGORIAN
METHOD:PUBLISH
X-WR-CALNAME:Chiens d&#039;arrêt
X-ORIGINAL-URL:https://www.chiendarret.fr
X-WR-CALDESC:Évènements pour Chiens d&#039;arrêt
REFRESH-INTERVAL;VALUE=DURATION:PT1H
X-Robots-Tag:noindex
X-PUBLISHED-TTL:PT1H
BEGIN:VTIMEZONE
TZID:Europe/Paris
BEGIN:DAYLIGHT
TZOFFSETFROM:+0100
TZOFFSETTO:+0200
TZNAME:CEST
DTSTART:20210328T010000
END:DAYLIGHT
BEGIN:STANDARD
TZOFFSETFROM:+0200
TZOFFSETTO:+0100
TZNAME:CET
DTSTART:20211031T010000
END:STANDARD
END:VTIMEZONE
BEGIN:VEVENT
DTSTART;VALUE=DATE:20211023
DTEND;VALUE=DATE:20211024
DTSTAMP:20260421T004506
CREATED:20210618T232024Z
LAST-MODIFIED:20210619T065953Z
UID:1646-1634947200-1635033599@www.chiendarret.fr
SUMMARY:BOURIDEYS - CACIT CONTINENTAUX - CF BRAQUE ALLEMAND
DESCRIPTION:CBF – CBSG – CEB – CEF – CGK – CFBA – VCF – CBB – REGL ORDRE CUSCA 33
URL:https://www.chiendarret.fr/les-concours/bourideys-cacit-continentaux-cf-braque-allemand-2/
LOCATION:33113 BOURIDEYS\, BOURIDEYS\, 33113\, France
CATEGORIES:Fields Trials d'Automne
ATTACH;FMTTYPE=image/jpeg:https://www.chiendarret.fr/wp-content/uploads/2021/06/iamalaya.jpg
ORGANIZER;CN="CF BRAQUE ALLEMAND - M. CARPENTEY JEAN":MAILTO:jean.carpentey@wanadoo.fr
END:VEVENT
BEGIN:VEVENT
DTSTART;VALUE=DATE:20211023
DTEND;VALUE=DATE:20211024
DTSTAMP:20260421T004506
CREATED:20210619T070223Z
LAST-MODIFIED:20210619T070223Z
UID:1884-1634947200-1635033599@www.chiendarret.fr
SUMMARY:GOUY ST ANDRE - CACT CONTINENTAUX - DRAHTHAAR CF
DESCRIPTION:CBSG – CEF – CEP – CGK – CABW – DCF – RABA – VCF –
URL:https://www.chiendarret.fr/les-concours/gouy-st-andre-cact-continentaux-drahthaar-cf/
LOCATION:62870 GOUY ST ANDRE\, GOUY ST ANDRE\, 62870\, France
CATEGORIES:Fields Trials d'Automne
ATTACH;FMTTYPE=image/jpeg:https://www.chiendarret.fr/wp-content/uploads/2021/06/iamalaya.jpg
ORGANIZER;CN="DRAHTHAAR CF - M. BEUVAIN STEPHANE":MAILTO:stephanebeuvain-dcf@orange.fr
END:VEVENT
BEGIN:VEVENT
DTSTART;VALUE=DATE:20211023
DTEND;VALUE=DATE:20211024
DTSTAMP:20260421T004506
CREATED:20210619T070453Z
LAST-MODIFIED:20210619T070453Z
UID:1934-1634947200-1635033599@www.chiendarret.fr
SUMMARY:ROHRWILLER - CACT CONTINENTAUX - CF EML
DESCRIPTION:CEB – CEF – CABW – CFBA – CFEML – DCF – VCF – CBB –
URL:https://www.chiendarret.fr/les-concours/rohrwiller-cact-continentaux-cf-eml/
LOCATION:67410 ROHRWILLER\, ROHRWILLER\, 67410\, France
CATEGORIES:Fields Trials d'Automne
ATTACH;FMTTYPE=image/jpeg:https://www.chiendarret.fr/wp-content/uploads/2021/06/iamalaya.jpg
ORGANIZER;CN="CF EML - M. REISSER LIONEL":MAILTO:lio1reisser@free.fr
END:VEVENT
END:VCALENDAR