BEGIN:VCALENDAR
VERSION:2.0
PRODID:-//Chiens d&#039;arrêt - ECPv6.8.3//NONSGML v1.0//EN
CALSCALE:GREGORIAN
METHOD:PUBLISH
X-ORIGINAL-URL:https://www.chiendarret.fr
X-WR-CALDESC:Évènements pour Chiens d&#039;arrêt
REFRESH-INTERVAL;VALUE=DURATION:PT1H
X-Robots-Tag:noindex
X-PUBLISHED-TTL:PT1H
BEGIN:VTIMEZONE
TZID:Europe/Paris
BEGIN:DAYLIGHT
TZOFFSETFROM:+0100
TZOFFSETTO:+0200
TZNAME:CEST
DTSTART:20210328T010000
END:DAYLIGHT
BEGIN:STANDARD
TZOFFSETFROM:+0200
TZOFFSETTO:+0100
TZNAME:CET
DTSTART:20211031T010000
END:STANDARD
END:VTIMEZONE
BEGIN:VEVENT
DTSTART;VALUE=DATE:20211022
DTEND;VALUE=DATE:20211023
DTSTAMP:20260421T004706
CREATED:20210618T232023Z
LAST-MODIFIED:20210619T065953Z
UID:1644-1634860800-1634947199@www.chiendarret.fr
SUMMARY:BOURIDEYS - CACIT BRITANNIQUES - CUSCA-33
DESCRIPTION:REGLEMENT PAR CHEQUE UNIQUEMENT ORDRE: CUSCA 33
URL:https://www.chiendarret.fr/les-concours/bourideys-cacit-britanniques-cusca-33-2/
LOCATION:33113 BOURIDEYS\, BOURIDEYS\, 33113\, France
CATEGORIES:Fields Trials d'Automne
ATTACH;FMTTYPE=image/jpeg:https://www.chiendarret.fr/wp-content/uploads/2021/06/iamalaya.jpg
ORGANIZER;CN="CUSCA-33 - M. CARPENTEY JEAN":MAILTO:jean.carpentey@wanadoo.fr
END:VEVENT
BEGIN:VEVENT
DTSTART;VALUE=DATE:20211022
DTEND;VALUE=DATE:20211023
DTSTAMP:20260421T004706
CREATED:20210618T232024Z
LAST-MODIFIED:20210619T065953Z
UID:1645-1634860800-1634947199@www.chiendarret.fr
SUMMARY:BOURIDEYS - CACIT CONTINENTAUX - C EPAGNEUL BRETON
DESCRIPTION:REGLEMENT PAR CHEQUE UNIQUEMENT À L ORDRE CUSCA33
URL:https://www.chiendarret.fr/les-concours/bourideys-cacit-continentaux-c-epagneul-breton-2/
LOCATION:33113 BOURIDEYS\, BOURIDEYS\, 33113\, France
CATEGORIES:Fields Trials d'Automne
ATTACH;FMTTYPE=image/jpeg:https://www.chiendarret.fr/wp-content/uploads/2021/06/iamalaya.jpg
ORGANIZER;CN="C EPAGNEUL BRETON - M. CARPENTEY JEAN":MAILTO:jean.carpentey@wanadoo.fr
END:VEVENT
END:VCALENDAR