BEGIN:VCALENDAR
VERSION:2.0
PRODID:-//Chiens d&#039;arrêt - ECPv6.8.3//NONSGML v1.0//EN
CALSCALE:GREGORIAN
METHOD:PUBLISH
X-ORIGINAL-URL:https://www.chiendarret.fr
X-WR-CALDESC:Évènements pour Chiens d&#039;arrêt
REFRESH-INTERVAL;VALUE=DURATION:PT1H
X-Robots-Tag:noindex
X-PUBLISHED-TTL:PT1H
BEGIN:VTIMEZONE
TZID:Europe/Paris
BEGIN:DAYLIGHT
TZOFFSETFROM:+0100
TZOFFSETTO:+0200
TZNAME:CEST
DTSTART:20210328T010000
END:DAYLIGHT
BEGIN:STANDARD
TZOFFSETFROM:+0200
TZOFFSETTO:+0100
TZNAME:CET
DTSTART:20211031T010000
END:STANDARD
END:VTIMEZONE
BEGIN:VEVENT
DTSTART;VALUE=DATE:20211016
DTEND;VALUE=DATE:20211017
DTSTAMP:20260421T004706
CREATED:20210619T070223Z
LAST-MODIFIED:20210619T070223Z
UID:1882-1634342400-1634428799@www.chiendarret.fr
SUMMARY:GOUY EN ARTOIS - CACT CONTINENTAUX - CA BRAQUE DE WEIMAR
DESCRIPTION:CBSG – CEF – CEP – CGK – CABW – DCF – RABA – VCF –
URL:https://www.chiendarret.fr/les-concours/gouy-en-artois-cact-continentaux-ca-braque-de-weimar/
LOCATION:62123 GOUY EN ARTOIS\, GOUY EN ARTOIS\, 62123\, France
CATEGORIES:Fields Trials d'Automne
ATTACH;FMTTYPE=image/jpeg:https://www.chiendarret.fr/wp-content/uploads/2021/06/iamalaya.jpg
ORGANIZER;CN="CA BRAQUE DE WEIMAR - M. SAGOT JEAN-CLAUDE":MAILTO:cabw@wanadoo.fr
END:VEVENT
BEGIN:VEVENT
DTSTART;VALUE=DATE:20211016
DTEND;VALUE=DATE:20211017
DTSTAMP:20260421T004706
CREATED:20210619T070253Z
LAST-MODIFIED:20210619T070253Z
UID:1892-1634342400-1634428799@www.chiendarret.fr
SUMMARY:HERM 2 - CACIT BRITANNIQUES - CUSCA-40
DESCRIPTION:
URL:https://www.chiendarret.fr/les-concours/herm-2-cacit-britanniques-cusca-40/
LOCATION:40990 HERM\, HERM\, 40990\, France
CATEGORIES:Fields Trials d'Automne
ATTACH;FMTTYPE=image/jpeg:https://www.chiendarret.fr/wp-content/uploads/2021/06/iamalaya.jpg
ORGANIZER;CN="CUSCA-40 - Mme PIAT SYLVIE":MAILTO:piatsylvie@orange.fr
END:VEVENT
BEGIN:VEVENT
DTSTART;VALUE=DATE:20211016
DTEND;VALUE=DATE:20211017
DTSTAMP:20260421T004706
CREATED:20210619T070253Z
LAST-MODIFIED:20210619T070253Z
UID:1893-1634342400-1634428799@www.chiendarret.fr
SUMMARY:HERM 2 - CACIT CONTINENTAUX - CUSCA-40
DESCRIPTION:
URL:https://www.chiendarret.fr/les-concours/herm-2-cacit-continentaux-cusca-40/
LOCATION:40990 HERM\, HERM\, 40990\, France
CATEGORIES:Fields Trials d'Automne
ATTACH;FMTTYPE=image/jpeg:https://www.chiendarret.fr/wp-content/uploads/2021/06/iamalaya.jpg
ORGANIZER;CN="CUSCA-40 - Mme PIAT SYLVIE":MAILTO:piatsylvie@orange.fr
END:VEVENT
BEGIN:VEVENT
DTSTART;VALUE=DATE:20211016
DTEND;VALUE=DATE:20211017
DTSTAMP:20260421T004706
CREATED:20210619T070928Z
LAST-MODIFIED:20210619T070928Z
UID:1982-1634342400-1634428799@www.chiendarret.fr
SUMMARY:COUERON - CACIT BRITANNIQUES - C SETTER ANGLAIS
DESCRIPTION:
URL:https://www.chiendarret.fr/les-concours/coueron-cacit-britanniques-c-setter-anglais/
LOCATION:44220 COUERON\, COUERON\, 44220\, France
CATEGORIES:Fields Trials Gibier Sauvage
ATTACH;FMTTYPE=image/jpeg:https://www.chiendarret.fr/wp-content/uploads/2021/07/setter_irlandais_field.jpg
ORGANIZER;CN="C SETTER ANGLAIS - M. DE SORBAY THIERRY":MAILTO:aldo.hubert7r@orange.fr
END:VEVENT
END:VCALENDAR