BEGIN:VCALENDAR
VERSION:2.0
PRODID:-//Chiens d&#039;arrêt - ECPv6.8.3//NONSGML v1.0//EN
CALSCALE:GREGORIAN
METHOD:PUBLISH
X-WR-CALNAME:Chiens d&#039;arrêt
X-ORIGINAL-URL:https://www.chiendarret.fr
X-WR-CALDESC:Évènements pour Chiens d&#039;arrêt
REFRESH-INTERVAL;VALUE=DURATION:PT1H
X-Robots-Tag:noindex
X-PUBLISHED-TTL:PT1H
BEGIN:VTIMEZONE
TZID:Europe/Paris
BEGIN:DAYLIGHT
TZOFFSETFROM:+0100
TZOFFSETTO:+0200
TZNAME:CEST
DTSTART:20210328T010000
END:DAYLIGHT
BEGIN:STANDARD
TZOFFSETFROM:+0200
TZOFFSETTO:+0100
TZNAME:CET
DTSTART:20211031T010000
END:STANDARD
END:VTIMEZONE
BEGIN:VEVENT
DTSTART;VALUE=DATE:20211013
DTEND;VALUE=DATE:20211014
DTSTAMP:20260421T004517
CREATED:20210618T232202Z
LAST-MODIFIED:20210619T070138Z
UID:1688-1634083200-1634169599@www.chiendarret.fr
SUMMARY:ESCOURCE - CACIT BRITANNIQUES - POINTER CF
DESCRIPTION:
URL:https://www.chiendarret.fr/les-concours/escource-cacit-britanniques-pointer-cf-2/
LOCATION:40210 ESCOURCE\, ESCOURCE\, 40210\, France
CATEGORIES:Fields Trials d'Automne
ATTACH;FMTTYPE=image/jpeg:https://www.chiendarret.fr/wp-content/uploads/2021/06/iamalaya.jpg
ORGANIZER;CN="POINTER CF - M. DESTENABES JEAN-GUY":MAILTO:j-g.destenabes@wanadoo.fr
END:VEVENT
BEGIN:VEVENT
DTSTART;VALUE=DATE:20211013
DTEND;VALUE=DATE:20211014
DTSTAMP:20260421T004517
CREATED:20210619T070208Z
LAST-MODIFIED:20210619T070208Z
UID:1879-1634083200-1634169599@www.chiendarret.fr
SUMMARY:ESCOURCE 2 - CACIT CONTINENTAUX - CF BRAQUE ALLEMAND
DESCRIPTION:
URL:https://www.chiendarret.fr/les-concours/escource-2-cacit-continentaux-cf-braque-allemand/
LOCATION:40210 ESCOURCE\, ESCOURCE\, 40210\, France
CATEGORIES:Fields Trials d'Automne
ATTACH;FMTTYPE=image/jpeg:https://www.chiendarret.fr/wp-content/uploads/2021/06/iamalaya.jpg
ORGANIZER;CN="CF BRAQUE ALLEMAND - Mme PIAT SYLVIE":MAILTO:piatsylvie@orange.fr
END:VEVENT
BEGIN:VEVENT
DTSTART;VALUE=DATE:20211013
DTEND;VALUE=DATE:20211014
DTSTAMP:20260421T004517
CREATED:20210619T071343Z
LAST-MODIFIED:20210619T071343Z
UID:2067-1634083200-1634169599@www.chiendarret.fr
SUMMARY:ST VIGOR D YMONVILLE - CACT BRITANNIQUES - CUCC-76
DESCRIPTION:SOLO UNIQUEMENT
URL:https://www.chiendarret.fr/les-concours/st-vigor-d-ymonville-cact-britanniques-cucc-76/
LOCATION:76430 ST Vigor d Ymonville\, ST Vigor d Ymonville\, 76430\, France
CATEGORIES:Fields Trials Gibier Sauvage
ATTACH;FMTTYPE=image/jpeg:https://www.chiendarret.fr/wp-content/uploads/2021/07/setter_irlandais_field.jpg
ORGANIZER;CN="CUCC-76 - Mme GREFF VERONIQUE":MAILTO:v.greffboulitreau@gmail.com
END:VEVENT
BEGIN:VEVENT
DTSTART;VALUE=DATE:20211013
DTEND;VALUE=DATE:20211014
DTSTAMP:20260421T004517
CREATED:20210619T071343Z
LAST-MODIFIED:20210619T071343Z
UID:2068-1634083200-1634169599@www.chiendarret.fr
SUMMARY:ST VIGOR D YMONVILLE - CACT CONTINENTAUX - CUCC-76
DESCRIPTION:SOLO UNIQUEMENT
URL:https://www.chiendarret.fr/les-concours/st-vigor-d-ymonville-cact-continentaux-cucc-76/
LOCATION:76430 ST Vigor d Ymonville\, ST Vigor d Ymonville\, 76430\, France
CATEGORIES:Fields Trials Gibier Sauvage
ATTACH;FMTTYPE=image/jpeg:https://www.chiendarret.fr/wp-content/uploads/2021/07/setter_irlandais_field.jpg
ORGANIZER;CN="CUCC-76 - Mme GREFF VERONIQUE":MAILTO:v.greffboulitreau@gmail.com
END:VEVENT
END:VCALENDAR