BEGIN:VCALENDAR
VERSION:2.0
PRODID:-//Chiens d&#039;arrêt - ECPv6.8.3//NONSGML v1.0//EN
CALSCALE:GREGORIAN
METHOD:PUBLISH
X-WR-CALNAME:Chiens d&#039;arrêt
X-ORIGINAL-URL:https://www.chiendarret.fr
X-WR-CALDESC:Évènements pour Chiens d&#039;arrêt
REFRESH-INTERVAL;VALUE=DURATION:PT1H
X-Robots-Tag:noindex
X-PUBLISHED-TTL:PT1H
BEGIN:VTIMEZONE
TZID:Europe/Paris
BEGIN:DAYLIGHT
TZOFFSETFROM:+0100
TZOFFSETTO:+0200
TZNAME:CEST
DTSTART:20210328T010000
END:DAYLIGHT
BEGIN:STANDARD
TZOFFSETFROM:+0200
TZOFFSETTO:+0100
TZNAME:CET
DTSTART:20211031T010000
END:STANDARD
END:VTIMEZONE
BEGIN:VEVENT
DTSTART;VALUE=DATE:20210930
DTEND;VALUE=DATE:20211001
DTSTAMP:20260421T004533
CREATED:20210618T231948Z
LAST-MODIFIED:20210619T065920Z
UID:1629-1632960000-1633046399@www.chiendarret.fr
SUMMARY:ANCELLE - CACIT BRITANNIQUES - ACT-SCMCA
DESCRIPTION:
URL:https://www.chiendarret.fr/les-concours/ancelle-cacit-britanniques-act-scmca-3/
LOCATION:05260 ANCELLE\, ANCELLE\, 5260\, France
CATEGORIES:Fields Trials d'Automne
ATTACH;FMTTYPE=image/jpeg:https://www.chiendarret.fr/wp-content/uploads/2021/06/iamalaya.jpg
ORGANIZER;CN="ACT-SCMCA - M. JUIF DANIEL":MAILTO:daniel.juif@wanadoo.fr
END:VEVENT
BEGIN:VEVENT
DTSTART;VALUE=DATE:20210930
DTEND;VALUE=DATE:20211001
DTSTAMP:20260421T004533
CREATED:20210618T231948Z
LAST-MODIFIED:20210619T065920Z
UID:1630-1632960000-1633046399@www.chiendarret.fr
SUMMARY:ANCELLE - CACIT CONTINENTAUX - ACT-SCMCA
DESCRIPTION:
URL:https://www.chiendarret.fr/les-concours/ancelle-cacit-continentaux-act-scmca-3/
LOCATION:05260 ANCELLE\, ANCELLE\, 5260\, France
CATEGORIES:Fields Trials d'Automne
ATTACH;FMTTYPE=image/jpeg:https://www.chiendarret.fr/wp-content/uploads/2021/06/iamalaya.jpg
ORGANIZER;CN="ACT-SCMCA - M. JUIF DANIEL":MAILTO:daniel.juif@wanadoo.fr
END:VEVENT
BEGIN:VEVENT
DTSTART;VALUE=DATE:20210930
DTEND;VALUE=DATE:20211001
DTSTAMP:20260421T004533
CREATED:20210618T231953Z
LAST-MODIFIED:20210619T065923Z
UID:1636-1632960000-1633046399@www.chiendarret.fr
SUMMARY:ANDECHY - CACIT CONTINENTAUX - VIZSLA CF
DESCRIPTION:
URL:https://www.chiendarret.fr/les-concours/andechy-cacit-continentaux-vizsla-cf-2/
LOCATION:80700 ANDECHY\, ANDECHY\, 80700\, France
CATEGORIES:Fields Trials d'Automne
ATTACH;FMTTYPE=image/jpeg:https://www.chiendarret.fr/wp-content/uploads/2021/06/iamalaya.jpg
ORGANIZER;CN="VIZSLA CF - Mme PARENT NATHALIE":MAILTO:presidente.vcf@gmail.com
END:VEVENT
BEGIN:VEVENT
DTSTART;VALUE=DATE:20210930
DTEND;VALUE=DATE:20211001
DTSTAMP:20260421T004533
CREATED:20210618T232131Z
LAST-MODIFIED:20210619T070108Z
UID:1674-1632960000-1633046399@www.chiendarret.fr
SUMMARY:DAMERY - CACIT BRITANNIQUES - ACT NORD-PICARDIE
DESCRIPTION:CLÔTURE DES ENGAGEMENTS LE 17 SEPTEMBRE
URL:https://www.chiendarret.fr/les-concours/damery-cacit-britanniques-act-nord-picardie-2/
LOCATION:80700 DAMERY\, DAMERY\, 80700\, France
CATEGORIES:Fields Trials d'Automne
ATTACH;FMTTYPE=image/jpeg:https://www.chiendarret.fr/wp-content/uploads/2021/06/iamalaya.jpg
ORGANIZER;CN="ACT NORD-PICARDIE - M. GUILBERT SERGE":MAILTO:asso.scnord-picardie@wanadoo.fr
END:VEVENT
END:VCALENDAR