BEGIN:VCALENDAR
VERSION:2.0
PRODID:-//Chiens d&#039;arrêt - ECPv6.8.3//NONSGML v1.0//EN
CALSCALE:GREGORIAN
METHOD:PUBLISH
X-WR-CALNAME:Chiens d&#039;arrêt
X-ORIGINAL-URL:https://www.chiendarret.fr
X-WR-CALDESC:Évènements pour Chiens d&#039;arrêt
REFRESH-INTERVAL;VALUE=DURATION:PT1H
X-Robots-Tag:noindex
X-PUBLISHED-TTL:PT1H
BEGIN:VTIMEZONE
TZID:Europe/Paris
BEGIN:DAYLIGHT
TZOFFSETFROM:+0100
TZOFFSETTO:+0200
TZNAME:CEST
DTSTART:20210328T010000
END:DAYLIGHT
BEGIN:STANDARD
TZOFFSETFROM:+0200
TZOFFSETTO:+0100
TZNAME:CET
DTSTART:20211031T010000
END:STANDARD
END:VTIMEZONE
BEGIN:VEVENT
DTSTART;VALUE=DATE:20210929
DTEND;VALUE=DATE:20210930
DTSTAMP:20260421T004534
CREATED:20210618T232054Z
LAST-MODIFIED:20210619T070023Z
UID:1655-1632873600-1632959999@www.chiendarret.fr
SUMMARY:CHOUPPES - CACT BRITANNIQUES - AC POITOU
DESCRIPTION:
URL:https://www.chiendarret.fr/les-concours/chouppes-cact-britanniques-ac-poitou-2/
LOCATION:86110 CHOUPPES\, CHOUPPES\, 86110\, France
CATEGORIES:Fields Trials d'Automne
ATTACH;FMTTYPE=image/jpeg:https://www.chiendarret.fr/wp-content/uploads/2021/06/iamalaya.jpg
ORGANIZER;CN="AC POITOU - Mme BOULANGER MAGALI":MAILTO:ptitmunst86@live.fr
END:VEVENT
BEGIN:VEVENT
DTSTART;VALUE=DATE:20210929
DTEND;VALUE=DATE:20210930
DTSTAMP:20260421T004534
CREATED:20210618T232055Z
LAST-MODIFIED:20210619T070023Z
UID:1658-1632873600-1632959999@www.chiendarret.fr
SUMMARY:CHOUPPES 2 - CACT CONTINENTAUX - CF EML
DESCRIPTION:CBF – CBSG – CEB – CGK – CABW – CFEML – RABA – CBB –
URL:https://www.chiendarret.fr/les-concours/chouppes-2-cact-continentaux-cf-eml/
LOCATION:86110 CHOUPPES\, CHOUPPES\, 86110\, France
CATEGORIES:Fields Trials d'Automne
ATTACH;FMTTYPE=image/jpeg:https://www.chiendarret.fr/wp-content/uploads/2021/06/iamalaya.jpg
ORGANIZER;CN="CF EML - Mme BOULANGER MAGALI":MAILTO:ptitmunst86@live.fr
END:VEVENT
BEGIN:VEVENT
DTSTART;VALUE=DATE:20210929
DTEND;VALUE=DATE:20210930
DTSTAMP:20260421T004534
CREATED:20210618T232131Z
LAST-MODIFIED:20210619T070108Z
UID:1675-1632873600-1632959999@www.chiendarret.fr
SUMMARY:DAMERY - CACIT CONTINENTAUX - ACT NORD-PICARDIE
DESCRIPTION:CLÔTURE DES ENGAGEMENTS LE 17 SEPTEMBRE
URL:https://www.chiendarret.fr/les-concours/damery-cacit-continentaux-act-nord-picardie-2/
LOCATION:80700 DAMERY\, DAMERY\, 80700\, France
CATEGORIES:Fields Trials d'Automne
ATTACH;FMTTYPE=image/jpeg:https://www.chiendarret.fr/wp-content/uploads/2021/06/iamalaya.jpg
ORGANIZER;CN="ACT NORD-PICARDIE - M. GUILBERT SERGE":MAILTO:asso.scnord-picardie@wanadoo.fr
END:VEVENT
BEGIN:VEVENT
DTSTART;VALUE=DATE:20210929
DTEND;VALUE=DATE:20210930
DTSTAMP:20260421T004534
CREATED:20210618T232132Z
LAST-MODIFIED:20210619T070108Z
UID:1677-1632873600-1632959999@www.chiendarret.fr
SUMMARY:DAMERY - CACT BRITANNIQUES - ACT NORD-PICARDIE
DESCRIPTION:CLÔTURE DES ENGAGEMENTS LE 17 SEPTEMBRE
URL:https://www.chiendarret.fr/les-concours/damery-cact-britanniques-act-nord-picardie-2/
LOCATION:80700 DAMERY\, DAMERY\, 80700\, France
CATEGORIES:Fields Trials d'Automne
ATTACH;FMTTYPE=image/jpeg:https://www.chiendarret.fr/wp-content/uploads/2021/06/iamalaya.jpg
ORGANIZER;CN="ACT NORD-PICARDIE - M. GUILBERT SERGE":MAILTO:asso.scnord-picardie@wanadoo.fr
END:VEVENT
END:VCALENDAR