BEGIN:VCALENDAR
VERSION:2.0
PRODID:-//Chiens d&#039;arrêt - ECPv6.8.3//NONSGML v1.0//EN
CALSCALE:GREGORIAN
METHOD:PUBLISH
X-ORIGINAL-URL:https://www.chiendarret.fr
X-WR-CALDESC:Évènements pour Chiens d&#039;arrêt
REFRESH-INTERVAL;VALUE=DURATION:PT1H
X-Robots-Tag:noindex
X-PUBLISHED-TTL:PT1H
BEGIN:VTIMEZONE
TZID:Europe/Paris
BEGIN:DAYLIGHT
TZOFFSETFROM:+0100
TZOFFSETTO:+0200
TZNAME:CEST
DTSTART:20210328T010000
END:DAYLIGHT
BEGIN:STANDARD
TZOFFSETFROM:+0200
TZOFFSETTO:+0100
TZNAME:CET
DTSTART:20211031T010000
END:STANDARD
END:VTIMEZONE
BEGIN:VEVENT
DTSTART;VALUE=DATE:20210928
DTEND;VALUE=DATE:20210929
DTSTAMP:20260421T004726
CREATED:20210618T232054Z
LAST-MODIFIED:20210619T070023Z
UID:1656-1632787200-1632873599@www.chiendarret.fr
SUMMARY:CHOUPPES - CACT CONTINENTAUX - AC POITOU
DESCRIPTION:
URL:https://www.chiendarret.fr/les-concours/chouppes-cact-continentaux-ac-poitou-2/
LOCATION:86110 CHOUPPES\, CHOUPPES\, 86110\, France
CATEGORIES:Fields Trials d'Automne
ATTACH;FMTTYPE=image/jpeg:https://www.chiendarret.fr/wp-content/uploads/2021/06/iamalaya.jpg
ORGANIZER;CN="AC POITOU - Mme BOULANGER MAGALI":MAILTO:ptitmunst86@live.fr
END:VEVENT
BEGIN:VEVENT
DTSTART;VALUE=DATE:20210928
DTEND;VALUE=DATE:20210929
DTSTAMP:20260421T004726
CREATED:20210619T070438Z
LAST-MODIFIED:20210619T070438Z
UID:1929-1632787200-1632873599@www.chiendarret.fr
SUMMARY:PONTFAVERGER MORONVILLIER 2S - CACIT BRITANNIQUES - ACT CHAMPAGNE ARDENNES
DESCRIPTION:
URL:https://www.chiendarret.fr/les-concours/pontfaverger-moronvillier-2s-cacit-britanniques-act-champagne-ardennes/
LOCATION:51490 PONTFAVERGER MORONVILLIERS\, PONTFAVERGER MORONVILLIERS\, 51490\, France
CATEGORIES:Fields Trials d'Automne
ATTACH;FMTTYPE=image/jpeg:https://www.chiendarret.fr/wp-content/uploads/2021/06/iamalaya.jpg
ORGANIZER;CN="ACT CHAMPAGNE ARDENNES - M. BURLAT PASCAL":MAILTO:burlat.scca@gmail.com
END:VEVENT
BEGIN:VEVENT
DTSTART;VALUE=DATE:20210928
DTEND;VALUE=DATE:20210929
DTSTAMP:20260421T004726
CREATED:20210619T070453Z
LAST-MODIFIED:20210619T070453Z
UID:1932-1632787200-1632873599@www.chiendarret.fr
SUMMARY:PONTFAVERGER MORONVILLIERS 2 - CACIT CONTINENTAUX - ACT CHAMPAGNE ARDENNES
DESCRIPTION:
URL:https://www.chiendarret.fr/les-concours/pontfaverger-moronvilliers-2-cacit-continentaux-act-champagne-ardennes/
LOCATION:51490 PONTFAVERGER MORONVILLIERS\, PONTFAVERGER MORONVILLIERS\, 51490\, France
CATEGORIES:Fields Trials d'Automne
ATTACH;FMTTYPE=image/jpeg:https://www.chiendarret.fr/wp-content/uploads/2021/06/iamalaya.jpg
ORGANIZER;CN="ACT CHAMPAGNE ARDENNES - M. BURLAT PASCAL":MAILTO:burlat.scca@gmail.com
END:VEVENT
END:VCALENDAR