BEGIN:VCALENDAR
VERSION:2.0
PRODID:-//Chiens d&#039;arrêt - ECPv6.8.3//NONSGML v1.0//EN
CALSCALE:GREGORIAN
METHOD:PUBLISH
X-WR-CALNAME:Chiens d&#039;arrêt
X-ORIGINAL-URL:https://www.chiendarret.fr
X-WR-CALDESC:Évènements pour Chiens d&#039;arrêt
REFRESH-INTERVAL;VALUE=DURATION:PT1H
X-Robots-Tag:noindex
X-PUBLISHED-TTL:PT1H
BEGIN:VTIMEZONE
TZID:Europe/Paris
BEGIN:DAYLIGHT
TZOFFSETFROM:+0100
TZOFFSETTO:+0200
TZNAME:CEST
DTSTART:20210328T010000
END:DAYLIGHT
BEGIN:STANDARD
TZOFFSETFROM:+0200
TZOFFSETTO:+0100
TZNAME:CET
DTSTART:20211031T010000
END:STANDARD
END:VTIMEZONE
BEGIN:VEVENT
DTSTART;VALUE=DATE:20210927
DTEND;VALUE=DATE:20210928
DTSTAMP:20260421T004626
CREATED:20210618T232055Z
LAST-MODIFIED:20210619T070023Z
UID:1657-1632700800-1632787199@www.chiendarret.fr
SUMMARY:CHOUPPES - CACT CONTINENTAUX - CF EML
DESCRIPTION:
URL:https://www.chiendarret.fr/les-concours/chouppes-cact-continentaux-cf-eml-3/
LOCATION:86110 CHOUPPES\, CHOUPPES\, 86110\, France
CATEGORIES:Fields Trials d'Automne
ATTACH;FMTTYPE=image/jpeg:https://www.chiendarret.fr/wp-content/uploads/2021/06/iamalaya.jpg
ORGANIZER;CN="CF EML - Mme BOULANGER MAGALI":MAILTO:ptitmunst86@live.fr
END:VEVENT
BEGIN:VEVENT
DTSTART;VALUE=DATE:20210927
DTEND;VALUE=DATE:20210928
DTSTAMP:20260421T004626
CREATED:20210619T070439Z
LAST-MODIFIED:20210619T070439Z
UID:1930-1632700800-1632787199@www.chiendarret.fr
SUMMARY:PONTFAVERGER MORONVILLIERS - CACIT BRITANNIQUES - ACT CHAMPAGNE ARDENNES
DESCRIPTION:
URL:https://www.chiendarret.fr/les-concours/pontfaverger-moronvilliers-cacit-britanniques-act-champagne-ardennes/
LOCATION:51490 PONTFAVERGER MORONVILLIERS\, PONTFAVERGER MORONVILLIERS\, 51490\, France
CATEGORIES:Fields Trials d'Automne
ATTACH;FMTTYPE=image/jpeg:https://www.chiendarret.fr/wp-content/uploads/2021/06/iamalaya.jpg
ORGANIZER;CN="ACT CHAMPAGNE ARDENNES - M. BURLAT PASCAL":MAILTO:burlat.scca@gmail.com
END:VEVENT
BEGIN:VEVENT
DTSTART;VALUE=DATE:20210927
DTEND;VALUE=DATE:20210928
DTSTAMP:20260421T004626
CREATED:20210619T070439Z
LAST-MODIFIED:20210619T070439Z
UID:1931-1632700800-1632787199@www.chiendarret.fr
SUMMARY:PONTFAVERGER MORONVILLIERS - CACIT CONTINENTAUX - ACT CHAMPAGNE ARDENNES
DESCRIPTION:
URL:https://www.chiendarret.fr/les-concours/pontfaverger-moronvilliers-cacit-continentaux-act-champagne-ardennes/
LOCATION:51490 PONTFAVERGER MORONVILLIERS\, PONTFAVERGER MORONVILLIERS\, 51490\, France
CATEGORIES:Fields Trials d'Automne
ATTACH;FMTTYPE=image/jpeg:https://www.chiendarret.fr/wp-content/uploads/2021/06/iamalaya.jpg
ORGANIZER;CN="ACT CHAMPAGNE ARDENNES - M. BURLAT PASCAL":MAILTO:burlat.scca@gmail.com
END:VEVENT
END:VCALENDAR