BEGIN:VCALENDAR
VERSION:2.0
PRODID:-//Chiens d&#039;arrêt - ECPv6.8.3//NONSGML v1.0//EN
CALSCALE:GREGORIAN
METHOD:PUBLISH
X-ORIGINAL-URL:https://www.chiendarret.fr
X-WR-CALDESC:Évènements pour Chiens d&#039;arrêt
REFRESH-INTERVAL;VALUE=DURATION:PT1H
X-Robots-Tag:noindex
X-PUBLISHED-TTL:PT1H
BEGIN:VTIMEZONE
TZID:Europe/Paris
BEGIN:DAYLIGHT
TZOFFSETFROM:+0100
TZOFFSETTO:+0200
TZNAME:CEST
DTSTART:20210328T010000
END:DAYLIGHT
BEGIN:STANDARD
TZOFFSETFROM:+0200
TZOFFSETTO:+0100
TZNAME:CET
DTSTART:20211031T010000
END:STANDARD
END:VTIMEZONE
BEGIN:VEVENT
DTSTART;VALUE=DATE:20210906
DTEND;VALUE=DATE:20210907
DTSTAMP:20260421T022136
CREATED:20210619T071329Z
LAST-MODIFIED:20210619T071329Z
UID:2066-1630886400-1630972799@www.chiendarret.fr
SUMMARY:ST SORLIN D ARVES 2 - CACIT CONTINENTAUX - C EPAGNEUL BRETON
DESCRIPTION:
URL:https://www.chiendarret.fr/les-concours/st-sorlin-d-arves-2-cacit-continentaux-c-epagneul-breton/
LOCATION:73530 ST SORLIN D ARVES\, ST SORLIN D ARVES\, 73530\, France
CATEGORIES:Fields Trials Gibier Sauvage
ATTACH;FMTTYPE=image/jpeg:https://www.chiendarret.fr/wp-content/uploads/2021/07/setter_irlandais_field.jpg
ORGANIZER;CN="C EPAGNEUL BRETON - M. POZO DOMINIQUE":MAILTO:dominique.pozo@orange.fr
END:VEVENT
END:VCALENDAR