BEGIN:VCALENDAR
VERSION:2.0
PRODID:-//Chiens d&#039;arrêt - ECPv6.8.3//NONSGML v1.0//EN
CALSCALE:GREGORIAN
METHOD:PUBLISH
X-WR-CALNAME:Chiens d&#039;arrêt
X-ORIGINAL-URL:https://www.chiendarret.fr
X-WR-CALDESC:Évènements pour Chiens d&#039;arrêt
REFRESH-INTERVAL;VALUE=DURATION:PT1H
X-Robots-Tag:noindex
X-PUBLISHED-TTL:PT1H
BEGIN:VTIMEZONE
TZID:Europe/Paris
BEGIN:DAYLIGHT
TZOFFSETFROM:+0100
TZOFFSETTO:+0200
TZNAME:CEST
DTSTART:20210328T010000
END:DAYLIGHT
BEGIN:STANDARD
TZOFFSETFROM:+0200
TZOFFSETTO:+0100
TZNAME:CET
DTSTART:20211031T010000
END:STANDARD
END:VTIMEZONE
BEGIN:VEVENT
DTSTART;VALUE=DATE:20210905
DTEND;VALUE=DATE:20210906
DTSTAMP:20260421T022358
CREATED:20210618T232509Z
LAST-MODIFIED:20210622T110428Z
UID:1770-1630800000-1630886399@www.chiendarret.fr
SUMMARY:BELLE ILE EN MER - CACIT BRITANNIQUES - C SETTER ANGLAIS
DESCRIPTION:
URL:https://www.chiendarret.fr/les-concours/belle-ile-en-mer-cacit-britanniques-c-setter-anglais/
LOCATION:56360 LE PALAIS\, LE PALAIS\, 56360\, France
CATEGORIES:Fields Trials Gibier Naturel
ATTACH;FMTTYPE=image/jpeg:https://www.chiendarret.fr/wp-content/uploads/2021/07/field-trial-griffon.jpg
ORGANIZER;CN="C SETTER ANGLAIS - M. HUPE YVES":MAILTO:yvonhupe@gmail.com
END:VEVENT
BEGIN:VEVENT
DTSTART;VALUE=DATE:20210905
DTEND;VALUE=DATE:20210906
DTSTAMP:20260421T022358
CREATED:20210619T071314Z
LAST-MODIFIED:20210619T071314Z
UID:2060-1630800000-1630886399@www.chiendarret.fr
SUMMARY:SEEZ - CACIT CONTINENTAUX - C GRIFFON KORTHALS
DESCRIPTION:COUPLES UNIQUEMENT
URL:https://www.chiendarret.fr/les-concours/seez-cacit-continentaux-c-griffon-korthals/
LOCATION:73700 SEEZ\, SEEZ\, 73700\, France
CATEGORIES:Fields Trials Gibier Sauvage
ATTACH;FMTTYPE=image/jpeg:https://www.chiendarret.fr/wp-content/uploads/2021/07/setter_irlandais_field.jpg
ORGANIZER;CN="C GRIFFON KORTHALS - M. GIL ROGER":MAILTO:gil-roger@wanadoo.fr
END:VEVENT
BEGIN:VEVENT
DTSTART;VALUE=DATE:20210905
DTEND;VALUE=DATE:20210906
DTSTAMP:20260421T022358
CREATED:20210619T071314Z
LAST-MODIFIED:20210619T071314Z
UID:2061-1630800000-1630886399@www.chiendarret.fr
SUMMARY:ST GERVAIS LES BAINS - CACIT BRITANNIQUES - C SETTER ANGLAIS
DESCRIPTION:
URL:https://www.chiendarret.fr/les-concours/st-gervais-les-bains-cacit-britanniques-c-setter-anglais/
LOCATION:74170 ST GERVAIS LES BAINS\, ST GERVAIS LES BAINS\, 74170\, France
CATEGORIES:Fields Trials Gibier Sauvage
ATTACH;FMTTYPE=image/jpeg:https://www.chiendarret.fr/wp-content/uploads/2021/07/setter_irlandais_field.jpg
ORGANIZER;CN="C SETTER ANGLAIS - M. GIROLLET JEAN-PAUL":MAILTO:jpgmat@orange.fr
END:VEVENT
BEGIN:VEVENT
DTSTART;VALUE=DATE:20210905
DTEND;VALUE=DATE:20210906
DTSTAMP:20260421T022358
CREATED:20210619T071329Z
LAST-MODIFIED:20210619T071329Z
UID:2065-1630800000-1630886399@www.chiendarret.fr
SUMMARY:ST SORLIN D ARVES - CACIT CONTINENTAUX - C EPAGNEUL BRETON
DESCRIPTION:
URL:https://www.chiendarret.fr/les-concours/st-sorlin-d-arves-cacit-continentaux-c-epagneul-breton/
LOCATION:73530 ST SORLIN D ARVES\, ST SORLIN D ARVES\, 73530\, France
CATEGORIES:Fields Trials Gibier Sauvage
ATTACH;FMTTYPE=image/jpeg:https://www.chiendarret.fr/wp-content/uploads/2021/07/setter_irlandais_field.jpg
ORGANIZER;CN="C EPAGNEUL BRETON - M. POZO DOMINIQUE":MAILTO:dominique.pozo@orange.fr
END:VEVENT
END:VCALENDAR