BEGIN:VCALENDAR
VERSION:2.0
PRODID:-//Chiens d&#039;arrêt - ECPv6.8.3//NONSGML v1.0//EN
CALSCALE:GREGORIAN
METHOD:PUBLISH
X-WR-CALNAME:Chiens d&#039;arrêt
X-ORIGINAL-URL:https://www.chiendarret.fr
X-WR-CALDESC:Évènements pour Chiens d&#039;arrêt
REFRESH-INTERVAL;VALUE=DURATION:PT1H
X-Robots-Tag:noindex
X-PUBLISHED-TTL:PT1H
BEGIN:VTIMEZONE
TZID:Europe/Paris
BEGIN:DAYLIGHT
TZOFFSETFROM:+0100
TZOFFSETTO:+0200
TZNAME:CEST
DTSTART:20210328T010000
END:DAYLIGHT
BEGIN:STANDARD
TZOFFSETFROM:+0200
TZOFFSETTO:+0100
TZNAME:CET
DTSTART:20211031T010000
END:STANDARD
END:VTIMEZONE
BEGIN:VEVENT
DTSTART;VALUE=DATE:20210901
DTEND;VALUE=DATE:20210902
DTSTAMP:20260421T022358
CREATED:20210618T233200Z
LAST-MODIFIED:20210825T121626Z
UID:1807-1630454400-1630540799@www.chiendarret.fr
SUMMARY:Annulé - NUISEMENT SUR COOLE - CACT BRITANNIQUES - C SETTER ANGLAIS
DESCRIPTION:Une mauvaise reproduction de la perdrix grise ne nous permet pas d’accueillir les concurrents dans de bonnes conditions de réussite. \nAfin que vous compreniez bien notre décision\, il faut souligner qu’une grande majorité de ces territoires ne chasseront pas la perdrix.
URL:https://www.chiendarret.fr/les-concours/nuisement-sur-coole-cact-britanniques-c-setter-anglais/
LOCATION:51240 NUISEMENT SUR COOLE\, NUISEMENT SUR COOLE\, 51240\, France
CATEGORIES:Fields Trials Gibier Naturel
ATTACH;FMTTYPE=image/jpeg:https://www.chiendarret.fr/wp-content/uploads/2021/07/field-trial-griffon.jpg
ORGANIZER;CN="C SETTER ANGLAIS - M. BERBE DOMINIQUE":MAILTO:dominique.berbe@wanadoo.fr
END:VEVENT
BEGIN:VEVENT
DTSTART;VALUE=DATE:20210901
DTEND;VALUE=DATE:20210902
DTSTAMP:20260421T022358
CREATED:20210619T071414Z
LAST-MODIFIED:20210619T071414Z
UID:2079-1630454400-1630540799@www.chiendarret.fr
SUMMARY:VALMEINIER - CACIT BRITANNIQUES - POINTER CF
DESCRIPTION:
URL:https://www.chiendarret.fr/les-concours/valmeinier-cacit-britanniques-pointer-cf/
LOCATION:73450 VALMEINIER\, VALMEINIER\, 73450\, France
CATEGORIES:Fields Trials Gibier Sauvage
ATTACH;FMTTYPE=image/jpeg:https://www.chiendarret.fr/wp-content/uploads/2021/07/setter_irlandais_field.jpg
ORGANIZER;CN="POINTER CF - M. DUPONT JEAN":MAILTO:dupont.lechane@orange.fr
END:VEVENT
END:VCALENDAR