BEGIN:VCALENDAR
VERSION:2.0
PRODID:-//Chiens d&#039;arrêt - ECPv6.8.3//NONSGML v1.0//EN
CALSCALE:GREGORIAN
METHOD:PUBLISH
X-ORIGINAL-URL:https://www.chiendarret.fr
X-WR-CALDESC:Évènements pour Chiens d&#039;arrêt
REFRESH-INTERVAL;VALUE=DURATION:PT1H
X-Robots-Tag:noindex
X-PUBLISHED-TTL:PT1H
BEGIN:VTIMEZONE
TZID:Europe/Paris
BEGIN:DAYLIGHT
TZOFFSETFROM:+0100
TZOFFSETTO:+0200
TZNAME:CEST
DTSTART:20210328T010000
END:DAYLIGHT
BEGIN:STANDARD
TZOFFSETFROM:+0200
TZOFFSETTO:+0100
TZNAME:CET
DTSTART:20211031T010000
END:STANDARD
END:VTIMEZONE
BEGIN:VEVENT
DTSTART;VALUE=DATE:20210824
DTEND;VALUE=DATE:20210825
DTSTAMP:20260421T075600
CREATED:20210618T232505Z
LAST-MODIFIED:20210701T072243Z
UID:1762-1629763200-1629849599@www.chiendarret.fr
SUMMARY:AUDINGHEN - CACIT BRITANNIQUES - CUSCA-62
DESCRIPTION:
URL:https://www.chiendarret.fr/les-concours/audinghen-cacit-britanniques-cusca-62/
LOCATION:62179 AUDINGHEN\, AUDINGHEN\, 62179\, France
CATEGORIES:Fields Trials Gibier Naturel
ATTACH;FMTTYPE=image/jpeg:https://www.chiendarret.fr/wp-content/uploads/2021/07/field-trial-griffon.jpg
ORGANIZER;CN="CUSCA-62 - M. MERLIN PIERRE":MAILTO:pierre.merlin0135@bbox.fr
END:VEVENT
BEGIN:VEVENT
DTSTART;VALUE=DATE:20210824
DTEND;VALUE=DATE:20210825
DTSTAMP:20260421T075600
CREATED:20210618T232505Z
LAST-MODIFIED:20210701T072227Z
UID:1763-1629763200-1629849599@www.chiendarret.fr
SUMMARY:AUDINGHEN - CACIT CONTINENTAUX - CUSCA-62
DESCRIPTION:
URL:https://www.chiendarret.fr/les-concours/audinghen-cacit-continentaux-cusca-62/
LOCATION:62179 AUDINGHEN\, AUDINGHEN\, 62179\, France
CATEGORIES:Fields Trials Gibier Naturel
ATTACH;FMTTYPE=image/jpeg:https://www.chiendarret.fr/wp-content/uploads/2021/07/field-trial-griffon.jpg
ORGANIZER;CN="CUSCA-62 - M. MERLIN PIERRE":MAILTO:pierre.merlin0135@bbox.fr
END:VEVENT
BEGIN:VEVENT
DTSTART;VALUE=DATE:20210824
DTEND;VALUE=DATE:20210825
DTSTAMP:20260421T075600
CREATED:20210618T232817Z
LAST-MODIFIED:20210619T071703Z
UID:1790-1629763200-1629849599@www.chiendarret.fr
SUMMARY:LA POMAREDE 2 - CACIT CONTINENTAUX - CUSCA-LR
DESCRIPTION:RÉGLEMENT PAR CHÉQUE A C.B.F
URL:https://www.chiendarret.fr/les-concours/la-pomarede-2-cacit-continentaux-cusca-lr/
LOCATION:11400 LA POMAREDE\, LA POMAREDE\, 11400\, France
CATEGORIES:Fields Trials Gibier Naturel
ATTACH;FMTTYPE=image/jpeg:https://www.chiendarret.fr/wp-content/uploads/2021/07/field-trial-griffon.jpg
ORGANIZER;CN="CUSCA-LR - M. GASIOT PASCAL":MAILTO:gasiot.pascal@gmail.com
END:VEVENT
BEGIN:VEVENT
DTSTART;VALUE=DATE:20210824
DTEND;VALUE=DATE:20210825
DTSTAMP:20260421T075600
CREATED:20210618T232927Z
LAST-MODIFIED:20210619T071717Z
UID:1791-1629763200-1629849599@www.chiendarret.fr
SUMMARY:LA POMAREDE 2 - CACT BRITANNIQUES - CUSCA-LR
DESCRIPTION:RÉGLEMENT PAR CHÉQUE A C.B.F
URL:https://www.chiendarret.fr/les-concours/la-pomarede-2-cact-britanniques-cusca-lr/
LOCATION:11400 LA POMAREDE\, LA POMAREDE\, 11400\, France
CATEGORIES:Fields Trials Gibier Naturel
ATTACH;FMTTYPE=image/jpeg:https://www.chiendarret.fr/wp-content/uploads/2021/07/field-trial-griffon.jpg
ORGANIZER;CN="CUSCA-LR - M. GASIOT PASCAL":MAILTO:gasiot.pascal@gmail.com
END:VEVENT
END:VCALENDAR