BEGIN:VCALENDAR
VERSION:2.0
PRODID:-//Chiens d&#039;arrêt - ECPv6.8.3//NONSGML v1.0//EN
CALSCALE:GREGORIAN
METHOD:PUBLISH
X-WR-CALNAME:Chiens d&#039;arrêt
X-ORIGINAL-URL:https://www.chiendarret.fr
X-WR-CALDESC:Évènements pour Chiens d&#039;arrêt
REFRESH-INTERVAL;VALUE=DURATION:PT1H
X-Robots-Tag:noindex
X-PUBLISHED-TTL:PT1H
BEGIN:VTIMEZONE
TZID:Europe/Paris
BEGIN:DAYLIGHT
TZOFFSETFROM:+0100
TZOFFSETTO:+0200
TZNAME:CEST
DTSTART:20210328T010000
END:DAYLIGHT
BEGIN:STANDARD
TZOFFSETFROM:+0200
TZOFFSETTO:+0100
TZNAME:CET
DTSTART:20211031T010000
END:STANDARD
END:VTIMEZONE
BEGIN:VEVENT
DTSTART;VALUE=DATE:20210823
DTEND;VALUE=DATE:20210824
DTSTAMP:20260421T075411
CREATED:20210618T232505Z
LAST-MODIFIED:20210619T071600Z
UID:1761-1629676800-1629763199@www.chiendarret.fr
SUMMARY:AIX EN ISSART - CACT CONTINENTAUX - C BRAQUE ST GERMAIN
DESCRIPTION:CBSG – CEF – CEP – CGK – CABW – CFBA – RABA – VCF – LIMITÉ À 2 CONCOURS DE 12 CHIENS. VALIDATION A RÉCEPTION DU PAIEMENT.
URL:https://www.chiendarret.fr/les-concours/aix-en-issart-cact-continentaux-c-braque-st-germain/
LOCATION:62170 AIX EN ISSART\, AIX EN ISSART\, 62170\, France
CATEGORIES:Fields Trials Gibier Naturel
ATTACH;FMTTYPE=image/jpeg:https://www.chiendarret.fr/wp-content/uploads/2021/07/field-trial-griffon.jpg
ORGANIZER;CN="C BRAQUE ST GERMAIN - Mme FAUQUEMBERT CATHERINE":MAILTO:fauquembert.catherine@orange.fr
END:VEVENT
BEGIN:VEVENT
DTSTART;VALUE=DATE:20210823
DTEND;VALUE=DATE:20210824
DTSTAMP:20260421T075411
CREATED:20210618T232816Z
LAST-MODIFIED:20210619T071703Z
UID:1788-1629676800-1629763199@www.chiendarret.fr
SUMMARY:LA POMAREDE - CACIT CONTINENTAUX - CUSCA-LR
DESCRIPTION:RÉGLEMENT PAR CHÉQUE A C.B.F
URL:https://www.chiendarret.fr/les-concours/la-pomarede-cacit-continentaux-cusca-lr-2/
LOCATION:11400 LA POMAREDE\, LA POMAREDE\, 11400\, France
CATEGORIES:Fields Trials Gibier Naturel
ATTACH;FMTTYPE=image/jpeg:https://www.chiendarret.fr/wp-content/uploads/2021/07/field-trial-griffon.jpg
ORGANIZER;CN="CUSCA-LR - M. GASIOT PASCAL":MAILTO:gasiot.pascal@gmail.com
END:VEVENT
BEGIN:VEVENT
DTSTART;VALUE=DATE:20210823
DTEND;VALUE=DATE:20210824
DTSTAMP:20260421T075411
CREATED:20210618T232817Z
LAST-MODIFIED:20210619T071703Z
UID:1789-1629676800-1629763199@www.chiendarret.fr
SUMMARY:LA POMAREDE - CACT BRITANNIQUES - CUSCA-LR
DESCRIPTION:RÉGLEMENT PAR CHÉQUE A C.B.F
URL:https://www.chiendarret.fr/les-concours/la-pomarede-cact-britanniques-cusca-lr/
LOCATION:11400 LA POMAREDE\, LA POMAREDE\, 11400\, France
CATEGORIES:Fields Trials Gibier Naturel
ATTACH;FMTTYPE=image/jpeg:https://www.chiendarret.fr/wp-content/uploads/2021/07/field-trial-griffon.jpg
ORGANIZER;CN="CUSCA-LR - M. GASIOT PASCAL":MAILTO:gasiot.pascal@gmail.com
END:VEVENT
BEGIN:VEVENT
DTSTART;VALUE=DATE:20210823
DTEND;VALUE=DATE:20210824
DTSTAMP:20260421T075411
CREATED:20210619T071214Z
LAST-MODIFIED:20210619T071214Z
UID:2038-1629676800-1629763199@www.chiendarret.fr
SUMMARY:MERIAL - CACIT BRITANNIQUES - POINTER CF
DESCRIPTION:
URL:https://www.chiendarret.fr/les-concours/merial-cacit-britanniques-pointer-cf/
LOCATION:11140 MERIAL\, MERIAL\, 11140\, France
CATEGORIES:Fields Trials Gibier Sauvage
ATTACH;FMTTYPE=image/jpeg:https://www.chiendarret.fr/wp-content/uploads/2021/07/setter_irlandais_field.jpg
ORGANIZER;CN="POINTER CF - M. GLEIZES JEAN-CHARLES":MAILTO:jcgleizes11@free.fr
END:VEVENT
END:VCALENDAR