BEGIN:VCALENDAR
VERSION:2.0
PRODID:-//Chiens d&#039;arrêt - ECPv6.8.3//NONSGML v1.0//EN
CALSCALE:GREGORIAN
METHOD:PUBLISH
X-ORIGINAL-URL:https://www.chiendarret.fr
X-WR-CALDESC:Évènements pour Chiens d&#039;arrêt
REFRESH-INTERVAL;VALUE=DURATION:PT1H
X-Robots-Tag:noindex
X-PUBLISHED-TTL:PT1H
BEGIN:VTIMEZONE
TZID:Europe/Paris
BEGIN:DAYLIGHT
TZOFFSETFROM:+0100
TZOFFSETTO:+0200
TZNAME:CEST
DTSTART:20210328T010000
END:DAYLIGHT
BEGIN:STANDARD
TZOFFSETFROM:+0200
TZOFFSETTO:+0100
TZNAME:CET
DTSTART:20211031T010000
END:STANDARD
END:VTIMEZONE
BEGIN:VEVENT
DTSTART;VALUE=DATE:20211106
DTEND;VALUE=DATE:20211107
DTSTAMP:20260424T100313
CREATED:20210618T232725Z
LAST-MODIFIED:20210619T071632Z
UID:1776-1636156800-1636243199@www.chiendarret.fr
SUMMARY:CAGNICOURT - CACIT CONTINENTAUX - CA BRAQUE DE WEIMAR
DESCRIPTION:
URL:https://www.chiendarret.fr/les-concours/cagnicourt-cacit-continentaux-ca-braque-de-weimar/
LOCATION:62182 CAGNICOURT\, CAGNICOURT\, 62182\, France
CATEGORIES:Fields Trials Gibier Naturel
ATTACH;FMTTYPE=image/jpeg:https://www.chiendarret.fr/wp-content/uploads/2021/07/field-trial-griffon.jpg
ORGANIZER;CN="CA BRAQUE DE WEIMAR - M. SAGOT JEAN-CLAUDE":MAILTO:cabw@wanadoo.fr
END:VEVENT
BEGIN:VEVENT
DTSTART;VALUE=DATE:20211107
DTEND;VALUE=DATE:20211108
DTSTAMP:20260424T100313
CREATED:20210618T232725Z
LAST-MODIFIED:20210619T071632Z
UID:1777-1636243200-1636329599@www.chiendarret.fr
SUMMARY:CAGNICOURT - CACT CONTINENTAUX - CA BRAQUE DE WEIMAR
DESCRIPTION:
URL:https://www.chiendarret.fr/les-concours/cagnicourt-cact-continentaux-ca-braque-de-weimar/
LOCATION:62182 CAGNICOURT\, CAGNICOURT\, 62182\, France
CATEGORIES:Fields Trials Gibier Naturel
ATTACH;FMTTYPE=image/jpeg:https://www.chiendarret.fr/wp-content/uploads/2021/07/field-trial-griffon.jpg
ORGANIZER;CN="CA BRAQUE DE WEIMAR - M. SAGOT JEAN-CLAUDE":MAILTO:cabw@wanadoo.fr
END:VEVENT
BEGIN:VEVENT
DTSTART;VALUE=DATE:20211113
DTEND;VALUE=DATE:20211114
DTSTAMP:20260424T100313
CREATED:20210618T232943Z
LAST-MODIFIED:20210619T071733Z
UID:1798-1636761600-1636847999@www.chiendarret.fr
SUMMARY:LE PONCHEL - CACT BRITANNIQUES - POINTER CF
DESCRIPTION:CSA – PCF – RED.CLUB –
URL:https://www.chiendarret.fr/les-concours/le-ponchel-cact-britanniques-pointer-cf/
LOCATION:62390 LE PONCHEL\, LE PONCHEL\, 62390\, France
CATEGORIES:Fields Trials Gibier Naturel
ATTACH;FMTTYPE=image/jpeg:https://www.chiendarret.fr/wp-content/uploads/2021/07/field-trial-griffon.jpg
ORGANIZER;CN="POINTER CF - Mme FAUQUEMBERT CATHERINE":MAILTO:fauquembert.catherine@orange.fr
END:VEVENT
BEGIN:VEVENT
DTSTART;VALUE=DATE:20211114
DTEND;VALUE=DATE:20211115
DTSTAMP:20260424T100313
CREATED:20210618T232944Z
LAST-MODIFIED:20210619T071733Z
UID:1799-1636848000-1636934399@www.chiendarret.fr
SUMMARY:LE PONCHEL 2 - CACT BRITANNIQUES - POINTER CF
DESCRIPTION:CSA – PCF – RED.CLUB –
URL:https://www.chiendarret.fr/les-concours/le-ponchel-2-cact-britanniques-pointer-cf/
LOCATION:62390 LE PONCHEL\, LE PONCHEL\, 62390\, France
CATEGORIES:Fields Trials Gibier Naturel
ATTACH;FMTTYPE=image/jpeg:https://www.chiendarret.fr/wp-content/uploads/2021/07/field-trial-griffon.jpg
ORGANIZER;CN="POINTER CF - Mme FAUQUEMBERT CATHERINE":MAILTO:fauquembert.catherine@orange.fr
END:VEVENT
BEGIN:VEVENT
DTSTART;VALUE=DATE:20211122
DTEND;VALUE=DATE:20211123
DTSTAMP:20260424T100313
CREATED:20210618T232927Z
LAST-MODIFIED:20210619T071718Z
UID:1792-1637539200-1637625599@www.chiendarret.fr
SUMMARY:LANCOME - CACT BRITANNIQUES - RA SETTER GORDON
DESCRIPTION:PAIEMENT ORDRE DU CUSCA 41
URL:https://www.chiendarret.fr/les-concours/lancome-cact-britanniques-ra-setter-gordon/
LOCATION:41190 LANCOME\, LANCOME\, 41190\, France
CATEGORIES:Fields Trials Gibier Naturel
ATTACH;FMTTYPE=image/jpeg:https://www.chiendarret.fr/wp-content/uploads/2021/07/field-trial-griffon.jpg
ORGANIZER;CN="RA SETTER GORDON - M. MATHIEU JACQUES":MAILTO:jac.mathieu@outlook.com
END:VEVENT
BEGIN:VEVENT
DTSTART;VALUE=DATE:20211122
DTEND;VALUE=DATE:20211123
DTSTAMP:20260424T100313
CREATED:20210618T232927Z
LAST-MODIFIED:20210619T071718Z
UID:1793-1637539200-1637625599@www.chiendarret.fr
SUMMARY:LANCOME - CACT CONTINENTAUX - C EPAGNEUL BRETON
DESCRIPTION:PAIEMENT ORDRE DU CUSCA 41
URL:https://www.chiendarret.fr/les-concours/lancome-cact-continentaux-c-epagneul-breton/
LOCATION:41190 LANCOME\, LANCOME\, 41190\, France
CATEGORIES:Fields Trials Gibier Naturel
ATTACH;FMTTYPE=image/jpeg:https://www.chiendarret.fr/wp-content/uploads/2021/07/field-trial-griffon.jpg
ORGANIZER;CN="C EPAGNEUL BRETON - M. MATHIEU JACQUES":MAILTO:jac.mathieu@outlook.com
END:VEVENT
BEGIN:VEVENT
DTSTART;VALUE=DATE:20211122
DTEND;VALUE=DATE:20211123
DTSTAMP:20260424T100313
CREATED:20210618T232928Z
LAST-MODIFIED:20210619T071718Z
UID:1794-1637539200-1637625599@www.chiendarret.fr
SUMMARY:LANCOME - CACT CONTINENTAUX - VIZSLA CF
DESCRIPTION:CBF – CBSG – CEF – CGK – CABW – CFEML – RABA – VCF – PAIEMENT ORDRE DU CUSCA 41 10 CHIENS PAR SOLO
URL:https://www.chiendarret.fr/les-concours/lancome-cact-continentaux-vizsla-cf/
LOCATION:41190 LANCOME\, LANCOME\, 41190\, France
CATEGORIES:Fields Trials Gibier Naturel
ATTACH;FMTTYPE=image/jpeg:https://www.chiendarret.fr/wp-content/uploads/2021/07/field-trial-griffon.jpg
ORGANIZER;CN="VIZSLA CF - M. MATHIEU JACQUES":MAILTO:jac.mathieu@outlook.com
END:VEVENT
BEGIN:VEVENT
DTSTART;VALUE=DATE:20211123
DTEND;VALUE=DATE:20211124
DTSTAMP:20260424T100313
CREATED:20210618T232928Z
LAST-MODIFIED:20210619T071718Z
UID:1795-1637625600-1637711999@www.chiendarret.fr
SUMMARY:LANCOME 2 - CACT BRITANNIQUES - RA SETTER GORDON
DESCRIPTION:PAIEMENT ORDRE DU CUSCA 41
URL:https://www.chiendarret.fr/les-concours/lancome-2-cact-britanniques-ra-setter-gordon/
LOCATION:41190 LANCOME\, LANCOME\, 41190\, France
CATEGORIES:Fields Trials Gibier Naturel
ATTACH;FMTTYPE=image/jpeg:https://www.chiendarret.fr/wp-content/uploads/2021/07/field-trial-griffon.jpg
ORGANIZER;CN="RA SETTER GORDON - M. MATHIEU JACQUES":MAILTO:jac.mathieu@outlook.com
END:VEVENT
BEGIN:VEVENT
DTSTART;VALUE=DATE:20211123
DTEND;VALUE=DATE:20211124
DTSTAMP:20260424T100313
CREATED:20210618T232943Z
LAST-MODIFIED:20210619T071733Z
UID:1797-1637625600-1637711999@www.chiendarret.fr
SUMMARY:LANCOME 2 - CACT CONTINENTAUX - VIZSLA CF
DESCRIPTION:CBF – CBSG – CEF – CGK – CABW – CFEML – RABA – VCF – PAIEMENT PAR CHEQUES A L’ORDRE DU CUSCA 41 10 CHIENS PAR SOLO
URL:https://www.chiendarret.fr/les-concours/lancome-2-cact-continentaux-vizsla-cf/
LOCATION:41190 LANCOME\, LANCOME\, 41190\, France
CATEGORIES:Fields Trials Gibier Naturel
ATTACH;FMTTYPE=image/jpeg:https://www.chiendarret.fr/wp-content/uploads/2021/07/field-trial-griffon.jpg
ORGANIZER;CN="VIZSLA CF - M. MATHIEU JACQUES":MAILTO:jac.mathieu@outlook.com
END:VEVENT
BEGIN:VEVENT
DTSTART;VALUE=DATE:20211123
DTEND;VALUE=DATE:20211124
DTSTAMP:20260424T100313
CREATED:20210618T232943Z
LAST-MODIFIED:20210619T071733Z
UID:1796-1637625600-1637711999@www.chiendarret.fr
SUMMARY:LANCOME 2 - CACT CONTINENTAUX - C EPAGNEUL BRETON
DESCRIPTION:PAIEMENT ORDRE DU CUSCA 41
URL:https://www.chiendarret.fr/les-concours/lancome-2-cact-continentaux-c-epagneul-breton/
LOCATION:41190 LANCOME\, LANCOME\, 41190\, France
CATEGORIES:Fields Trials Gibier Naturel
ATTACH;FMTTYPE=image/jpeg:https://www.chiendarret.fr/wp-content/uploads/2021/07/field-trial-griffon.jpg
ORGANIZER;CN="C EPAGNEUL BRETON - M. MATHIEU JACQUES":MAILTO:jac.mathieu@outlook.com
END:VEVENT
BEGIN:VEVENT
DTSTART;VALUE=DATE:20211124
DTEND;VALUE=DATE:20211125
DTSTAMP:20260424T100313
CREATED:20210618T232524Z
LAST-MODIFIED:20210619T071618Z
UID:1773-1637712000-1637798399@www.chiendarret.fr
SUMMARY:BUSLOUP - CACT CONTINENTAUX - C EPAGNEUL BRETON
DESCRIPTION:PAIEMENT ORDRE DU CUSCA 41
URL:https://www.chiendarret.fr/les-concours/busloup-cact-continentaux-c-epagneul-breton/
LOCATION:41160 BUSLOUP\, BUSLOUP\, 41160\, France
CATEGORIES:Fields Trials Gibier Naturel
ATTACH;FMTTYPE=image/jpeg:https://www.chiendarret.fr/wp-content/uploads/2021/07/field-trial-griffon.jpg
ORGANIZER;CN="C EPAGNEUL BRETON - M. MATHIEU JACQUES":MAILTO:jac.mathieu@outlook.com
END:VEVENT
BEGIN:VEVENT
DTSTART;VALUE=DATE:20211124
DTEND;VALUE=DATE:20211125
DTSTAMP:20260424T100313
CREATED:20210618T232524Z
LAST-MODIFIED:20210619T071618Z
UID:1772-1637712000-1637798399@www.chiendarret.fr
SUMMARY:BUSLOUP - CACT BRITANNIQUES - RED CLUB
DESCRIPTION:PAIEMENT ORDRE DU CUSCA 41
URL:https://www.chiendarret.fr/les-concours/busloup-cact-britanniques-red-club/
LOCATION:41160 BUSLOUP\, BUSLOUP\, 41160\, France
CATEGORIES:Fields Trials Gibier Naturel
ATTACH;FMTTYPE=image/jpeg:https://www.chiendarret.fr/wp-content/uploads/2021/07/field-trial-griffon.jpg
ORGANIZER;CN="RED CLUB - M. MATHIEU JACQUES":MAILTO:jac.mathieu@outlook.com
END:VEVENT
BEGIN:VEVENT
DTSTART;VALUE=DATE:20211125
DTEND;VALUE=DATE:20211126
DTSTAMP:20260424T100313
CREATED:20210618T232524Z
LAST-MODIFIED:20210619T071618Z
UID:1774-1637798400-1637884799@www.chiendarret.fr
SUMMARY:BUSLOUP 2 - CACT BRITANNIQUES - RED CLUB
DESCRIPTION:PAIEMENT ORDRE DU CUSCA 41
URL:https://www.chiendarret.fr/les-concours/busloup-2-cact-britanniques-red-club/
LOCATION:41160 BUSLOUP\, BUSLOUP\, 41160\, France
CATEGORIES:Fields Trials Gibier Naturel
ATTACH;FMTTYPE=image/jpeg:https://www.chiendarret.fr/wp-content/uploads/2021/07/field-trial-griffon.jpg
ORGANIZER;CN="RED CLUB - M. MATHIEU JACQUES":MAILTO:jac.mathieu@outlook.com
END:VEVENT
BEGIN:VEVENT
DTSTART;VALUE=DATE:20211125
DTEND;VALUE=DATE:20211126
DTSTAMP:20260424T100313
CREATED:20210618T232525Z
LAST-MODIFIED:20210619T071618Z
UID:1775-1637798400-1637884799@www.chiendarret.fr
SUMMARY:BUSLOUP 2 - CACT CONTINENTAUX - C EPAGNEUL BRETON
DESCRIPTION:PAIEMENT ORDRE DU CUSCA 41
URL:https://www.chiendarret.fr/les-concours/busloup-2-cact-continentaux-c-epagneul-breton/
LOCATION:41160 BUSLOUP\, BUSLOUP\, 41160\, France
CATEGORIES:Fields Trials Gibier Naturel
ATTACH;FMTTYPE=image/jpeg:https://www.chiendarret.fr/wp-content/uploads/2021/07/field-trial-griffon.jpg
ORGANIZER;CN="C EPAGNEUL BRETON - M. MATHIEU JACQUES":MAILTO:jac.mathieu@outlook.com
END:VEVENT
BEGIN:VEVENT
DTSTART;VALUE=DATE:20211129
DTEND;VALUE=DATE:20211130
DTSTAMP:20260424T100313
CREATED:20210618T233000Z
LAST-MODIFIED:20210619T071748Z
UID:1804-1638144000-1638230399@www.chiendarret.fr
SUMMARY:NOHANT EN GRACAY - CACIT BRITANNIQUES - ASS DRESS PRO
DESCRIPTION:
URL:https://www.chiendarret.fr/les-concours/nohant-en-gracay-cacit-britanniques-ass-dress-pro/
LOCATION:18310 NOHANT EN GRACAY\, NOHANT EN GRACAY\, 18310\, France
CATEGORIES:Fields Trials Gibier Naturel
ATTACH;FMTTYPE=image/jpeg:https://www.chiendarret.fr/wp-content/uploads/2021/07/field-trial-griffon.jpg
ORGANIZER;CN="ASS DRESS PRO - M. DUNEAU WILFRID":MAILTO:duneau.wilfrid@orange.fr
END:VEVENT
BEGIN:VEVENT
DTSTART;VALUE=DATE:20211129
DTEND;VALUE=DATE:20211130
DTSTAMP:20260424T100313
CREATED:20210618T233000Z
LAST-MODIFIED:20210619T071748Z
UID:1805-1638144000-1638230399@www.chiendarret.fr
SUMMARY:NOHANT EN GRACAY - CACIT CONTINENTAUX - ASS DRESS PRO
DESCRIPTION:
URL:https://www.chiendarret.fr/les-concours/nohant-en-gracay-cacit-continentaux-ass-dress-pro/
LOCATION:18310 NOHANT EN GRACAY\, NOHANT EN GRACAY\, 18310\, France
CATEGORIES:Fields Trials Gibier Naturel
ATTACH;FMTTYPE=image/jpeg:https://www.chiendarret.fr/wp-content/uploads/2021/07/field-trial-griffon.jpg
ORGANIZER;CN="ASS DRESS PRO - M. DUNEAU WILFRID":MAILTO:duneau.wilfrid@orange.fr
END:VEVENT
BEGIN:VEVENT
DTSTART;VALUE=DATE:20211130
DTEND;VALUE=DATE:20211201
DTSTAMP:20260424T100313
CREATED:20210618T232816Z
LAST-MODIFIED:20210619T071703Z
UID:1787-1638230400-1638316799@www.chiendarret.fr
SUMMARY:GENOUILLY - CACT BRITANNIQUES - AMIC AMATEURS FT
DESCRIPTION:PAIEMENT OBLIGATOIRE AVEC LES ENGAGEMENTS POUR ETRE VALIDES. AUCUNE EXCEPTION. AUCUN CHANGEMENT APRES LE 20/11/21
URL:https://www.chiendarret.fr/les-concours/genouilly-cact-britanniques-amic-amateurs-ft/
LOCATION:18310 GENOUILLY\, GENOUILLY\, 18310\, France
CATEGORIES:Fields Trials Gibier Naturel
ATTACH;FMTTYPE=image/jpeg:https://www.chiendarret.fr/wp-content/uploads/2021/07/field-trial-griffon.jpg
ORGANIZER;CN="AMIC AMATEURS FT - Mme DUMAND EVELYNE":MAILTO:evelyne.dumand@sfr.fr
END:VEVENT
BEGIN:VEVENT
DTSTART;VALUE=DATE:20211130
DTEND;VALUE=DATE:20211201
DTSTAMP:20260424T100313
CREATED:20210618T232816Z
LAST-MODIFIED:20210619T071703Z
UID:1786-1638230400-1638316799@www.chiendarret.fr
SUMMARY:GENOUILLY - CACIT CONTINENTAUX - AMIC AMATEURS FT
DESCRIPTION:PAIEMENT OBLIGATOIRE AVEC LES ENGAGEMENTS POUR ETRE VALIDES. AUCUNE EXCEPTION. AUCUN CHANGEMENT APRES LE 20/11/21
URL:https://www.chiendarret.fr/les-concours/genouilly-cacit-continentaux-amic-amateurs-ft/
LOCATION:18310 GENOUILLY\, GENOUILLY\, 18310\, France
CATEGORIES:Fields Trials Gibier Naturel
ATTACH;FMTTYPE=image/jpeg:https://www.chiendarret.fr/wp-content/uploads/2021/07/field-trial-griffon.jpg
ORGANIZER;CN="AMIC AMATEURS FT - Mme DUMAND EVELYNE":MAILTO:evelyne.dumand@sfr.fr
END:VEVENT
END:VCALENDAR