BEGIN:VCALENDAR
VERSION:2.0
PRODID:-//Chiens d&#039;arrêt - ECPv6.8.3//NONSGML v1.0//EN
CALSCALE:GREGORIAN
METHOD:PUBLISH
X-ORIGINAL-URL:https://www.chiendarret.fr
X-WR-CALDESC:Évènements pour Chiens d&#039;arrêt
REFRESH-INTERVAL;VALUE=DURATION:PT1H
X-Robots-Tag:noindex
X-PUBLISHED-TTL:PT1H
BEGIN:VTIMEZONE
TZID:Europe/Paris
BEGIN:DAYLIGHT
TZOFFSETFROM:+0100
TZOFFSETTO:+0200
TZNAME:CEST
DTSTART:20210328T010000
END:DAYLIGHT
BEGIN:STANDARD
TZOFFSETFROM:+0200
TZOFFSETTO:+0100
TZNAME:CET
DTSTART:20211031T010000
END:STANDARD
END:VTIMEZONE
BEGIN:VEVENT
DTSTART;VALUE=DATE:20210914
DTEND;VALUE=DATE:20210915
DTSTAMP:20260422T154513
CREATED:20210618T232039Z
LAST-MODIFIED:20210619T070008Z
UID:1649-1631577600-1631663999@www.chiendarret.fr
SUMMARY:CHALMAZEL JEANSAGNIERE - CACIT BRITANNIQUES - ACT RHONE ALPES
DESCRIPTION:
URL:https://www.chiendarret.fr/les-concours/chalmazel-jeansagniere-cacit-britanniques-act-rhone-alpes-3/
LOCATION:42920 CHALMAZEL JEANSAGNIERE\, CHALMAZEL JEANSAGNIERE\, 42920\, France
CATEGORIES:Fields Trials d'Automne
ATTACH;FMTTYPE=image/jpeg:https://www.chiendarret.fr/wp-content/uploads/2021/06/iamalaya.jpg
ORGANIZER;CN="ACT RHONE ALPES - Mme ARGANT SIMONE":MAILTO:argantsimone@orange.fr
END:VEVENT
BEGIN:VEVENT
DTSTART;VALUE=DATE:20210915
DTEND;VALUE=DATE:20210916
DTSTAMP:20260422T154513
CREATED:20210618T232039Z
LAST-MODIFIED:20210619T070008Z
UID:1651-1631664000-1631750399@www.chiendarret.fr
SUMMARY:CHALMAZEL JEANSAGNIERE 2 - CACIT BRITANNIQUES - ACT RHONE ALPES
DESCRIPTION:
URL:https://www.chiendarret.fr/les-concours/chalmazel-jeansagniere-2-cacit-britanniques-act-rhone-alpes/
LOCATION:42920 CHALMAZEL JEANSAGNIERE\, CHALMAZEL JEANSAGNIERE\, 42920\, France
CATEGORIES:Fields Trials d'Automne
ATTACH;FMTTYPE=image/jpeg:https://www.chiendarret.fr/wp-content/uploads/2021/06/iamalaya.jpg
ORGANIZER;CN="ACT RHONE ALPES - Mme ARGANT SIMONE":MAILTO:argantsimone@orange.fr
END:VEVENT
BEGIN:VEVENT
DTSTART;VALUE=DATE:20210916
DTEND;VALUE=DATE:20210917
DTSTAMP:20260422T154513
CREATED:20210618T232039Z
LAST-MODIFIED:20210619T070008Z
UID:1650-1631750400-1631836799@www.chiendarret.fr
SUMMARY:CHALMAZEL JEANSAGNIERE - CACIT CONTINENTAUX - ACT RHONE ALPES
DESCRIPTION:
URL:https://www.chiendarret.fr/les-concours/chalmazel-jeansagniere-cacit-continentaux-act-rhone-alpes-3/
LOCATION:42920 CHALMAZEL JEANSAGNIERE\, CHALMAZEL JEANSAGNIERE\, 42920\, France
CATEGORIES:Fields Trials d'Automne
ATTACH;FMTTYPE=image/jpeg:https://www.chiendarret.fr/wp-content/uploads/2021/06/iamalaya.jpg
ORGANIZER;CN="ACT RHONE ALPES - Mme ARGANT SIMONE":MAILTO:argantsimone@orange.fr
END:VEVENT
BEGIN:VEVENT
DTSTART;VALUE=DATE:20210916
DTEND;VALUE=DATE:20210917
DTSTAMP:20260422T154513
CREATED:20210619T070538Z
LAST-MODIFIED:20210619T070538Z
UID:1951-1631750400-1631836799@www.chiendarret.fr
SUMMARY:VICO - CACT BRITANNIQUES - SC CORSE
DESCRIPTION:
URL:https://www.chiendarret.fr/les-concours/vico-cact-britanniques-sc-corse/
LOCATION:20160 VICO\, VICO\, 20160\, France
CATEGORIES:Fields Trials d'Automne
ATTACH;FMTTYPE=image/jpeg:https://www.chiendarret.fr/wp-content/uploads/2021/06/iamalaya.jpg
ORGANIZER;CN="SC CORSE - M. MIGNOT JEAN-CLAUDE":MAILTO:mignot.jeanclaude@wanadoo.fr
END:VEVENT
BEGIN:VEVENT
DTSTART;VALUE=DATE:20210916
DTEND;VALUE=DATE:20210917
DTSTAMP:20260422T154513
CREATED:20210619T070538Z
LAST-MODIFIED:20210619T070538Z
UID:1950-1631750400-1631836799@www.chiendarret.fr
SUMMARY:VICO - CACIT CONTINENTAUX - SC CORSE
DESCRIPTION:
URL:https://www.chiendarret.fr/les-concours/vico-cacit-continentaux-sc-corse/
LOCATION:20160 VICO\, VICO\, 20160\, France
CATEGORIES:Fields Trials d'Automne
ATTACH;FMTTYPE=image/jpeg:https://www.chiendarret.fr/wp-content/uploads/2021/06/iamalaya.jpg
ORGANIZER;CN="SC CORSE - M. MIGNOT JEAN-CLAUDE":MAILTO:mignot.jeanclaude@wanadoo.fr
END:VEVENT
BEGIN:VEVENT
DTSTART;VALUE=DATE:20210917
DTEND;VALUE=DATE:20210918
DTSTAMP:20260422T154513
CREATED:20210618T232039Z
LAST-MODIFIED:20210619T070008Z
UID:1652-1631836800-1631923199@www.chiendarret.fr
SUMMARY:CHALMAZEL JEANSAGNIERE 2 - CACIT CONTINENTAUX - ACT RHONE ALPES
DESCRIPTION:
URL:https://www.chiendarret.fr/les-concours/chalmazel-jeansagniere-2-cacit-continentaux-act-rhone-alpes/
LOCATION:42920 CHALMAZEL JEANSAGNIERE\, CHALMAZEL JEANSAGNIERE\, 42920\, France
CATEGORIES:Fields Trials d'Automne
ATTACH;FMTTYPE=image/jpeg:https://www.chiendarret.fr/wp-content/uploads/2021/06/iamalaya.jpg
ORGANIZER;CN="ACT RHONE ALPES - Mme ARGANT SIMONE":MAILTO:argantsimone@orange.fr
END:VEVENT
BEGIN:VEVENT
DTSTART;VALUE=DATE:20210917
DTEND;VALUE=DATE:20210918
DTSTAMP:20260422T154513
CREATED:20210619T070553Z
LAST-MODIFIED:20210619T070553Z
UID:1953-1631836800-1631923199@www.chiendarret.fr
SUMMARY:VICO 2 - CACT BRITANNIQUES - SC CORSE
DESCRIPTION:
URL:https://www.chiendarret.fr/les-concours/vico-2-cact-britanniques-sc-corse/
LOCATION:20160 VICO\, VICO\, 20160\, France
CATEGORIES:Fields Trials d'Automne
ATTACH;FMTTYPE=image/jpeg:https://www.chiendarret.fr/wp-content/uploads/2021/06/iamalaya.jpg
ORGANIZER;CN="SC CORSE - M. MIGNOT JEAN-CLAUDE":MAILTO:mignot.jeanclaude@wanadoo.fr
END:VEVENT
BEGIN:VEVENT
DTSTART;VALUE=DATE:20210917
DTEND;VALUE=DATE:20210918
DTSTAMP:20260422T154513
CREATED:20210619T070553Z
LAST-MODIFIED:20210619T070553Z
UID:1952-1631836800-1631923199@www.chiendarret.fr
SUMMARY:VICO 2 - CACIT CONTINENTAUX - SC CORSE
DESCRIPTION:
URL:https://www.chiendarret.fr/les-concours/vico-2-cacit-continentaux-sc-corse/
LOCATION:20160 VICO\, VICO\, 20160\, France
CATEGORIES:Fields Trials d'Automne
ATTACH;FMTTYPE=image/jpeg:https://www.chiendarret.fr/wp-content/uploads/2021/06/iamalaya.jpg
ORGANIZER;CN="SC CORSE - M. MIGNOT JEAN-CLAUDE":MAILTO:mignot.jeanclaude@wanadoo.fr
END:VEVENT
BEGIN:VEVENT
DTSTART;VALUE=DATE:20210918
DTEND;VALUE=DATE:20210919
DTSTAMP:20260422T154513
CREATED:20210618T232201Z
LAST-MODIFIED:20210624T111031Z
UID:1686-1631923200-1632009599@www.chiendarret.fr
SUMMARY:EGLISENEUVE D ENTRAIGUES - CACIT CONTINENTAUX - ADACAS-63
DESCRIPTION:PAIEMENT PAR CHÈQUE – DATE LIMITE 08/09
URL:https://www.chiendarret.fr/les-concours/egliseneuve-d-entraigues-cacit-continentaux-adacas-63-2/
LOCATION:63850 EGLISENEUVE D ENTRAIGUES\, EGLISENEUVE D ENTRAIGUES\, 63850\, France
CATEGORIES:Fields Trials d'Automne
ATTACH;FMTTYPE=image/jpeg:https://www.chiendarret.fr/wp-content/uploads/2021/06/iamalaya.jpg
ORGANIZER;CN="ADACAS-63 - M. CHAMPAGNAT LAURENT":MAILTO:laurent.champagnat@wanadoo.fr
END:VEVENT
BEGIN:VEVENT
DTSTART;VALUE=DATE:20210918
DTEND;VALUE=DATE:20210919
DTSTAMP:20260422T154513
CREATED:20210619T070353Z
LAST-MODIFIED:20210619T070353Z
UID:1914-1631923200-1632009599@www.chiendarret.fr
SUMMARY:LETIA - CACIT CONTINENTAUX - SC CORSE
DESCRIPTION:
URL:https://www.chiendarret.fr/les-concours/letia-cacit-continentaux-sc-corse/
LOCATION:20160 LETIA\, LETIA\, 20160\, France
CATEGORIES:Fields Trials d'Automne
ATTACH;FMTTYPE=image/jpeg:https://www.chiendarret.fr/wp-content/uploads/2021/06/iamalaya.jpg
ORGANIZER;CN="SC CORSE - M. MIGNOT JEAN-CLAUDE":MAILTO:mignot.jeanclaude@wanadoo.fr
END:VEVENT
BEGIN:VEVENT
DTSTART;VALUE=DATE:20210918
DTEND;VALUE=DATE:20210919
DTSTAMP:20260422T154513
CREATED:20210619T070353Z
LAST-MODIFIED:20210619T070353Z
UID:1915-1631923200-1632009599@www.chiendarret.fr
SUMMARY:LETIA - CACT BRITANNIQUES - SC CORSE
DESCRIPTION:
URL:https://www.chiendarret.fr/les-concours/letia-cact-britanniques-sc-corse/
LOCATION:20160 LETIA\, LETIA\, 20160\, France
CATEGORIES:Fields Trials d'Automne
ATTACH;FMTTYPE=image/jpeg:https://www.chiendarret.fr/wp-content/uploads/2021/06/iamalaya.jpg
ORGANIZER;CN="SC CORSE - M. MIGNOT JEAN-CLAUDE":MAILTO:mignot.jeanclaude@wanadoo.fr
END:VEVENT
BEGIN:VEVENT
DTSTART;VALUE=DATE:20210919
DTEND;VALUE=DATE:20210920
DTSTAMP:20260422T154513
CREATED:20210618T232201Z
LAST-MODIFIED:20210624T111041Z
UID:1685-1632009600-1632095999@www.chiendarret.fr
SUMMARY:EGLISENEUVE D ENTRAIGUES - CACIT BRITANNIQUES - ADACAS-63
DESCRIPTION:PAIEMENT PAR CHÈQUE – DATE LIMITE 08/09
URL:https://www.chiendarret.fr/les-concours/egliseneuve-d-entraigues-cacit-britanniques-adacas-63-2/
LOCATION:63850 EGLISENEUVE D ENTRAIGUES\, EGLISENEUVE D ENTRAIGUES\, 63850\, France
CATEGORIES:Fields Trials d'Automne
ATTACH;FMTTYPE=image/jpeg:https://www.chiendarret.fr/wp-content/uploads/2021/06/iamalaya.jpg
ORGANIZER;CN="ADACAS-63 - M. CHAMPAGNAT LAURENT":MAILTO:laurent.champagnat@wanadoo.fr
END:VEVENT
BEGIN:VEVENT
DTSTART;VALUE=DATE:20210919
DTEND;VALUE=DATE:20210920
DTSTAMP:20260422T154513
CREATED:20210619T070353Z
LAST-MODIFIED:20210619T070353Z
UID:1916-1632009600-1632095999@www.chiendarret.fr
SUMMARY:LETIA 2 - CACIT CONTINENTAUX - SC CORSE
DESCRIPTION:
URL:https://www.chiendarret.fr/les-concours/letia-2-cacit-continentaux-sc-corse/
LOCATION:20160 LETIA\, LETIA\, 20160\, France
CATEGORIES:Fields Trials d'Automne
ATTACH;FMTTYPE=image/jpeg:https://www.chiendarret.fr/wp-content/uploads/2021/06/iamalaya.jpg
ORGANIZER;CN="SC CORSE - M. MIGNOT JEAN-CLAUDE":MAILTO:mignot.jeanclaude@wanadoo.fr
END:VEVENT
BEGIN:VEVENT
DTSTART;VALUE=DATE:20210919
DTEND;VALUE=DATE:20210920
DTSTAMP:20260422T154513
CREATED:20210619T070408Z
LAST-MODIFIED:20210619T070408Z
UID:1917-1632009600-1632095999@www.chiendarret.fr
SUMMARY:LETIA 2 - CACT BRITANNIQUES - SC CORSE
DESCRIPTION:
URL:https://www.chiendarret.fr/les-concours/letia-2-cact-britanniques-sc-corse/
LOCATION:20160 LETIA\, LETIA\, 20160\, France
CATEGORIES:Fields Trials d'Automne
ATTACH;FMTTYPE=image/jpeg:https://www.chiendarret.fr/wp-content/uploads/2021/06/iamalaya.jpg
ORGANIZER;CN="SC CORSE - M. MIGNOT JEAN-CLAUDE":MAILTO:mignot.jeanclaude@wanadoo.fr
END:VEVENT
BEGIN:VEVENT
DTSTART;VALUE=DATE:20210920
DTEND;VALUE=DATE:20210921
DTSTAMP:20260422T154513
CREATED:20210618T232125Z
LAST-MODIFIED:20210619T070053Z
UID:1670-1632096000-1632182399@www.chiendarret.fr
SUMMARY:CORMEILLES EN VEXIN - CACIT CONTINENTAUX - SC ILE DE FRANCE
DESCRIPTION:
URL:https://www.chiendarret.fr/les-concours/cormeilles-en-vexin-cacit-continentaux-sc-ile-de-france-2/
LOCATION:95830 CORMEILLES EN VEXIN\, CORMEILLES EN VEXIN\, 95830\, France
CATEGORIES:Fields Trials d'Automne
ATTACH;FMTTYPE=image/jpeg:https://www.chiendarret.fr/wp-content/uploads/2021/06/iamalaya.jpg
ORGANIZER;CN="SC ILE DE FRANCE - Mme HARDY-BEAUCHOT MARIE-LAURENCE":MAILTO:mlhdecinqasept@club-internet.fr
END:VEVENT
BEGIN:VEVENT
DTSTART;VALUE=DATE:20210920
DTEND;VALUE=DATE:20210921
DTSTAMP:20260422T154513
CREATED:20210618T232125Z
LAST-MODIFIED:20210619T070053Z
UID:1671-1632096000-1632182399@www.chiendarret.fr
SUMMARY:CORMEILLES EN VEXIN - CACT BRITANNIQUES - RA SETTER GORDON
DESCRIPTION:PCF – RASG – RED.CLUB – CHÈQUE À L’ORDRE DE LA RASG
URL:https://www.chiendarret.fr/les-concours/cormeilles-en-vexin-cact-britanniques-ra-setter-gordon-2/
LOCATION:95830 CORMEILLES EN VEXIN\, CORMEILLES EN VEXIN\, 95830\, France
CATEGORIES:Fields Trials d'Automne
ATTACH;FMTTYPE=image/jpeg:https://www.chiendarret.fr/wp-content/uploads/2021/06/iamalaya.jpg
ORGANIZER;CN="RA SETTER GORDON - Mme HARDY-BEAUCHOT MARIE-LAURENCE":MAILTO:mlhdecinqasept@club-internet.fr
END:VEVENT
BEGIN:VEVENT
DTSTART;VALUE=DATE:20210920
DTEND;VALUE=DATE:20210921
DTSTAMP:20260422T154513
CREATED:20210619T070424Z
LAST-MODIFIED:20210619T070424Z
UID:1926-1632096000-1632182399@www.chiendarret.fr
SUMMARY:POLMINHAC - CACIT CONTINENTAUX - SC HTE AUVERGNE
DESCRIPTION:RDV PARKING SALLE DES FETES PALHEROLS 15800
URL:https://www.chiendarret.fr/les-concours/polminhac-cacit-continentaux-sc-hte-auvergne/
LOCATION:15800 POLMINHAC\, POLMINHAC\, 15800\, France
CATEGORIES:Fields Trials d'Automne
ATTACH;FMTTYPE=image/jpeg:https://www.chiendarret.fr/wp-content/uploads/2021/06/iamalaya.jpg
ORGANIZER;CN="SC HTE AUVERGNE - M. MERLE JEAN-CLAUDE":MAILTO:jc_merle@orange.fr
END:VEVENT
BEGIN:VEVENT
DTSTART;VALUE=DATE:20210921
DTEND;VALUE=DATE:20210922
DTSTAMP:20260422T154513
CREATED:20210618T232125Z
LAST-MODIFIED:20210619T070053Z
UID:1672-1632182400-1632268799@www.chiendarret.fr
SUMMARY:CORMEILLES EN VEXIN - CACT BRITANNIQUES - SC ILE DE FRANCE
DESCRIPTION:
URL:https://www.chiendarret.fr/les-concours/cormeilles-en-vexin-cact-britanniques-sc-ile-de-france-2/
LOCATION:95830 CORMEILLES EN VEXIN\, CORMEILLES EN VEXIN\, 95830\, France
CATEGORIES:Fields Trials d'Automne
ATTACH;FMTTYPE=image/jpeg:https://www.chiendarret.fr/wp-content/uploads/2021/06/iamalaya.jpg
ORGANIZER;CN="SC ILE DE FRANCE - Mme HARDY-BEAUCHOT MARIE-LAURENCE":MAILTO:mlhdecinqasept@club-internet.fr
END:VEVENT
BEGIN:VEVENT
DTSTART;VALUE=DATE:20210921
DTEND;VALUE=DATE:20210922
DTSTAMP:20260422T154513
CREATED:20210618T232131Z
LAST-MODIFIED:20210619T070108Z
UID:1673-1632182400-1632268799@www.chiendarret.fr
SUMMARY:CORMEILLES EN VEXIN - CACT CONTINENTAUX - VIZSLA CF
DESCRIPTION:CBF – CEP – CESU – CGK – CABW – CFEML – DCF – VCF –
URL:https://www.chiendarret.fr/les-concours/cormeilles-en-vexin-cact-continentaux-vizsla-cf-2/
LOCATION:95830 CORMEILLES EN VEXIN\, CORMEILLES EN VEXIN\, 95830\, France
CATEGORIES:Fields Trials d'Automne
ATTACH;FMTTYPE=image/jpeg:https://www.chiendarret.fr/wp-content/uploads/2021/06/iamalaya.jpg
ORGANIZER;CN="VIZSLA CF - Mme PARENT NATHALIE":MAILTO:presidente.vcf@gmail.com
END:VEVENT
BEGIN:VEVENT
DTSTART;VALUE=DATE:20210921
DTEND;VALUE=DATE:20210922
DTSTAMP:20260422T154513
CREATED:20210619T070438Z
LAST-MODIFIED:20210619T070438Z
UID:1928-1632182400-1632268799@www.chiendarret.fr
SUMMARY:POLMINHAC 2 - CACIT CONTINENTAUX - SC HTE AUVERGNE
DESCRIPTION:RDV PARKING SALLE DES FETES PALHEROLS 15800
URL:https://www.chiendarret.fr/les-concours/polminhac-2-cacit-continentaux-sc-hte-auvergne/
LOCATION:15800 POLMINHAC\, POLMINHAC\, 15800\, France
CATEGORIES:Fields Trials d'Automne
ATTACH;FMTTYPE=image/jpeg:https://www.chiendarret.fr/wp-content/uploads/2021/06/iamalaya.jpg
ORGANIZER;CN="SC HTE AUVERGNE - M. MERLE JEAN-CLAUDE":MAILTO:jc_merle@orange.fr
END:VEVENT
BEGIN:VEVENT
DTSTART;VALUE=DATE:20210922
DTEND;VALUE=DATE:20210923
DTSTAMP:20260422T154513
CREATED:20210619T070424Z
LAST-MODIFIED:20210619T070424Z
UID:1925-1632268800-1632355199@www.chiendarret.fr
SUMMARY:POLMINHAC - CACIT BRITANNIQUES - SC HTE AUVERGNE
DESCRIPTION:RDV PARKING SALLE DES FETES PALHEROLS 15800
URL:https://www.chiendarret.fr/les-concours/polminhac-cacit-britanniques-sc-hte-auvergne/
LOCATION:15800 POLMINHAC\, POLMINHAC\, 15800\, France
CATEGORIES:Fields Trials d'Automne
ATTACH;FMTTYPE=image/jpeg:https://www.chiendarret.fr/wp-content/uploads/2021/06/iamalaya.jpg
ORGANIZER;CN="SC HTE AUVERGNE - M. MERLE JEAN-CLAUDE":MAILTO:jc_merle@orange.fr
END:VEVENT
BEGIN:VEVENT
DTSTART;VALUE=DATE:20210922
DTEND;VALUE=DATE:20210923
DTSTAMP:20260422T154513
CREATED:20210619T070508Z
LAST-MODIFIED:20210619T070508Z
UID:1940-1632268800-1632355199@www.chiendarret.fr
SUMMARY:THERDONNE - CACT BRITANNIQUES - RA SETTER GORDON
DESCRIPTION:PCF – RASG – RED.CLUB – CHÈQUE À L’ORDRE DE LA RASG
URL:https://www.chiendarret.fr/les-concours/therdonne-cact-britanniques-ra-setter-gordon/
LOCATION:60510 THERDONNE\, THERDONNE\, 60510\, France
CATEGORIES:Fields Trials d'Automne
ATTACH;FMTTYPE=image/jpeg:https://www.chiendarret.fr/wp-content/uploads/2021/06/iamalaya.jpg
ORGANIZER;CN="RA SETTER GORDON - M. GUILBERT YVES":MAILTO:guilbertyv@wanadoo.fr
END:VEVENT
BEGIN:VEVENT
DTSTART;VALUE=DATE:20210922
DTEND;VALUE=DATE:20210923
DTSTAMP:20260422T154513
CREATED:20210619T070508Z
LAST-MODIFIED:20210619T070508Z
UID:1938-1632268800-1632355199@www.chiendarret.fr
SUMMARY:THERDONNE - CACIT CONTINENTAUX - CUSCC-60
DESCRIPTION:REGLEMENT IMPERATIF POUR LE 11 SEPTEMBRE .MERCI
URL:https://www.chiendarret.fr/les-concours/therdonne-cacit-continentaux-cuscc-60/
LOCATION:60510 THERDONNE\, THERDONNE\, 60510\, France
CATEGORIES:Fields Trials d'Automne
ATTACH;FMTTYPE=image/jpeg:https://www.chiendarret.fr/wp-content/uploads/2021/06/iamalaya.jpg
ORGANIZER;CN="CUSCC-60 - M. LEBRUN DOMINIQUE":MAILTO:dominique-lebrun@orange.fr
END:VEVENT
BEGIN:VEVENT
DTSTART;VALUE=DATE:20210923
DTEND;VALUE=DATE:20210924
DTSTAMP:20260422T154513
CREATED:20210619T070438Z
LAST-MODIFIED:20210619T070438Z
UID:1927-1632355200-1632441599@www.chiendarret.fr
SUMMARY:POLMINHAC 2 - CACIT BRITANNIQUES - SC HTE AUVERGNE
DESCRIPTION:RDV PARKING SALLE DES FETES PALHEROLS 15800
URL:https://www.chiendarret.fr/les-concours/polminhac-2-cacit-britanniques-sc-hte-auvergne/
LOCATION:15800 POLMINHAC\, POLMINHAC\, 15800\, France
CATEGORIES:Fields Trials d'Automne
ATTACH;FMTTYPE=image/jpeg:https://www.chiendarret.fr/wp-content/uploads/2021/06/iamalaya.jpg
ORGANIZER;CN="SC HTE AUVERGNE - M. MERLE JEAN-CLAUDE":MAILTO:jc_merle@orange.fr
END:VEVENT
BEGIN:VEVENT
DTSTART;VALUE=DATE:20210923
DTEND;VALUE=DATE:20210924
DTSTAMP:20260422T154513
CREATED:20210619T070508Z
LAST-MODIFIED:20210619T070508Z
UID:1939-1632355200-1632441599@www.chiendarret.fr
SUMMARY:THERDONNE - CACIT CONTINENTAUX - DRAHTHAAR CF
DESCRIPTION:
URL:https://www.chiendarret.fr/les-concours/therdonne-cacit-continentaux-drahthaar-cf/
LOCATION:60510 THERDONNE\, THERDONNE\, 60510\, France
CATEGORIES:Fields Trials d'Automne
ATTACH;FMTTYPE=image/jpeg:https://www.chiendarret.fr/wp-content/uploads/2021/06/iamalaya.jpg
ORGANIZER;CN="DRAHTHAAR CF - M. LEBRUN DOMINIQUE":MAILTO:dominique-lebrun@orange.fr
END:VEVENT
BEGIN:VEVENT
DTSTART;VALUE=DATE:20210923
DTEND;VALUE=DATE:20210924
DTSTAMP:20260422T154513
CREATED:20210619T070508Z
LAST-MODIFIED:20210619T070508Z
UID:1937-1632355200-1632441599@www.chiendarret.fr
SUMMARY:THERDONNE - CACIT BRITANNIQUES - CUSCC-60
DESCRIPTION:REGLEMENT IMPERATIF POUR LE 11 SEPTEMBRE .MERCI
URL:https://www.chiendarret.fr/les-concours/therdonne-cacit-britanniques-cuscc-60/
LOCATION:60510 THERDONNE\, THERDONNE\, 60510\, France
CATEGORIES:Fields Trials d'Automne
ATTACH;FMTTYPE=image/jpeg:https://www.chiendarret.fr/wp-content/uploads/2021/06/iamalaya.jpg
ORGANIZER;CN="CUSCC-60 - M. LEBRUN DOMINIQUE":MAILTO:dominique-lebrun@orange.fr
END:VEVENT
BEGIN:VEVENT
DTSTART;VALUE=DATE:20210924
DTEND;VALUE=DATE:20210925
DTSTAMP:20260422T154513
CREATED:20210619T070509Z
LAST-MODIFIED:20210619T070509Z
UID:1941-1632441600-1632527999@www.chiendarret.fr
SUMMARY:THERDONNE 2 - CACIT CONTINENTAUX - CUSCC-60
DESCRIPTION:REGLEMENT IMPERATIF POUR LE 11 SEPTEMBRE .MERCI
URL:https://www.chiendarret.fr/les-concours/therdonne-2-cacit-continentaux-cuscc-60/
LOCATION:60510 THERDONNE\, THERDONNE\, 60510\, France
CATEGORIES:Fields Trials d'Automne
ATTACH;FMTTYPE=image/jpeg:https://www.chiendarret.fr/wp-content/uploads/2021/06/iamalaya.jpg
ORGANIZER;CN="CUSCC-60 - M. LEBRUN DOMINIQUE":MAILTO:dominique-lebrun@orange.fr
END:VEVENT
BEGIN:VEVENT
DTSTART;VALUE=DATE:20210924
DTEND;VALUE=DATE:20210925
DTSTAMP:20260422T154513
CREATED:20210619T070523Z
LAST-MODIFIED:20210619T070523Z
UID:1942-1632441600-1632527999@www.chiendarret.fr
SUMMARY:THERDONNE 2 - CACT BRITANNIQUES - RA SETTER GORDON
DESCRIPTION:PCF – RASG – RED.CLUB – CHÈQUE À L’ORDRE DE LA RASG
URL:https://www.chiendarret.fr/les-concours/therdonne-2-cact-britanniques-ra-setter-gordon/
LOCATION:60510 THERDONNE\, THERDONNE\, 60510\, France
CATEGORIES:Fields Trials d'Automne
ATTACH;FMTTYPE=image/jpeg:https://www.chiendarret.fr/wp-content/uploads/2021/06/iamalaya.jpg
ORGANIZER;CN="RA SETTER GORDON - M. GUILBERT YVES":MAILTO:guilbertyv@wanadoo.fr
END:VEVENT
BEGIN:VEVENT
DTSTART;VALUE=DATE:20210925
DTEND;VALUE=DATE:20210926
DTSTAMP:20260422T154513
CREATED:20210618T232008Z
LAST-MODIFIED:20210619T065938Z
UID:1639-1632528000-1632614399@www.chiendarret.fr
SUMMARY:BERNY EN SANTERRE - CACT CONTINENTAUX - C GRIFFON KORTHALS
DESCRIPTION:CBSG – CEB – CEF – CEP – CGK – CABW – CFEML – VCF –
URL:https://www.chiendarret.fr/les-concours/berny-en-santerre-cact-continentaux-c-griffon-korthals-2/
LOCATION:80200 BERNY EN SANTERRE\, BERNY EN SANTERRE\, 80200\, France
CATEGORIES:Fields Trials d'Automne
ATTACH;FMTTYPE=image/jpeg:https://www.chiendarret.fr/wp-content/uploads/2021/06/iamalaya.jpg
ORGANIZER;CN="C GRIFFON KORTHALS - M. DEBRET PIERRE":MAILTO:pierre.debret@wanadoo.fr
END:VEVENT
BEGIN:VEVENT
DTSTART;VALUE=DATE:20210925
DTEND;VALUE=DATE:20210926
DTSTAMP:20260422T154513
CREATED:20210618T232040Z
LAST-MODIFIED:20210619T070008Z
UID:1653-1632528000-1632614399@www.chiendarret.fr
SUMMARY:CHALONS EN CHAMPAGNE - CACT BRITANNIQUES - POINTER CF
DESCRIPTION:CSA – PCF – RED.CLUB –
URL:https://www.chiendarret.fr/les-concours/chalons-en-champagne-cact-britanniques-pointer-cf-2/
LOCATION:51000 CHALONS EN CHAMPAGNE\, CHALONS EN CHAMPAGNE\, 51000\, France
CATEGORIES:Fields Trials d'Automne
ATTACH;FMTTYPE=image/jpeg:https://www.chiendarret.fr/wp-content/uploads/2021/06/iamalaya.jpg
END:VEVENT
END:VCALENDAR