BEGIN:VCALENDAR
VERSION:2.0
PRODID:-//Chiens d&#039;arrêt - ECPv6.8.3//NONSGML v1.0//EN
CALSCALE:GREGORIAN
METHOD:PUBLISH
X-WR-CALNAME:Chiens d&#039;arrêt
X-ORIGINAL-URL:https://www.chiendarret.fr
X-WR-CALDESC:Évènements pour Chiens d&#039;arrêt
REFRESH-INTERVAL;VALUE=DURATION:PT1H
X-Robots-Tag:noindex
X-PUBLISHED-TTL:PT1H
BEGIN:VTIMEZONE
TZID:Europe/Paris
BEGIN:DAYLIGHT
TZOFFSETFROM:+0100
TZOFFSETTO:+0200
TZNAME:CEST
DTSTART:20220327T010000
END:DAYLIGHT
BEGIN:STANDARD
TZOFFSETFROM:+0200
TZOFFSETTO:+0100
TZNAME:CET
DTSTART:20221030T010000
END:STANDARD
END:VTIMEZONE
BEGIN:VEVENT
DTSTART;VALUE=DATE:20221101
DTEND;VALUE=DATE:20221102
DTSTAMP:20260420T031200
CREATED:20220617T204134Z
LAST-MODIFIED:20220617T204135Z
UID:4098-1667260800-1667347199@www.chiendarret.fr
SUMMARY:DURANCE - FTA SC LOT ET GARONNE - 01/11/22
DESCRIPTION:
URL:https://www.chiendarret.fr/les-concours/durance-fta-sc-lot-et-garonne-01-11-22/
LOCATION:47420 DURANCE\, DURANCE\, 47420\, France
CATEGORIES:Fields Trials d'Automne
ORGANIZER;CN="SC LOT ET GARONNE - M. FLOIRAS PIERRE":MAILTO:pierre.floiras47@gmail.com
END:VEVENT
BEGIN:VEVENT
DTSTART;VALUE=DATE:20221102
DTEND;VALUE=DATE:20221103
DTSTAMP:20260420T031200
CREATED:20220617T204035Z
LAST-MODIFIED:20220617T204049Z
UID:4081-1667347200-1667433599@www.chiendarret.fr
SUMMARY:VILLETOUREIX - FTA SC DORDOGNE - 02/11/22
DESCRIPTION:
URL:https://www.chiendarret.fr/les-concours/villetoureix-fta-sc-dordogne-02-11-22/
LOCATION:24600 VILLETOUREIX\, VILLETOUREIX\, 24600\, France
CATEGORIES:Fields Trials d'Automne
ORGANIZER;CN="SC DORDOGNE - M. FOUCHE CLAUDE":MAILTO:claudius9696@orange.fr
END:VEVENT
BEGIN:VEVENT
DTSTART;VALUE=DATE:20221103
DTEND;VALUE=DATE:20221104
DTSTAMP:20260420T031200
CREATED:20220617T204049Z
LAST-MODIFIED:20220617T204050Z
UID:4082-1667433600-1667519999@www.chiendarret.fr
SUMMARY:VILLETOUREIX - FTA SC DORDOGNE - 03/11/22
DESCRIPTION:
URL:https://www.chiendarret.fr/les-concours/villetoureix-fta-sc-dordogne-03-11-22/
LOCATION:24600 VILLETOUREIX\, VILLETOUREIX\, 24600\, France
CATEGORIES:Fields Trials d'Automne
ORGANIZER;CN="SC DORDOGNE - M. FOUCHE CLAUDE":MAILTO:claudius9696@orange.fr
END:VEVENT
BEGIN:VEVENT
DTSTART;VALUE=DATE:20221104
DTEND;VALUE=DATE:20221105
DTSTAMP:20260420T031200
CREATED:20220617T204020Z
LAST-MODIFIED:20220617T204020Z
UID:4076-1667520000-1667606399@www.chiendarret.fr
SUMMARY:NEUVICQ LE CHATEAU - FTA 2 CUSCA-17 - 04/11/22
DESCRIPTION:RDV LE RELAIS DE VERDILLE 16140 VERDILLE 8H30
URL:https://www.chiendarret.fr/les-concours/neuvicq-le-chateau-fta-2-cusca-17-04-11-22/
LOCATION:17490 NEUVICQ LE CHATEAU\, NEUVICQ LE CHATEAU\, 17490
CATEGORIES:Fields Trials d'Automne
ORGANIZER;CN="CUSCA-17 - M. MEUNIER GUY":MAILTO:guymeunier742882@aol.com
END:VEVENT
BEGIN:VEVENT
DTSTART;VALUE=DATE:20221104
DTEND;VALUE=DATE:20221105
DTSTAMP:20260420T031200
CREATED:20220617T204020Z
LAST-MODIFIED:20220617T204020Z
UID:4075-1667520000-1667606399@www.chiendarret.fr
SUMMARY:NEUVICQ LE CHATEAU - FTA CUSCA-17 - 04/11/22
DESCRIPTION:RDV LE RELAIS DE VERDILLE 16140 VERDILLE 8H30
URL:https://www.chiendarret.fr/les-concours/neuvicq-le-chateau-fta-cusca-17-04-11-22/
LOCATION:17490 NEUVICQ LE CHATEAU\, NEUVICQ LE CHATEAU\, 17490
CATEGORIES:Fields Trials d'Automne
ORGANIZER;CN="CUSCA-17 - M. MEUNIER GUY":MAILTO:guymeunier742882@aol.com
END:VEVENT
BEGIN:VEVENT
DTSTART;VALUE=DATE:20221105
DTEND;VALUE=DATE:20221106
DTSTAMP:20260420T031200
CREATED:20220617T204019Z
LAST-MODIFIED:20220617T204019Z
UID:4073-1667606400-1667692799@www.chiendarret.fr
SUMMARY:VAL D AUGE - FTA CUSCA-16 - 05/11/22
DESCRIPTION:RDV : RESTAURANT « LA BELLE ETAPE » DE VERDILLE 16170
URL:https://www.chiendarret.fr/les-concours/val-d-auge-fta-cusca-16-05-11-22/
LOCATION:16170 VAL D AUGE\, VAL D AUGE\, 16170\, France
CATEGORIES:Fields Trials d'Automne
ORGANIZER;CN="CUSCA-16 - M. PICARD CHRISTIAN":MAILTO:picard_christ@live.fr
END:VEVENT
BEGIN:VEVENT
DTSTART;VALUE=DATE:20221105
DTEND;VALUE=DATE:20221106
DTSTAMP:20260420T031200
CREATED:20220617T204020Z
LAST-MODIFIED:20220617T204020Z
UID:4074-1667606400-1667692799@www.chiendarret.fr
SUMMARY:VAL D AUGE - FTA 2 CUSCA-16 - 05/11/22
DESCRIPTION:RDV : RESTAURANT « LA BELLE ETAPE » DE VERDILLE 16170
URL:https://www.chiendarret.fr/les-concours/val-d-auge-fta-2-cusca-16-05-11-22/
LOCATION:16170 VAL D AUGE\, VAL D AUGE\, 16170\, France
CATEGORIES:Fields Trials d'Automne
ORGANIZER;CN="CUSCA-16 - M. PICARD CHRISTIAN":MAILTO:picard_christ@live.fr
END:VEVENT
BEGIN:VEVENT
DTSTART;VALUE=DATE:20221105
DTEND;VALUE=DATE:20221106
DTSTAMP:20260420T031200
CREATED:20220617T210228Z
LAST-MODIFIED:20220617T210228Z
UID:4178-1667606400-1667692799@www.chiendarret.fr
SUMMARY:CAGNICOURT - FTGN C BRAQUE ST GERMAIN - 05/11/22
DESCRIPTION:
URL:https://www.chiendarret.fr/les-concours/cagnicourt-ftgn-c-braque-st-germain-05-11-22/
LOCATION:62182 CAGNICOURT\, CAGNICOURT\, 62182\, France
CATEGORIES:Fields Trials Gibier Naturel
ORGANIZER;CN="C BRAQUE ST GERMAIN - Mme FAUQUEMBERT CATHERINE":MAILTO:fauquembert.catherine@orange.fr
END:VEVENT
BEGIN:VEVENT
DTSTART;VALUE=DATE:20221106
DTEND;VALUE=DATE:20221107
DTSTAMP:20260420T031200
CREATED:20220617T203153Z
LAST-MODIFIED:20220617T203153Z
UID:4029-1667692800-1667779199@www.chiendarret.fr
SUMMARY:VAL D AUGE - FTA RA BRAQUE AUVERGNE - 06/11/22
DESCRIPTION:
URL:https://www.chiendarret.fr/les-concours/val-d-auge-fta-ra-braque-auvergne-06-11-22/
LOCATION:16170 VAL D AUGE\, VAL D AUGE\, 16170\, France
CATEGORIES:Fields Trials d'Automne
ORGANIZER;CN="RA BRAQUE AUVERGNE - M. VIAUD JEAN-LOUIS":MAILTO:jlviaud@gmail.com
END:VEVENT
BEGIN:VEVENT
DTSTART;VALUE=DATE:20221106
DTEND;VALUE=DATE:20221107
DTSTAMP:20260420T031200
CREATED:20220617T205020Z
LAST-MODIFIED:20220617T205020Z
UID:4148-1667692800-1667779199@www.chiendarret.fr
SUMMARY:CAGNICOURT - FTGN C BRAQUE ST GERMAIN - 06/11/22
DESCRIPTION:CBSG – CEB – CEP – CGK – APBW – CFBA – RABA – VCF –
URL:https://www.chiendarret.fr/les-concours/cagnicourt-ftgn-c-braque-st-germain-06-11-22/
LOCATION:62182 CAGNICOURT\, CAGNICOURT\, 62182\, France
CATEGORIES:Fields Trials Gibier Naturel
ORGANIZER;CN="C BRAQUE ST GERMAIN - Mme FAUQUEMBERT CATHERINE":MAILTO:fauquembert.catherine@orange.fr
END:VEVENT
BEGIN:VEVENT
DTSTART;VALUE=DATE:20221107
DTEND;VALUE=DATE:20221108
DTSTAMP:20260420T031200
CREATED:20220617T203153Z
LAST-MODIFIED:20220617T203153Z
UID:4030-1667779200-1667865599@www.chiendarret.fr
SUMMARY:VAL D AUGE - FTA C EPAGNEUL FRANCAIS - 07/11/22
DESCRIPTION:RDV RESTAURANT LA BELLE ETAPE A VERDILLE
URL:https://www.chiendarret.fr/les-concours/val-d-auge-fta-c-epagneul-francais-07-11-22/
LOCATION:16170 VAL D AUGE\, VAL D AUGE\, 16170\, France
CATEGORIES:Fields Trials d'Automne
ORGANIZER;CN="C EPAGNEUL FRANCAIS - M. MEUNIER GUY":MAILTO:guymeunier742882@aol.com
END:VEVENT
BEGIN:VEVENT
DTSTART;VALUE=DATE:20221108
DTEND;VALUE=DATE:20221109
DTSTAMP:20260420T031200
CREATED:20220617T202819Z
LAST-MODIFIED:20220617T202819Z
UID:4013-1667865600-1667951999@www.chiendarret.fr
SUMMARY:AUGE ST MEDARD - FTA C GRIFFON KORTHALS - 08/11/22
DESCRIPTION:CEB – CEF – CGK – APBW – CFBA – CFEML – DCF – RABA –
URL:https://www.chiendarret.fr/les-concours/auge-st-medard-fta-c-griffon-korthals-08-11-22/
LOCATION:16170 VAL D AUGE\, VAL D AUGE\, 16170\, France
CATEGORIES:Fields Trials d'Automne
ORGANIZER;CN="C GRIFFON KORTHALS - M. PICARD CHRISTIAN":MAILTO:picard_christ@live.fr
END:VEVENT
BEGIN:VEVENT
DTSTART;VALUE=DATE:20221109
DTEND;VALUE=DATE:20221110
DTSTAMP:20260420T031200
CREATED:20220617T203154Z
LAST-MODIFIED:20220617T203154Z
UID:4031-1667952000-1668038399@www.chiendarret.fr
SUMMARY:VAL D AUGE - FTA C EPAGNEUL FRANCAIS - 09/11/22
DESCRIPTION:RDV RESTAURANT LA BELLE ETAPE A VERDILLE SOLO UNIQUEMENT
URL:https://www.chiendarret.fr/les-concours/val-d-auge-fta-c-epagneul-francais-09-11-22/
LOCATION:16170 VAL D AUGE\, VAL D AUGE\, 16170\, France
CATEGORIES:Fields Trials d'Automne
ORGANIZER;CN="C EPAGNEUL FRANCAIS - M. MEUNIER GUY":MAILTO:guymeunier742882@aol.com
END:VEVENT
BEGIN:VEVENT
DTSTART;VALUE=DATE:20221109
DTEND;VALUE=DATE:20221110
DTSTAMP:20260420T031200
CREATED:20220617T203353Z
LAST-MODIFIED:20220617T203353Z
UID:4032-1667952000-1668038399@www.chiendarret.fr
SUMMARY:VAL D AUGE - FTA RA BRAQUE AUVERGNE - 09/11/22
DESCRIPTION:
URL:https://www.chiendarret.fr/les-concours/val-d-auge-fta-ra-braque-auvergne-09-11-22/
LOCATION:16170 VAL D AUGE\, VAL D AUGE\, 16170\, France
CATEGORIES:Fields Trials d'Automne
ORGANIZER;CN="RA BRAQUE AUVERGNE - M. VIAUD JEAN-LOUIS":MAILTO:jlviaud@gmail.com
END:VEVENT
BEGIN:VEVENT
DTSTART;VALUE=DATE:20221109
DTEND;VALUE=DATE:20221110
DTSTAMP:20260420T031200
CREATED:20220617T203857Z
LAST-MODIFIED:20220617T203857Z
UID:4056-1667952000-1668038399@www.chiendarret.fr
SUMMARY:AUGE ST MEDARD - FTA C GRIFFON KORTHALS - 09/11/22
DESCRIPTION:
URL:https://www.chiendarret.fr/les-concours/auge-st-medard-fta-c-griffon-korthals-09-11-22/
LOCATION:16170 VAL D AUGE\, VAL D AUGE\, 16170\, France
CATEGORIES:Fields Trials d'Automne
ORGANIZER;CN="C GRIFFON KORTHALS - M. PICARD CHRISTIAN":MAILTO:picard_christ@live.fr
END:VEVENT
BEGIN:VEVENT
DTSTART;VALUE=DATE:20221112
DTEND;VALUE=DATE:20221113
DTSTAMP:20260420T031200
CREATED:20220615T215326Z
LAST-MODIFIED:20220617T202027Z
UID:3817-1668211200-1668297599@www.chiendarret.fr
SUMMARY:VARENGUEBEC - FTA C GRIFFON KORTHALS - 12/11/22
DESCRIPTION:CBF – CEB – CEF – CGK – APBW – CFBA – CFEML – VCF –
URL:https://www.chiendarret.fr/les-concours/varenguebec-fta-c-griffon-korthals-12-11-22/
LOCATION:50250 VARENGUEBEC\, VARENGUEBEC\, 50250
CATEGORIES:Fields Trials d'Automne
ORGANIZER;CN="C GRIFFON KORTHALS - M. GAULTIER GILBERT":MAILTO:gaultier.gilbert@orange.fr
END:VEVENT
BEGIN:VEVENT
DTSTART;VALUE=DATE:20221125
DTEND;VALUE=DATE:20221126
DTSTAMP:20260420T031200
CREATED:20220617T210228Z
LAST-MODIFIED:20220617T210228Z
UID:4181-1669334400-1669420799@www.chiendarret.fr
SUMMARY:ROHRWILLER - FTGN CF EML - 25/11/22
DESCRIPTION:
URL:https://www.chiendarret.fr/les-concours/rohrwiller-ftgn-cf-eml-25-11-22/
LOCATION:67410 ROHRWILLER\, ROHRWILLER\, 67410\, France
CATEGORIES:Fields Trials Gibier Naturel
ORGANIZER;CN="CF EML - M. REISSER LIONEL":MAILTO:lio1reisser@free.fr
END:VEVENT
BEGIN:VEVENT
DTSTART;VALUE=DATE:20221126
DTEND;VALUE=DATE:20221127
DTSTAMP:20260420T031200
CREATED:20220617T202618Z
LAST-MODIFIED:20220617T202618Z
UID:4008-1669420800-1669507199@www.chiendarret.fr
SUMMARY:MOLLIENS DREUIL - FTA C EPAGNEUL PICARD - 26/11/22
DESCRIPTION:CBF – CBSG – CEF – CEP – CESU – RABA – VCF – CBB – CLOTURE ENGAGEMENTS 16/12/2022
URL:https://www.chiendarret.fr/les-concours/molliens-dreuil-fta-c-epagneul-picard-26-11-22/
LOCATION:80540 MOLLIENS DREUIL\, MOLLIENS DREUIL\, 80540\, France
CATEGORIES:Fields Trials d'Automne
ORGANIZER;CN="C EPAGNEUL PICARD - M. BRUTELLE WILLIAM":MAILTO:william.brutelle@wanadoo.fr
END:VEVENT
BEGIN:VEVENT
DTSTART;VALUE=DATE:20221126
DTEND;VALUE=DATE:20221127
DTSTAMP:20260420T031200
CREATED:20220617T210228Z
LAST-MODIFIED:20220617T210228Z
UID:4179-1669420800-1669507199@www.chiendarret.fr
SUMMARY:ROHRWILLER - FTGN CF EML - 26/11/22
DESCRIPTION:
URL:https://www.chiendarret.fr/les-concours/rohrwiller-ftgn-cf-eml-26-11-22/
LOCATION:67410 ROHRWILLER\, ROHRWILLER\, 67410\, France
CATEGORIES:Fields Trials Gibier Naturel
ORGANIZER;CN="CF EML - M. REISSER LIONEL":MAILTO:lio1reisser@free.fr
END:VEVENT
BEGIN:VEVENT
DTSTART;VALUE=DATE:20221127
DTEND;VALUE=DATE:20221128
DTSTAMP:20260420T031200
CREATED:20220617T210228Z
LAST-MODIFIED:20220617T210228Z
UID:4180-1669507200-1669593599@www.chiendarret.fr
SUMMARY:ROHRWILLER - FTGN CF EML - 27/11/22
DESCRIPTION:
URL:https://www.chiendarret.fr/les-concours/rohrwiller-ftgn-cf-eml-27-11-22/
LOCATION:67410 ROHRWILLER\, ROHRWILLER\, 67410\, France
CATEGORIES:Fields Trials Gibier Naturel
ORGANIZER;CN="CF EML - M. REISSER LIONEL":MAILTO:lio1reisser@free.fr
END:VEVENT
BEGIN:VEVENT
DTSTART;VALUE=DATE:20221128
DTEND;VALUE=DATE:20221129
DTSTAMP:20260420T031200
CREATED:20220615T215343Z
LAST-MODIFIED:20220617T204515Z
UID:3831-1669593600-1669679999@www.chiendarret.fr
SUMMARY:LANCOME - FTGN RED CLUB - 28/11/22
DESCRIPTION:CSA – PCF – RASG – RED.CLUB – SOLO UNIQUEMENT CHEQUE CUSCA 41 8 CHIENS MAXI
URL:https://www.chiendarret.fr/les-concours/lancome-ftgn-red-club-28-11-22/
LOCATION:41190 LANCOME\, LANCOME\, 41190\, France
CATEGORIES:Fields Trials Gibier Naturel
ORGANIZER;CN="RED CLUB - M. MATHIEU JACQUES":MAILTO:jac.mathieu@outlook.com
END:VEVENT
BEGIN:VEVENT
DTSTART;VALUE=DATE:20221128
DTEND;VALUE=DATE:20221129
DTSTAMP:20260420T031200
CREATED:20220615T215344Z
LAST-MODIFIED:20220617T204515Z
UID:3833-1669593600-1669679999@www.chiendarret.fr
SUMMARY:LANCOME - FTGN VIZSLA CF - 28/11/22
DESCRIPTION:CBF – CEF – CGK – APBW – CFEML – DCF – RABA – VCF – CHEQUE CUSCA 41. 8 CHIENS MAX/CONCURRENT
URL:https://www.chiendarret.fr/les-concours/lancome-ftgn-vizsla-cf-28-11-22/
LOCATION:41190 LANCOME\, LANCOME\, 41190\, France
CATEGORIES:Fields Trials Gibier Naturel
ORGANIZER;CN="VIZSLA CF - M. MATHIEU JACQUES":MAILTO:jac.mathieu@outlook.com
END:VEVENT
BEGIN:VEVENT
DTSTART;VALUE=DATE:20221128
DTEND;VALUE=DATE:20221129
DTSTAMP:20260420T031200
CREATED:20220617T205802Z
LAST-MODIFIED:20220617T205802Z
UID:4171-1669593600-1669679999@www.chiendarret.fr
SUMMARY:LANCOME - FTGN RA SETTER GORDON - 28/11/22
DESCRIPTION:CHEQUE CUSCA 41
URL:https://www.chiendarret.fr/les-concours/lancome-ftgn-ra-setter-gordon-28-11-22/
LOCATION:41190 LANCOME\, LANCOME\, 41190\, France
CATEGORIES:Fields Trials Gibier Naturel
ORGANIZER;CN="RA SETTER GORDON - M. MATHIEU JACQUES":MAILTO:jac.mathieu@outlook.com
END:VEVENT
BEGIN:VEVENT
DTSTART;VALUE=DATE:20221128
DTEND;VALUE=DATE:20221129
DTSTAMP:20260420T031200
CREATED:20220617T210215Z
LAST-MODIFIED:20220617T210215Z
UID:4173-1669593600-1669679999@www.chiendarret.fr
SUMMARY:LANCOME - FTGN C EPAGNEUL BRETON - 28/11/22
DESCRIPTION:CHEQUE CUSCA 41 8 CHIENS/CONDUCTEUR
URL:https://www.chiendarret.fr/les-concours/lancome-ftgn-c-epagneul-breton-28-11-22/
LOCATION:41190 LANCOME\, LANCOME\, 41190\, France
CATEGORIES:Fields Trials Gibier Naturel
ORGANIZER;CN="C EPAGNEUL BRETON - M. MATHIEU JACQUES":MAILTO:jac.mathieu@outlook.com
END:VEVENT
BEGIN:VEVENT
DTSTART;VALUE=DATE:20221129
DTEND;VALUE=DATE:20221130
DTSTAMP:20260420T031200
CREATED:20220615T215343Z
LAST-MODIFIED:20220617T204515Z
UID:3832-1669680000-1669766399@www.chiendarret.fr
SUMMARY:LANCOME - FTGN RED CLUB - 29/11/22
DESCRIPTION:CSA – PCF – RASG – RED.CLUB – SOLO UNIQUEMENT CHEQUE CUSCA 41 8 CHIENS MAXI
URL:https://www.chiendarret.fr/les-concours/lancome-ftgn-red-club-29-11-22/
LOCATION:41190 LANCOME\, LANCOME\, 41190\, France
CATEGORIES:Fields Trials Gibier Naturel
ORGANIZER;CN="RED CLUB - M. MATHIEU JACQUES":MAILTO:jac.mathieu@outlook.com
END:VEVENT
BEGIN:VEVENT
DTSTART;VALUE=DATE:20221129
DTEND;VALUE=DATE:20221130
DTSTAMP:20260420T031200
CREATED:20220615T215344Z
LAST-MODIFIED:20220617T204515Z
UID:3834-1669680000-1669766399@www.chiendarret.fr
SUMMARY:LANCOME - FTGN VIZSLA CF - 29/11/22
DESCRIPTION:CBF – CEF – CGK – APBW – CFEML – DCF – RABA – VCF – CHEQUE CUSCA 41. 8 CHIENS MAX/CONCURRENT
URL:https://www.chiendarret.fr/les-concours/lancome-ftgn-vizsla-cf-29-11-22/
LOCATION:41190 LANCOME\, LANCOME\, 41190\, France
CATEGORIES:Fields Trials Gibier Naturel
ORGANIZER;CN="VIZSLA CF - M. MATHIEU JACQUES":MAILTO:jac.mathieu@outlook.com
END:VEVENT
BEGIN:VEVENT
DTSTART;VALUE=DATE:20221129
DTEND;VALUE=DATE:20221130
DTSTAMP:20260420T031200
CREATED:20220617T210215Z
LAST-MODIFIED:20220617T210215Z
UID:4172-1669680000-1669766399@www.chiendarret.fr
SUMMARY:LANCOME - FTGN RA SETTER GORDON - 29/11/22
DESCRIPTION:CHEQUE CUSCA 41
URL:https://www.chiendarret.fr/les-concours/lancome-ftgn-ra-setter-gordon-29-11-22/
LOCATION:41190 LANCOME\, LANCOME\, 41190\, France
CATEGORIES:Fields Trials Gibier Naturel
ORGANIZER;CN="RA SETTER GORDON - M. MATHIEU JACQUES":MAILTO:jac.mathieu@outlook.com
END:VEVENT
BEGIN:VEVENT
DTSTART;VALUE=DATE:20221129
DTEND;VALUE=DATE:20221130
DTSTAMP:20260420T031200
CREATED:20220617T210215Z
LAST-MODIFIED:20220617T210215Z
UID:4174-1669680000-1669766399@www.chiendarret.fr
SUMMARY:LANCOME - FTGN C EPAGNEUL BRETON - 29/11/22
DESCRIPTION:CHEQUE ORDRE CUSCA41 8 CHIENS/CONDUCTEUR
URL:https://www.chiendarret.fr/les-concours/lancome-ftgn-c-epagneul-breton-29-11-22/
LOCATION:41190 LANCOME\, LANCOME\, 41190\, France
CATEGORIES:Fields Trials Gibier Naturel
ORGANIZER;CN="C EPAGNEUL BRETON - M. MATHIEU JACQUES":MAILTO:jac.mathieu@outlook.com
END:VEVENT
BEGIN:VEVENT
DTSTART;VALUE=DATE:20221130
DTEND;VALUE=DATE:20221201
DTSTAMP:20260420T031200
CREATED:20220617T204314Z
LAST-MODIFIED:20220617T204314Z
UID:4131-1669766400-1669852799@www.chiendarret.fr
SUMMARY:BUSLOUP - FTGN RA SETTER GORDON - 30/11/22
DESCRIPTION:CSA – PCF – RASG – RED.CLUB – SOLOS UNIQUEMENT – CHEQUE ORDRE CUSCA 41
URL:https://www.chiendarret.fr/les-concours/busloup-ftgn-ra-setter-gordon-30-11-22/
LOCATION:41160 BUSLOUP\, BUSLOUP\, 41160\, France
CATEGORIES:Fields Trials Gibier Naturel
ORGANIZER;CN="RA SETTER GORDON - M. MATHIEU JACQUES":MAILTO:jac.mathieu@outlook.com
END:VEVENT
BEGIN:VEVENT
DTSTART;VALUE=DATE:20221130
DTEND;VALUE=DATE:20221201
DTSTAMP:20260420T031200
CREATED:20220617T205801Z
LAST-MODIFIED:20220617T205801Z
UID:4167-1669766400-1669852799@www.chiendarret.fr
SUMMARY:BUSLOUP - FTGN RED CLUB - 30/11/22
DESCRIPTION:CHEQUE ORDRE CUSCA 41 8 CHIENS MAXI
URL:https://www.chiendarret.fr/les-concours/busloup-ftgn-red-club-30-11-22/
LOCATION:41160 BUSLOUP\, BUSLOUP\, 41160\, France
CATEGORIES:Fields Trials Gibier Naturel
ORGANIZER;CN="RED CLUB - M. MATHIEU JACQUES":MAILTO:jac.mathieu@outlook.com
END:VEVENT
END:VCALENDAR