BEGIN:VCALENDAR
VERSION:2.0
PRODID:-//Chiens d&#039;arrêt - ECPv6.8.3//NONSGML v1.0//EN
CALSCALE:GREGORIAN
METHOD:PUBLISH
X-WR-CALNAME:Chiens d&#039;arrêt
X-ORIGINAL-URL:https://www.chiendarret.fr
X-WR-CALDESC:Évènements pour Chiens d&#039;arrêt
REFRESH-INTERVAL;VALUE=DURATION:PT1H
X-Robots-Tag:noindex
X-PUBLISHED-TTL:PT1H
BEGIN:VTIMEZONE
TZID:Europe/Paris
BEGIN:DAYLIGHT
TZOFFSETFROM:+0100
TZOFFSETTO:+0200
TZNAME:CEST
DTSTART:20220327T010000
END:DAYLIGHT
BEGIN:STANDARD
TZOFFSETFROM:+0200
TZOFFSETTO:+0100
TZNAME:CET
DTSTART:20221030T010000
END:STANDARD
END:VTIMEZONE
BEGIN:VEVENT
DTSTART;VALUE=DATE:20221001
DTEND;VALUE=DATE:20221002
DTSTAMP:20260420T044327
CREATED:20220617T203840Z
LAST-MODIFIED:20220617T203840Z
UID:4048-1664582400-1664668799@www.chiendarret.fr
SUMMARY:DAMERY - FTA VIZSLA CF - 01/10/22
DESCRIPTION:
URL:https://www.chiendarret.fr/les-concours/damery-fta-vizsla-cf-01-10-22/
LOCATION:51480 DAMERY\, DAMERY\, 51480
CATEGORIES:Fields Trials d'Automne
ORGANIZER;CN="VIZSLA CF - Mme PARENT NATHALIE":MAILTO:presidente.vcf@gmail.com
END:VEVENT
BEGIN:VEVENT
DTSTART;VALUE=DATE:20221001
DTEND;VALUE=DATE:20221002
DTSTAMP:20260420T044327
CREATED:20220617T203949Z
LAST-MODIFIED:20220617T203949Z
UID:4064-1664582400-1664668799@www.chiendarret.fr
SUMMARY:ANCELLE - FTA ACT-SCMCA - 01/10/22
DESCRIPTION:
URL:https://www.chiendarret.fr/les-concours/ancelle-fta-act-scmca-01-10-22/
LOCATION:5260 ANCELLE\, ANCELLE\, 5260
CATEGORIES:Fields Trials d'Automne
ORGANIZER;CN="ACT-SCMCA - M. JUIF DANIEL":MAILTO:daniel.juif@wanadoo.fr
END:VEVENT
BEGIN:VEVENT
DTSTART;VALUE=DATE:20221001
DTEND;VALUE=DATE:20221002
DTSTAMP:20260420T044327
CREATED:20220617T204135Z
LAST-MODIFIED:20220617T204135Z
UID:4101-1664582400-1664668799@www.chiendarret.fr
SUMMARY:DAMERY - FTA ACT NORD-PICARDIE - 01/10/22
DESCRIPTION:CLOTURE ENGAGEMENTS 20/09
URL:https://www.chiendarret.fr/les-concours/damery-fta-act-nord-picardie-01-10-22/
LOCATION:51480 DAMERY\, DAMERY\, 51480
CATEGORIES:Fields Trials d'Automne
ORGANIZER;CN="ACT NORD-PICARDIE - M. GUILBERT SERGE":MAILTO:asso.scnord-picardie@wanadoo.fr
END:VEVENT
BEGIN:VEVENT
DTSTART;VALUE=DATE:20221002
DTEND;VALUE=DATE:20221003
DTSTAMP:20260420T044327
CREATED:20220617T203949Z
LAST-MODIFIED:20220617T203949Z
UID:4063-1664668800-1664755199@www.chiendarret.fr
SUMMARY:ANCELLE - FTA ACT-SCMCA - 02/10/22
DESCRIPTION:
URL:https://www.chiendarret.fr/les-concours/ancelle-fta-act-scmca-02-10-22/
LOCATION:5260 ANCELLE\, ANCELLE\, 5260
CATEGORIES:Fields Trials d'Automne
ORGANIZER;CN="ACT-SCMCA - M. JUIF DANIEL":MAILTO:daniel.juif@wanadoo.fr
END:VEVENT
BEGIN:VEVENT
DTSTART;VALUE=DATE:20221003
DTEND;VALUE=DATE:20221004
DTSTAMP:20260420T044327
CREATED:20220617T204149Z
LAST-MODIFIED:20220617T204150Z
UID:4102-1664755200-1664841599@www.chiendarret.fr
SUMMARY:DAMERY - FTA SCC-CUNCA - 03/10/22
DESCRIPTION:
URL:https://www.chiendarret.fr/les-concours/damery-fta-scc-cunca-03-10-22/
LOCATION:51480 DAMERY\, DAMERY\, 51480
CATEGORIES:Fields Trials d'Automne
ORGANIZER;CN="SCC-CUNCA - M. GUILBERT SERGE":MAILTO:asso.scnord-picardie@wanadoo.fr
END:VEVENT
BEGIN:VEVENT
DTSTART;VALUE=DATE:20221004
DTEND;VALUE=DATE:20221005
DTSTAMP:20260420T044327
CREATED:20220617T204149Z
LAST-MODIFIED:20220617T204150Z
UID:4103-1664841600-1664927999@www.chiendarret.fr
SUMMARY:DAMERY - FTA SCC-CUNCA - 04/10/22
DESCRIPTION:
URL:https://www.chiendarret.fr/les-concours/damery-fta-scc-cunca-04-10-22/
LOCATION:51480 DAMERY\, DAMERY\, 51480
CATEGORIES:Fields Trials d'Automne
ORGANIZER;CN="SCC-CUNCA - M. GUILBERT SERGE":MAILTO:asso.scnord-picardie@wanadoo.fr
END:VEVENT
BEGIN:VEVENT
DTSTART;VALUE=DATE:20221007
DTEND;VALUE=DATE:20221008
DTSTAMP:20260420T044327
CREATED:20220615T215311Z
LAST-MODIFIED:20220617T202012Z
UID:3808-1665100800-1665187199@www.chiendarret.fr
SUMMARY:ST PIERRE DE LA FAGE - FTA POINTER CF - 07/10/22
DESCRIPTION:CSA – PCF – RASG – RED.CLUB –
URL:https://www.chiendarret.fr/les-concours/st-pierre-de-la-fage-fta-pointer-cf-07-10-22/
LOCATION:34520 ST PIERRE DE LA FAGE\, ST PIERRE DE LA FAGE\, 34520\, France
CATEGORIES:Fields Trials d'Automne
ORGANIZER;CN="POINTER CF - M. MONTOLIO PATRICE":MAILTO:patrice.montolio@orange.fr
END:VEVENT
BEGIN:VEVENT
DTSTART;VALUE=DATE:20221008
DTEND;VALUE=DATE:20221009
DTSTAMP:20260420T044327
CREATED:20220615T215311Z
LAST-MODIFIED:20220617T202012Z
UID:3809-1665187200-1665273599@www.chiendarret.fr
SUMMARY:ST PIERRE DE LA FAGE - FTA POINTER CF - 08/10/22
DESCRIPTION:CSA – PCF – RASG – RED.CLUB –
URL:https://www.chiendarret.fr/les-concours/st-pierre-de-la-fage-fta-pointer-cf-08-10-22/
LOCATION:34520 ST PIERRE DE LA FAGE\, ST PIERRE DE LA FAGE\, 34520\, France
CATEGORIES:Fields Trials d'Automne
ORGANIZER;CN="POINTER CF - M. MONTOLIO PATRICE":MAILTO:patrice.montolio@orange.fr
END:VEVENT
BEGIN:VEVENT
DTSTART;VALUE=DATE:20221008
DTEND;VALUE=DATE:20221009
DTSTAMP:20260420T044327
CREATED:20220617T202417Z
LAST-MODIFIED:20220617T202417Z
UID:4002-1665187200-1665273599@www.chiendarret.fr
SUMMARY:LE MESNIL EN THELLE - FTA VIZSLA CF - 08/10/22
DESCRIPTION:CBF – CBSG – CEP – APBW – CFEML – DCF – RABA – VCF –
URL:https://www.chiendarret.fr/les-concours/le-mesnil-en-thelle-fta-vizsla-cf-08-10-22/
LOCATION:60530 LE MESNIL EN THELLE\, LE MESNIL EN THELLE\, 60530\, France
CATEGORIES:Fields Trials d'Automne
ORGANIZER;CN="VIZSLA CF - Mme AARON ISABELLE":MAILTO:isabeaaron@sfr.fr
END:VEVENT
BEGIN:VEVENT
DTSTART;VALUE=DATE:20221009
DTEND;VALUE=DATE:20221010
DTSTAMP:20260420T044327
CREATED:20220617T203555Z
LAST-MODIFIED:20220617T203555Z
UID:4040-1665273600-1665359999@www.chiendarret.fr
SUMMARY:ESCOURCE - FTA C BRAQUE FRANCAIS - 09/10/22
DESCRIPTION:
URL:https://www.chiendarret.fr/les-concours/escource-fta-c-braque-francais-09-10-22/
LOCATION:40210 ESCOURCE\, ESCOURCE\, 40210\, France
CATEGORIES:Fields Trials d'Automne
ORGANIZER;CN="C BRAQUE FRANCAIS - M. GASIOT PASCAL":MAILTO:gasiot.pascal@gmail.com
END:VEVENT
BEGIN:VEVENT
DTSTART;VALUE=DATE:20221009
DTEND;VALUE=DATE:20221010
DTSTAMP:20260420T044327
CREATED:20220617T203556Z
LAST-MODIFIED:20220617T203556Z
UID:4041-1665273600-1665359999@www.chiendarret.fr
SUMMARY:ESCOURCE - FTA C EPAGNEUL BRETON - 09/10/22
DESCRIPTION:FAISAN PERDRIX
URL:https://www.chiendarret.fr/les-concours/escource-fta-c-epagneul-breton-09-10-22/
LOCATION:40210 ESCOURCE\, ESCOURCE\, 40210\, France
CATEGORIES:Fields Trials d'Automne
ORGANIZER;CN="C EPAGNEUL BRETON - M. VERON BRUNO":MAILTO:veronbruno@wanadoo.fr
END:VEVENT
BEGIN:VEVENT
DTSTART;VALUE=DATE:20221009
DTEND;VALUE=DATE:20221010
DTSTAMP:20260420T044327
CREATED:20220617T203756Z
LAST-MODIFIED:20220617T203756Z
UID:4042-1665273600-1665359999@www.chiendarret.fr
SUMMARY:ESCOURCE - FTA CF BRAQUE ALLEMAND - 09/10/22
DESCRIPTION:
URL:https://www.chiendarret.fr/les-concours/escource-fta-cf-braque-allemand-09-10-22/
LOCATION:40210 ESCOURCE\, ESCOURCE\, 40210\, France
CATEGORIES:Fields Trials d'Automne
ORGANIZER;CN="CF BRAQUE ALLEMAND - Mme PIAT SYLVIE":MAILTO:piatsylvie@orange.fr
END:VEVENT
BEGIN:VEVENT
DTSTART;VALUE=DATE:20221009
DTEND;VALUE=DATE:20221010
DTSTAMP:20260420T044327
CREATED:20220617T203756Z
LAST-MODIFIED:20220617T203756Z
UID:4043-1665273600-1665359999@www.chiendarret.fr
SUMMARY:ESCOURCE - FTA RA BRAQUE AUVERGNE - 09/10/22
DESCRIPTION:
URL:https://www.chiendarret.fr/les-concours/escource-fta-ra-braque-auvergne-09-10-22/
LOCATION:40210 ESCOURCE\, ESCOURCE\, 40210\, France
CATEGORIES:Fields Trials d'Automne
ORGANIZER;CN="RA BRAQUE AUVERGNE - M. VIAUD JEAN-LOUIS":MAILTO:jlviaud@gmail.com
END:VEVENT
BEGIN:VEVENT
DTSTART;VALUE=DATE:20221009
DTEND;VALUE=DATE:20221010
DTSTAMP:20260420T044327
CREATED:20220617T203935Z
LAST-MODIFIED:20220617T203935Z
UID:4060-1665273600-1665359999@www.chiendarret.fr
SUMMARY:ESCOURCE ONESSE - FTA C GRIFFON KORTHALS - 09/10/22
DESCRIPTION:
URL:https://www.chiendarret.fr/les-concours/escource-onesse-fta-c-griffon-korthals-09-10-22/
LOCATION:40210 ESCOURCE\, ESCOURCE\, 40210\, France
CATEGORIES:Fields Trials d'Automne
ORGANIZER;CN="C GRIFFON KORTHALS - M. CHARDON PIERRE":MAILTO:pierre.chardon.iphone@gmail.com
END:VEVENT
BEGIN:VEVENT
DTSTART;VALUE=DATE:20221010
DTEND;VALUE=DATE:20221011
DTSTAMP:20260420T044327
CREATED:20220615T215312Z
LAST-MODIFIED:20220617T202012Z
UID:3810-1665360000-1665446399@www.chiendarret.fr
SUMMARY:ESCOURCE - FTA C SETTER ANGLAIS - 10/10/22
DESCRIPTION:CSA – PCF – RASG – RED.CLUB – SOLO UNIQUEMENT
URL:https://www.chiendarret.fr/les-concours/escource-fta-c-setter-anglais-10-10-22/
LOCATION:40210 ESCOURCE\, ESCOURCE\, 40210\, France
CATEGORIES:Fields Trials d'Automne
ORGANIZER;CN="C SETTER ANGLAIS - M. DUPERIER JEAN-LOUIS":MAILTO:jldcsa@gmail.com
END:VEVENT
BEGIN:VEVENT
DTSTART;VALUE=DATE:20221010
DTEND;VALUE=DATE:20221011
DTSTAMP:20260420T044327
CREATED:20220617T203555Z
LAST-MODIFIED:20220617T203555Z
UID:4039-1665360000-1665446399@www.chiendarret.fr
SUMMARY:ESCOURCE - FTA RED CLUB - 10/10/22
DESCRIPTION:CHEQUE RASG
URL:https://www.chiendarret.fr/les-concours/escource-fta-red-club-10-10-22/
LOCATION:40210 ESCOURCE\, ESCOURCE\, 40210\, France
CATEGORIES:Fields Trials d'Automne
ORGANIZER;CN="RED CLUB - M. GUILBERT YVES":MAILTO:guilbertyv@wanadoo.fr
END:VEVENT
BEGIN:VEVENT
DTSTART;VALUE=DATE:20221010
DTEND;VALUE=DATE:20221011
DTSTAMP:20260420T044327
CREATED:20220617T203555Z
LAST-MODIFIED:20220617T203555Z
UID:4038-1665360000-1665446399@www.chiendarret.fr
SUMMARY:ESCOURCE - FTA CF BRAQUE ALLEMAND - 10/10/22
DESCRIPTION:CHEQUE CUSCA-40
URL:https://www.chiendarret.fr/les-concours/escource-fta-cf-braque-allemand-10-10-22/
LOCATION:40210 ESCOURCE\, ESCOURCE\, 40210\, France
CATEGORIES:Fields Trials d'Automne
ORGANIZER;CN="CF BRAQUE ALLEMAND - Mme PIAT SYLVIE":MAILTO:piatsylvie@orange.fr
END:VEVENT
BEGIN:VEVENT
DTSTART;VALUE=DATE:20221011
DTEND;VALUE=DATE:20221012
DTSTAMP:20260420T044327
CREATED:20220615T215312Z
LAST-MODIFIED:20220617T202012Z
UID:3811-1665446400-1665532799@www.chiendarret.fr
SUMMARY:ESCOURCE - FTA RED CLUB - 11/10/22
DESCRIPTION:CSA – PCF – RASG – RED.CLUB – CHEQUE RASG SOLO UNIQUEMENT
URL:https://www.chiendarret.fr/les-concours/escource-fta-red-club-11-10-22/
LOCATION:40210 ESCOURCE\, ESCOURCE\, 40210\, France
CATEGORIES:Fields Trials d'Automne
ORGANIZER;CN="RED CLUB - M. GUILBERT YVES":MAILTO:guilbertyv@wanadoo.fr
END:VEVENT
BEGIN:VEVENT
DTSTART;VALUE=DATE:20221011
DTEND;VALUE=DATE:20221012
DTSTAMP:20260420T044327
CREATED:20220615T215325Z
LAST-MODIFIED:20220617T202027Z
UID:3814-1665446400-1665532799@www.chiendarret.fr
SUMMARY:ESCOURCE - FTA C BRAQUE FRANCAIS - 11/10/22
DESCRIPTION:CEB – CEF – CGK – CFBA – CFEML – DCF – VCF – CHEQUE CUSCA-40
URL:https://www.chiendarret.fr/les-concours/escource-fta-c-braque-francais-11-10-22/
LOCATION:40210 ESCOURCE\, ESCOURCE\, 40210\, France
CATEGORIES:Fields Trials d'Automne
ORGANIZER;CN="C BRAQUE FRANCAIS - Mme PIAT SYLVIE":MAILTO:piatsylvie@orange.fr
END:VEVENT
BEGIN:VEVENT
DTSTART;VALUE=DATE:20221011
DTEND;VALUE=DATE:20221012
DTSTAMP:20260420T044327
CREATED:20220617T203354Z
LAST-MODIFIED:20220617T203354Z
UID:4036-1665446400-1665532799@www.chiendarret.fr
SUMMARY:ESCOURCE - FTA C SETTER ANGLAIS - 11/10/22
DESCRIPTION:
URL:https://www.chiendarret.fr/les-concours/escource-fta-c-setter-anglais-11-10-22/
LOCATION:40210 ESCOURCE\, ESCOURCE\, 40210\, France
CATEGORIES:Fields Trials d'Automne
ORGANIZER;CN="C SETTER ANGLAIS - M. DUPERIER JEAN-LOUIS":MAILTO:jldcsa@gmail.com
END:VEVENT
BEGIN:VEVENT
DTSTART;VALUE=DATE:20221012
DTEND;VALUE=DATE:20221013
DTSTAMP:20260420T044327
CREATED:20220615T215313Z
LAST-MODIFIED:20220617T202013Z
UID:3812-1665532800-1665619199@www.chiendarret.fr
SUMMARY:ESCOURCE - FTA RA SETTER GORDON - 12/10/22
DESCRIPTION:CSA – PCF – RASG – RED.CLUB – SOLO UNIQUEMENT
URL:https://www.chiendarret.fr/les-concours/escource-fta-ra-setter-gordon-12-10-22/
LOCATION:40210 ESCOURCE\, ESCOURCE\, 40210\, France
CATEGORIES:Fields Trials d'Automne
ORGANIZER;CN="RA SETTER GORDON - M. GUILBERT YVES":MAILTO:guilbertyv@wanadoo.fr
END:VEVENT
BEGIN:VEVENT
DTSTART;VALUE=DATE:20221012
DTEND;VALUE=DATE:20221013
DTSTAMP:20260420T044327
CREATED:20220617T203554Z
LAST-MODIFIED:20220617T203554Z
UID:4037-1665532800-1665619199@www.chiendarret.fr
SUMMARY:ESCOURCE - FTA POINTER CF - 12/10/22
DESCRIPTION:
URL:https://www.chiendarret.fr/les-concours/escource-fta-pointer-cf-12-10-22/
LOCATION:40210 ESCOURCE\, ESCOURCE\, 40210\, France
CATEGORIES:Fields Trials d'Automne
ORGANIZER;CN="POINTER CF - M. DESTENABES JEAN-GUY":MAILTO:j-g.destenabes@wanadoo.fr
END:VEVENT
BEGIN:VEVENT
DTSTART;VALUE=DATE:20221012
DTEND;VALUE=DATE:20221013
DTSTAMP:20260420T044327
CREATED:20220617T203935Z
LAST-MODIFIED:20220617T203935Z
UID:4059-1665532800-1665619199@www.chiendarret.fr
SUMMARY:ESCOURCE ONESSE - FTA C GRIFFON KORTHALS - 12/10/22
DESCRIPTION:
URL:https://www.chiendarret.fr/les-concours/escource-onesse-fta-c-griffon-korthals-12-10-22/
LOCATION:40210 ESCOURCE\, ESCOURCE\, 40210\, France
CATEGORIES:Fields Trials d'Automne
ORGANIZER;CN="C GRIFFON KORTHALS - M. CHARDON PIERRE":MAILTO:pierre.chardon.iphone@gmail.com
END:VEVENT
BEGIN:VEVENT
DTSTART;VALUE=DATE:20221013
DTEND;VALUE=DATE:20221014
DTSTAMP:20260420T044327
CREATED:20220615T215326Z
LAST-MODIFIED:20220617T202027Z
UID:3815-1665619200-1665705599@www.chiendarret.fr
SUMMARY:HERM - FTA POINTER CF - 13/10/22
DESCRIPTION:CSA – PCF – RASG – RED.CLUB – SOLO UNIQUEMENT
URL:https://www.chiendarret.fr/les-concours/herm-fta-pointer-cf-13-10-22/
LOCATION:40990 HERM\, HERM\, 40990\, France
CATEGORIES:Fields Trials d'Automne
ORGANIZER;CN="POINTER CF - M. DESTENABES JEAN-GUY":MAILTO:j-g.destenabes@wanadoo.fr
END:VEVENT
BEGIN:VEVENT
DTSTART;VALUE=DATE:20221013
DTEND;VALUE=DATE:20221014
DTSTAMP:20260420T044327
CREATED:20220617T203756Z
LAST-MODIFIED:20220617T203756Z
UID:4044-1665619200-1665705599@www.chiendarret.fr
SUMMARY:HERM - FTA RA SETTER GORDON - 13/10/22
DESCRIPTION:
URL:https://www.chiendarret.fr/les-concours/herm-fta-ra-setter-gordon-13-10-22/
LOCATION:40990 HERM\, HERM\, 40990\, France
CATEGORIES:Fields Trials d'Automne
ORGANIZER;CN="RA SETTER GORDON - M. GUILBERT YVES":MAILTO:guilbertyv@wanadoo.fr
END:VEVENT
BEGIN:VEVENT
DTSTART;VALUE=DATE:20221013
DTEND;VALUE=DATE:20221014
DTSTAMP:20260420T044327
CREATED:20220617T203757Z
LAST-MODIFIED:20220617T203757Z
UID:4045-1665619200-1665705599@www.chiendarret.fr
SUMMARY:HERM - FTA C EPAGNEUL BRETON - 13/10/22
DESCRIPTION:CHEQUE CUSCA 40
URL:https://www.chiendarret.fr/les-concours/herm-fta-c-epagneul-breton-13-10-22/
LOCATION:40990 HERM\, HERM\, 40990\, France
CATEGORIES:Fields Trials d'Automne
ORGANIZER;CN="C EPAGNEUL BRETON - Mme PIAT SYLVIE":MAILTO:piatsylvie@orange.fr
END:VEVENT
BEGIN:VEVENT
DTSTART;VALUE=DATE:20221014
DTEND;VALUE=DATE:20221015
DTSTAMP:20260420T044327
CREATED:20220617T202619Z
LAST-MODIFIED:20220617T202619Z
UID:4011-1665705600-1665791999@www.chiendarret.fr
SUMMARY:CHIPILLY - FTA C EPAGNEUL PICARD - 14/10/22
DESCRIPTION:CBF – CEF – CEP – CGK – CFEML – DCF – RABA – VCF – CLOTURE ENGAGEMENTS 28/09
URL:https://www.chiendarret.fr/les-concours/chipilly-fta-c-epagneul-picard-14-10-22/
LOCATION:80800 CHIPILLY\, CHIPILLY\, 80800\, France
CATEGORIES:Fields Trials d'Automne
ORGANIZER;CN="C EPAGNEUL PICARD - M. BRUTELLE WILLIAM":MAILTO:william.brutelle@wanadoo.fr
END:VEVENT
BEGIN:VEVENT
DTSTART;VALUE=DATE:20221014
DTEND;VALUE=DATE:20221015
DTSTAMP:20260420T044327
CREATED:20220617T204105Z
LAST-MODIFIED:20220617T204105Z
UID:4089-1665705600-1665791999@www.chiendarret.fr
SUMMARY:HERM - FTA CUSCA-40 - 14/10/22
DESCRIPTION:
URL:https://www.chiendarret.fr/les-concours/herm-fta-cusca-40-14-10-22/
LOCATION:40990 HERM\, HERM\, 40990\, France
CATEGORIES:Fields Trials d'Automne
ORGANIZER;CN="CUSCA-40 - Mme PIAT SYLVIE":MAILTO:piatsylvie@orange.fr
END:VEVENT
BEGIN:VEVENT
DTSTART;VALUE=DATE:20221015
DTEND;VALUE=DATE:20221016
DTSTAMP:20260420T044327
CREATED:20220617T202618Z
LAST-MODIFIED:20220617T202618Z
UID:4010-1665792000-1665878399@www.chiendarret.fr
SUMMARY:FIENVILLERS - FTA C EPAGNEUL PICARD - 15/10/22
DESCRIPTION:CBF – CBSG – CEF – CEP – CGK – CFEML – DCF – VCF – CLOTURE ENGAGEMENTS 29/09
URL:https://www.chiendarret.fr/les-concours/fienvillers-fta-c-epagneul-picard-15-10-22/
LOCATION:80750 FIENVILLERS\, FIENVILLERS\, 80750
CATEGORIES:Fields Trials d'Automne
ORGANIZER;CN="C EPAGNEUL PICARD - M. BRUTELLE WILLIAM":MAILTO:william.brutelle@wanadoo.fr
END:VEVENT
BEGIN:VEVENT
DTSTART;VALUE=DATE:20221015
DTEND;VALUE=DATE:20221016
DTSTAMP:20260420T044327
CREATED:20220617T204105Z
LAST-MODIFIED:20220617T204120Z
UID:4090-1665792000-1665878399@www.chiendarret.fr
SUMMARY:HERM - FTA CUSCA-40 - 15/10/22
DESCRIPTION:
URL:https://www.chiendarret.fr/les-concours/herm-fta-cusca-40-15-10-22/
LOCATION:40990 HERM\, HERM\, 40990\, France
CATEGORIES:Fields Trials d'Automne
ORGANIZER;CN="CUSCA-40 - Mme PIAT SYLVIE":MAILTO:piatsylvie@orange.fr
END:VEVENT
END:VCALENDAR