BEGIN:VCALENDAR
VERSION:2.0
PRODID:-//Chiens d&#039;arrêt - ECPv6.8.3//NONSGML v1.0//EN
CALSCALE:GREGORIAN
METHOD:PUBLISH
X-WR-CALNAME:Chiens d&#039;arrêt
X-ORIGINAL-URL:https://www.chiendarret.fr
X-WR-CALDESC:Évènements pour Chiens d&#039;arrêt
REFRESH-INTERVAL;VALUE=DURATION:PT1H
X-Robots-Tag:noindex
X-PUBLISHED-TTL:PT1H
BEGIN:VTIMEZONE
TZID:Europe/Paris
BEGIN:DAYLIGHT
TZOFFSETFROM:+0100
TZOFFSETTO:+0200
TZNAME:CEST
DTSTART:20220327T010000
END:DAYLIGHT
BEGIN:STANDARD
TZOFFSETFROM:+0200
TZOFFSETTO:+0100
TZNAME:CET
DTSTART:20221030T010000
END:STANDARD
END:VTIMEZONE
BEGIN:VEVENT
DTSTART;VALUE=DATE:20220903
DTEND;VALUE=DATE:20220904
DTSTAMP:20260420T061512
CREATED:20220617T205020Z
LAST-MODIFIED:20220617T205020Z
UID:4149-1662163200-1662249599@www.chiendarret.fr
SUMMARY:BELLE ILE EN MER - FTGN POINTER CF - 03/09/22
DESCRIPTION:CSA – PCF – RASG – RED.CLUB – CHEQUES CUSCA BREIZH
URL:https://www.chiendarret.fr/les-concours/belle-ile-en-mer-ftgn-pointer-cf-03-09-22/
LOCATION:56360 LE PALAIS\, LE PALAIS\, 56360\, France
CATEGORIES:Fields Trials Gibier Naturel
ORGANIZER;CN="POINTER CF - M. RIOUAL JEAN-LUC":MAILTO:jlrioual@orange.fr
END:VEVENT
BEGIN:VEVENT
DTSTART;VALUE=DATE:20220903
DTEND;VALUE=DATE:20220904
DTSTAMP:20260420T061512
CREATED:20220617T205021Z
LAST-MODIFIED:20220617T205021Z
UID:4151-1662163200-1662249599@www.chiendarret.fr
SUMMARY:BELLE ILE EN MER - FTGN C EPAGNEUL BRETON - 03/09/22
DESCRIPTION:CBF – CEB – CEF – CGK – CFBA – CFEML – DCF – RABA – CHEQUE CUSCA BREIZH
URL:https://www.chiendarret.fr/les-concours/belle-ile-en-mer-ftgn-c-epagneul-breton-03-09-22/
LOCATION:56360 LE PALAIS\, LE PALAIS\, 56360\, France
CATEGORIES:Fields Trials Gibier Naturel
ORGANIZER;CN="C EPAGNEUL BRETON - M. RIOUAL JEAN-LUC":MAILTO:jlrioual@orange.fr
END:VEVENT
BEGIN:VEVENT
DTSTART;VALUE=DATE:20220903
DTEND;VALUE=DATE:20220904
DTSTAMP:20260420T061512
CREATED:20220617T211032Z
LAST-MODIFIED:20220617T211032Z
UID:4198-1662163200-1662249599@www.chiendarret.fr
SUMMARY:BELLE ILE EN MER - FTGN CUSCA-BREIZH - 03/09/22
DESCRIPTION:
URL:https://www.chiendarret.fr/les-concours/belle-ile-en-mer-ftgn-cusca-breizh-03-09-22/
LOCATION:56360 LE PALAIS\, LE PALAIS\, 56360\, France
CATEGORIES:Fields Trials Gibier Naturel
ORGANIZER;CN="CUSCA-BREIZH - M. RIOUAL JEAN-LUC":MAILTO:jlrioual@orange.fr
END:VEVENT
BEGIN:VEVENT
DTSTART;VALUE=DATE:20220904
DTEND;VALUE=DATE:20220905
DTSTAMP:20260420T061512
CREATED:20220617T205020Z
LAST-MODIFIED:20220617T205020Z
UID:4150-1662249600-1662335999@www.chiendarret.fr
SUMMARY:BELLE ILE EN MER - FTGN POINTER CF - 04/09/22
DESCRIPTION:CSA – PCF – RASG – RED.CLUB – CHEQUES CUSCA BREIZH
URL:https://www.chiendarret.fr/les-concours/belle-ile-en-mer-ftgn-pointer-cf-04-09-22/
LOCATION:56360 LE PALAIS\, LE PALAIS\, 56360\, France
CATEGORIES:Fields Trials Gibier Naturel
ORGANIZER;CN="POINTER CF - M. RIOUAL JEAN-LUC":MAILTO:jlrioual@orange.fr
END:VEVENT
BEGIN:VEVENT
DTSTART;VALUE=DATE:20220904
DTEND;VALUE=DATE:20220905
DTSTAMP:20260420T061512
CREATED:20220617T205221Z
LAST-MODIFIED:20220617T205221Z
UID:4152-1662249600-1662335999@www.chiendarret.fr
SUMMARY:BELLE ILE EN MER - FTGN C EPAGNEUL BRETON - 04/09/22
DESCRIPTION:CBF – CEB – CEF – CGK – CFBA – CFEML – DCF – RABA – CHEQUE CUSCA BREIZH
URL:https://www.chiendarret.fr/les-concours/belle-ile-en-mer-ftgn-c-epagneul-breton-04-09-22/
LOCATION:56360 LE PALAIS\, LE PALAIS\, 56360\, France
CATEGORIES:Fields Trials Gibier Naturel
ORGANIZER;CN="C EPAGNEUL BRETON - M. RIOUAL JEAN-LUC":MAILTO:jlrioual@orange.fr
END:VEVENT
BEGIN:VEVENT
DTSTART;VALUE=DATE:20220904
DTEND;VALUE=DATE:20220905
DTSTAMP:20260420T061512
CREATED:20220617T211032Z
LAST-MODIFIED:20220617T211032Z
UID:4199-1662249600-1662335999@www.chiendarret.fr
SUMMARY:BELLE ILE EN MER - FTGN CUSCA-BREIZH - 04/09/22
DESCRIPTION:
URL:https://www.chiendarret.fr/les-concours/belle-ile-en-mer-ftgn-cusca-breizh-04-09-22/
LOCATION:56360 LE PALAIS\, LE PALAIS\, 56360\, France
CATEGORIES:Fields Trials Gibier Naturel
ORGANIZER;CN="CUSCA-BREIZH - M. RIOUAL JEAN-LUC":MAILTO:jlrioual@orange.fr
END:VEVENT
BEGIN:VEVENT
DTSTART;VALUE=DATE:20220913
DTEND;VALUE=DATE:20220914
DTSTAMP:20260420T061512
CREATED:20220617T202819Z
LAST-MODIFIED:20220617T202819Z
UID:4014-1663027200-1663113599@www.chiendarret.fr
SUMMARY:CHALMAZEL - FTA RA SETTER GORDON - 13/09/22
DESCRIPTION:CSA – PCF – RASG – RED.CLUB – CHEQUE ACTRA
URL:https://www.chiendarret.fr/les-concours/chalmazel-fta-ra-setter-gordon-13-09-22/
LOCATION:42920 CHALMAZEL JEANSAGNIERE\, CHALMAZEL JEANSAGNIERE\, 42920\, France
CATEGORIES:Fields Trials d'Automne
ORGANIZER;CN="RA SETTER GORDON - Mme ARGANT SIMONE":MAILTO:argantsimone@orange.fr
END:VEVENT
BEGIN:VEVENT
DTSTART;VALUE=DATE:20220913
DTEND;VALUE=DATE:20220914
DTSTAMP:20260420T061512
CREATED:20220617T203934Z
LAST-MODIFIED:20220617T203934Z
UID:4057-1663027200-1663113599@www.chiendarret.fr
SUMMARY:CHALMAZEL - FTA C SETTER ANGLAIS - 13/09/22
DESCRIPTION:CHEQUE ACT RHONE ALPES
URL:https://www.chiendarret.fr/les-concours/chalmazel-fta-c-setter-anglais-13-09-22/
LOCATION:42920 CHALMAZEL JEANSAGNIERE\, CHALMAZEL JEANSAGNIERE\, 42920\, France
CATEGORIES:Fields Trials d'Automne
ORGANIZER;CN="C SETTER ANGLAIS - Mme ARGANT SIMONE":MAILTO:argantsimone@orange.fr
END:VEVENT
BEGIN:VEVENT
DTSTART;VALUE=DATE:20220914
DTEND;VALUE=DATE:20220915
DTSTAMP:20260420T061512
CREATED:20220617T202937Z
LAST-MODIFIED:20220617T202937Z
UID:4019-1663113600-1663199999@www.chiendarret.fr
SUMMARY:CHOUPPES-MONT SUR GUESNES - FTA CF EML - 14/09/22
DESCRIPTION:CBF – CEB – CGK – APBW – CFBA – CFEML – DCF – VCF –
URL:https://www.chiendarret.fr/les-concours/chouppes-mont-sur-guesnes-fta-cf-eml-14-09-22/
LOCATION:86110 CHOUPPES\, CHOUPPES\, 86110\, France
CATEGORIES:Fields Trials d'Automne
ORGANIZER;CN="CF EML - Mme BOULANGER MAGALI":MAILTO:ptitmunst86@live.fr
END:VEVENT
BEGIN:VEVENT
DTSTART;VALUE=DATE:20220914
DTEND;VALUE=DATE:20220915
DTSTAMP:20260420T061512
CREATED:20220617T204219Z
LAST-MODIFIED:20220617T204219Z
UID:4112-1663113600-1663199999@www.chiendarret.fr
SUMMARY:CHALMAZEL - FTA ACT RHONE ALPES - 14/09/22
DESCRIPTION:
URL:https://www.chiendarret.fr/les-concours/chalmazel-fta-act-rhone-alpes-14-09-22/
LOCATION:42920 CHALMAZEL JEANSAGNIERE\, CHALMAZEL JEANSAGNIERE\, 42920\, France
CATEGORIES:Fields Trials d'Automne
ORGANIZER;CN="ACT RHONE ALPES - Mme ARGANT SIMONE":MAILTO:argantsimone@orange.fr
END:VEVENT
BEGIN:VEVENT
DTSTART;VALUE=DATE:20220914
DTEND;VALUE=DATE:20220915
DTSTAMP:20260420T061512
CREATED:20220617T204220Z
LAST-MODIFIED:20220617T204220Z
UID:4115-1663113600-1663199999@www.chiendarret.fr
SUMMARY:CHOUPPES-MONT SUR GUESNES - FTA AC POITOU - 14/09/22
DESCRIPTION:
URL:https://www.chiendarret.fr/les-concours/chouppes-mont-sur-guesnes-fta-ac-poitou-14-09-22/
LOCATION:86110 CHOUPPES\, CHOUPPES\, 86110\, France
CATEGORIES:Fields Trials d'Automne
ORGANIZER;CN="AC POITOU - Mme BOULANGER MAGALI":MAILTO:ptitmunst86@live.fr
END:VEVENT
BEGIN:VEVENT
DTSTART;VALUE=DATE:20220915
DTEND;VALUE=DATE:20220916
DTSTAMP:20260420T061512
CREATED:20220617T202819Z
LAST-MODIFIED:20220617T202819Z
UID:4015-1663200000-1663286399@www.chiendarret.fr
SUMMARY:CHALMAZEL - FTA C EPAGNEUL BRETON - 15/09/22
DESCRIPTION:CBF – CBSG – CEB – CGK – CFBA – CFEML – CBB – COUPLE UNIQUEMENT-CHEQUE:ACTRA
URL:https://www.chiendarret.fr/les-concours/chalmazel-fta-c-epagneul-breton-15-09-22/
LOCATION:42920 CHALMAZEL JEANSAGNIERE\, CHALMAZEL JEANSAGNIERE\, 42920\, France
CATEGORIES:Fields Trials d'Automne
ORGANIZER;CN="C EPAGNEUL BRETON - Mme ARGANT SIMONE":MAILTO:argantsimone@orange.fr
END:VEVENT
BEGIN:VEVENT
DTSTART;VALUE=DATE:20220915
DTEND;VALUE=DATE:20220916
DTSTAMP:20260420T061512
CREATED:20220617T202820Z
LAST-MODIFIED:20220617T202820Z
UID:4016-1663200000-1663286399@www.chiendarret.fr
SUMMARY:CHALMAZEL - FTA C EPAGNEUL FRANCAIS - 15/09/22
DESCRIPTION:CEB – CEF – APBW – CFBA – CFEML – CBB – SOLO UNIQUEMENT CHEQUES ACT RHONE ALPES
URL:https://www.chiendarret.fr/les-concours/chalmazel-fta-c-epagneul-francais-15-09-22/
LOCATION:42920 CHALMAZEL JEANSAGNIERE\, CHALMAZEL JEANSAGNIERE\, 42920\, France
CATEGORIES:Fields Trials d'Automne
ORGANIZER;CN="C EPAGNEUL FRANCAIS - M. CAMMARATA ALAIN":MAILTO:alaincammarata@cegetel.net
END:VEVENT
BEGIN:VEVENT
DTSTART;VALUE=DATE:20220915
DTEND;VALUE=DATE:20220916
DTSTAMP:20260420T061512
CREATED:20220617T202936Z
LAST-MODIFIED:20220617T202936Z
UID:4017-1663200000-1663286399@www.chiendarret.fr
SUMMARY:CHALMAZEL - FTA DRAHTHAAR CF - 15/09/22
DESCRIPTION:CBF – CBSG – CGK – DCF – RABA – VCF – CHEQUE ACT RHONE-ALPES
URL:https://www.chiendarret.fr/les-concours/chalmazel-fta-drahthaar-cf-15-09-22/
LOCATION:42920 CHALMAZEL JEANSAGNIERE\, CHALMAZEL JEANSAGNIERE\, 42920\, France
CATEGORIES:Fields Trials d'Automne
ORGANIZER;CN="DRAHTHAAR CF - Mme ARGANT SIMONE":MAILTO:argantsimone@orange.fr
END:VEVENT
BEGIN:VEVENT
DTSTART;VALUE=DATE:20220915
DTEND;VALUE=DATE:20220916
DTSTAMP:20260420T061512
CREATED:20220617T202937Z
LAST-MODIFIED:20220617T202937Z
UID:4018-1663200000-1663286399@www.chiendarret.fr
SUMMARY:CHOUPPES- MONT SUR GUESNES - FTA CF EML - 15/09/22
DESCRIPTION:CBF – CEB – CEF – CGK – CFEML – DCF – RABA – VCF – NOMBRE DE PLACES LIMITE
URL:https://www.chiendarret.fr/les-concours/chouppes-mont-sur-guesnes-fta-cf-eml-15-09-22/
LOCATION:86110 CHOUPPES\, CHOUPPES\, 86110\, France
CATEGORIES:Fields Trials d'Automne
ORGANIZER;CN="CF EML - Mme BOULANGER MAGALI":MAILTO:ptitmunst86@live.fr
END:VEVENT
BEGIN:VEVENT
DTSTART;VALUE=DATE:20220916
DTEND;VALUE=DATE:20220917
DTSTAMP:20260420T061512
CREATED:20220617T204219Z
LAST-MODIFIED:20220617T204219Z
UID:4113-1663286400-1663372799@www.chiendarret.fr
SUMMARY:CHALMAZEL - FTA ACT RHONE ALPES - 16/09/22
DESCRIPTION:
URL:https://www.chiendarret.fr/les-concours/chalmazel-fta-act-rhone-alpes-16-09-22/
LOCATION:42920 CHALMAZEL JEANSAGNIERE\, CHALMAZEL JEANSAGNIERE\, 42920\, France
CATEGORIES:Fields Trials d'Automne
ORGANIZER;CN="ACT RHONE ALPES - Mme ARGANT SIMONE":MAILTO:argantsimone@orange.fr
END:VEVENT
BEGIN:VEVENT
DTSTART;VALUE=DATE:20220916
DTEND;VALUE=DATE:20220917
DTSTAMP:20260420T061512
CREATED:20220617T204220Z
LAST-MODIFIED:20220617T204220Z
UID:4114-1663286400-1663372799@www.chiendarret.fr
SUMMARY:CHOUPPES-MONT SUR GUESNES - FTA AC POITOU - 16/09/22
DESCRIPTION:
URL:https://www.chiendarret.fr/les-concours/chouppes-mont-sur-guesnes-fta-ac-poitou-16-09-22/
LOCATION:86110 CHOUPPES\, CHOUPPES\, 86110\, France
CATEGORIES:Fields Trials d'Automne
ORGANIZER;CN="AC POITOU - Mme BOULANGER MAGALI":MAILTO:ptitmunst86@live.fr
END:VEVENT
BEGIN:VEVENT
DTSTART;VALUE=DATE:20220917
DTEND;VALUE=DATE:20220918
DTSTAMP:20260420T061512
CREATED:20220617T203934Z
LAST-MODIFIED:20220617T203934Z
UID:4058-1663372800-1663459199@www.chiendarret.fr
SUMMARY:CHOUPPES- MONT SUR GUESNES - FTA CF EML - 17/09/22
DESCRIPTION:
URL:https://www.chiendarret.fr/les-concours/chouppes-mont-sur-guesnes-fta-cf-eml-17-09-22/
LOCATION:86110 CHOUPPES\, CHOUPPES\, 86110\, France
CATEGORIES:Fields Trials d'Automne
ORGANIZER;CN="CF EML - Mme BOULANGER MAGALI":MAILTO:ptitmunst86@live.fr
END:VEVENT
BEGIN:VEVENT
DTSTART;VALUE=DATE:20220917
DTEND;VALUE=DATE:20220918
DTSTAMP:20260420T061512
CREATED:20220617T204235Z
LAST-MODIFIED:20220617T204235Z
UID:4117-1663372800-1663459199@www.chiendarret.fr
SUMMARY:EGLISENEUVE D'ENTRAIGUE - FTA ADACAS-63 - 17/09/22
DESCRIPTION:
URL:https://www.chiendarret.fr/les-concours/egliseneuve-dentraigue-fta-adacas-63-17-09-22/
LOCATION:63850 EGLISENEUVE D ENTRAIGUES\, EGLISENEUVE D ENTRAIGUES\, 63850\, France
CATEGORIES:Fields Trials d'Automne
ORGANIZER;CN="ADACAS-63 - M. CHAMPAGNAT LAURENT":MAILTO:laurent.champagnat@wanadoo.fr
END:VEVENT
BEGIN:VEVENT
DTSTART;VALUE=DATE:20220918
DTEND;VALUE=DATE:20220919
DTSTAMP:20260420T061512
CREATED:20220617T204220Z
LAST-MODIFIED:20220617T204220Z
UID:4116-1663459200-1663545599@www.chiendarret.fr
SUMMARY:EGLISENEUVE D'ENTRAIGUE - FTA ADACAS-63 - 18/09/22
DESCRIPTION:
URL:https://www.chiendarret.fr/les-concours/egliseneuve-dentraigue-fta-adacas-63-18-09-22/
LOCATION:63850 EGLISENEUVE D ENTRAIGUES\, EGLISENEUVE D ENTRAIGUES\, 63850\, France
CATEGORIES:Fields Trials d'Automne
ORGANIZER;CN="ADACAS-63 - M. CHAMPAGNAT LAURENT":MAILTO:laurent.champagnat@wanadoo.fr
END:VEVENT
BEGIN:VEVENT
DTSTART;VALUE=DATE:20220919
DTEND;VALUE=DATE:20220920
DTSTAMP:20260420T061512
CREATED:20220617T204005Z
LAST-MODIFIED:20220617T204005Z
UID:4071-1663545600-1663631999@www.chiendarret.fr
SUMMARY:POLMINHAC - FTA SC HTE AUVERGNE - 19/09/22
DESCRIPTION:CHEQUES ACT CANTAL
URL:https://www.chiendarret.fr/les-concours/polminhac-fta-sc-hte-auvergne-19-09-22/
LOCATION:15800 POLMINHAC\, POLMINHAC\, 15800\, France
CATEGORIES:Fields Trials d'Automne
ORGANIZER;CN="SC HTE AUVERGNE - M. MERLE JEAN-CLAUDE":MAILTO:jc_merle@orange.fr
END:VEVENT
BEGIN:VEVENT
DTSTART;VALUE=DATE:20220920
DTEND;VALUE=DATE:20220921
DTSTAMP:20260420T061512
CREATED:20220615T215204Z
LAST-MODIFIED:20220617T201928Z
UID:3802-1663632000-1663718399@www.chiendarret.fr
SUMMARY:COMBON - FTA POINTER CF - 20/09/22
DESCRIPTION:CSA – PCF – RASG – RED.CLUB – CHEQUES ACT EURE
URL:https://www.chiendarret.fr/les-concours/combon-fta-pointer-cf-20-09-22/
LOCATION:27170 COMBON\, COMBON\, 27170\, France
CATEGORIES:Fields Trials d'Automne
ORGANIZER;CN="POINTER CF - M. LEROUX DOMINIQUE":MAILTO:ftbeaumontel@gmail.com
END:VEVENT
BEGIN:VEVENT
DTSTART;VALUE=DATE:20220920
DTEND;VALUE=DATE:20220921
DTSTAMP:20260420T061512
CREATED:20220617T203353Z
LAST-MODIFIED:20220617T203353Z
UID:4033-1663632000-1663718399@www.chiendarret.fr
SUMMARY:COMBON - FTA CF BRAQUE ALLEMAND - 20/09/22
DESCRIPTION:RDV PLATEFORME AGRICOLE NAT’UP 27170 COMBON RÉGLT ORDRE ACT27
URL:https://www.chiendarret.fr/les-concours/combon-fta-cf-braque-allemand-20-09-22/
LOCATION:27170 COMBON\, COMBON\, 27170\, France
CATEGORIES:Fields Trials d'Automne
ORGANIZER;CN="CF BRAQUE ALLEMAND - M. LEROUX DOMINIQUE":MAILTO:ftbeaumontel@gmail.com
END:VEVENT
BEGIN:VEVENT
DTSTART;VALUE=DATE:20220920
DTEND;VALUE=DATE:20220921
DTSTAMP:20260420T061512
CREATED:20220617T204019Z
LAST-MODIFIED:20220617T204019Z
UID:4072-1663632000-1663718399@www.chiendarret.fr
SUMMARY:POLMINHAC - FTA ACT BOURBONNAIS - 20/09/22
DESCRIPTION:CHEQUES ACT CANTAL
URL:https://www.chiendarret.fr/les-concours/polminhac-fta-act-bourbonnais-20-09-22/
LOCATION:15800 POLMINHAC\, POLMINHAC\, 15800\, France
CATEGORIES:Fields Trials d'Automne
ORGANIZER;CN="ACT BOURBONNAIS - M. MERLE JEAN CLAUDE":MAILTO:jc_merle@orange.fr
END:VEVENT
BEGIN:VEVENT
DTSTART;VALUE=DATE:20220921
DTEND;VALUE=DATE:20220922
DTSTAMP:20260420T061512
CREATED:20220617T204005Z
LAST-MODIFIED:20220617T204005Z
UID:4069-1663718400-1663804799@www.chiendarret.fr
SUMMARY:POLMINHAC - FTA SC HTE AUVERGNE - 21/09/22
DESCRIPTION:CHEQUES ACT CANTAL
URL:https://www.chiendarret.fr/les-concours/polminhac-fta-sc-hte-auvergne-21-09-22/
LOCATION:15800 POLMINHAC\, POLMINHAC\, 15800\, France
CATEGORIES:Fields Trials d'Automne
ORGANIZER;CN="SC HTE AUVERGNE - M. MERLE JEAN-CLAUDE":MAILTO:jc_merle@orange.fr
END:VEVENT
BEGIN:VEVENT
DTSTART;VALUE=DATE:20220921
DTEND;VALUE=DATE:20220922
DTSTAMP:20260420T061512
CREATED:20220617T204050Z
LAST-MODIFIED:20220617T204050Z
UID:4086-1663718400-1663804799@www.chiendarret.fr
SUMMARY:COMBON - FTA 2 SC EURE - 21/09/22
DESCRIPTION:RDV : 206 RUE DE LA GROTTE 27170 COMBON
URL:https://www.chiendarret.fr/les-concours/combon-fta-2-sc-eure-21-09-22/
LOCATION:27170 COMBON\, COMBON\, 27170\, France
CATEGORIES:Fields Trials d'Automne
ORGANIZER;CN="SC EURE - M. LEROUX DOMINIQUE":MAILTO:ftbeaumontel@gmail.com
END:VEVENT
BEGIN:VEVENT
DTSTART;VALUE=DATE:20220921
DTEND;VALUE=DATE:20220922
DTSTAMP:20260420T061512
CREATED:20220617T204050Z
LAST-MODIFIED:20220617T204050Z
UID:4085-1663718400-1663804799@www.chiendarret.fr
SUMMARY:COMBON - FTA SC EURE - 21/09/22
DESCRIPTION:RDV 206 RUE DE LA GROTTE 27170 COMBON
URL:https://www.chiendarret.fr/les-concours/combon-fta-sc-eure-21-09-22/
LOCATION:27170 COMBON\, COMBON\, 27170\, France
CATEGORIES:Fields Trials d'Automne
ORGANIZER;CN="SC EURE - M. LEROUX DOMINIQUE":MAILTO:ftbeaumontel@gmail.com
END:VEVENT
BEGIN:VEVENT
DTSTART;VALUE=DATE:20220922
DTEND;VALUE=DATE:20220923
DTSTAMP:20260420T061512
CREATED:20220615T215217Z
LAST-MODIFIED:20220617T201941Z
UID:3803-1663804800-1663891199@www.chiendarret.fr
SUMMARY:COMBON - FTA C BRAQUE ST GERMAIN - 22/09/22
DESCRIPTION:CBSG – CEB – CEP – CGK – APBW – CFEML – DCF – VCF – LIEU DE RENDEZ VOUS : PLATEFORME AGRICOLE NAT’UP 206 RUE DE LA GROTTE 27170 COMBON
URL:https://www.chiendarret.fr/les-concours/combon-fta-c-braque-st-germain-22-09-22/
LOCATION:27170 COMBON\, COMBON\, 27170\, France
CATEGORIES:Fields Trials d'Automne
ORGANIZER;CN="C BRAQUE ST GERMAIN - M. LEROUX DOMINIQUE":MAILTO:ftbeaumontel@gmail.com
END:VEVENT
BEGIN:VEVENT
DTSTART;VALUE=DATE:20220922
DTEND;VALUE=DATE:20220923
DTSTAMP:20260420T061512
CREATED:20220617T203354Z
LAST-MODIFIED:20220617T203354Z
UID:4034-1663804800-1663891199@www.chiendarret.fr
SUMMARY:COMBON - FTA CF BRAQUE ALLEMAND - 22/09/22
DESCRIPTION:RDV PLATEFORME AGRICOLE NAT’UP 27170 COMBON REGLT ACT27
URL:https://www.chiendarret.fr/les-concours/combon-fta-cf-braque-allemand-22-09-22/
LOCATION:27170 COMBON\, COMBON\, 27170\, France
CATEGORIES:Fields Trials d'Automne
ORGANIZER;CN="CF BRAQUE ALLEMAND - M. LEROUX DOMINIQUE":MAILTO:ftbeaumontel@gmail.com
END:VEVENT
BEGIN:VEVENT
DTSTART;VALUE=DATE:20220922
DTEND;VALUE=DATE:20220923
DTSTAMP:20260420T061512
CREATED:20220617T204005Z
LAST-MODIFIED:20220617T204005Z
UID:4070-1663804800-1663891199@www.chiendarret.fr
SUMMARY:POLMINHAC - FTA ACT BOURBONNAIS - 22/09/22
DESCRIPTION:CHEQUES ACTCANTAL
URL:https://www.chiendarret.fr/les-concours/polminhac-fta-act-bourbonnais-22-09-22/
LOCATION:15800 POLMINHAC\, POLMINHAC\, 15800\, France
CATEGORIES:Fields Trials d'Automne
ORGANIZER;CN="ACT BOURBONNAIS - M. MERLE JEAN CLAUDE":MAILTO:jc_merle@orange.fr
END:VEVENT
END:VCALENDAR