BEGIN:VCALENDAR
VERSION:2.0
PRODID:-//Chiens d&#039;arrêt - ECPv6.8.3//NONSGML v1.0//EN
CALSCALE:GREGORIAN
METHOD:PUBLISH
X-ORIGINAL-URL:https://www.chiendarret.fr
X-WR-CALDESC:Évènements pour Chiens d&#039;arrêt
REFRESH-INTERVAL;VALUE=DURATION:PT1H
X-Robots-Tag:noindex
X-PUBLISHED-TTL:PT1H
BEGIN:VTIMEZONE
TZID:Europe/Paris
BEGIN:DAYLIGHT
TZOFFSETFROM:+0100
TZOFFSETTO:+0200
TZNAME:CEST
DTSTART:20220327T010000
END:DAYLIGHT
BEGIN:STANDARD
TZOFFSETFROM:+0200
TZOFFSETTO:+0100
TZNAME:CET
DTSTART:20221030T010000
END:STANDARD
END:VTIMEZONE
BEGIN:VEVENT
DTSTART;VALUE=DATE:20220813
DTEND;VALUE=DATE:20220814
DTSTAMP:20260420T075013
CREATED:20220617T210630Z
LAST-MODIFIED:20220617T210631Z
UID:4188-1660348800-1660435199@www.chiendarret.fr
SUMMARY:CALLEN - FTGN CUSCA-40 - 13/08/22
DESCRIPTION:
URL:https://www.chiendarret.fr/les-concours/callen-ftgn-cusca-40-13-08-22/
LOCATION:40430 CALLEN\, CALLEN\, 40430
CATEGORIES:Fields Trials Gibier Naturel
ORGANIZER;CN="CUSCA-40 - M. CHAUVET JOEL":MAILTO:joel.chauvet@cusca40.fr
END:VEVENT
BEGIN:VEVENT
DTSTART;VALUE=DATE:20220814
DTEND;VALUE=DATE:20220815
DTSTAMP:20260420T075013
CREATED:20220617T210631Z
LAST-MODIFIED:20220617T210631Z
UID:4189-1660435200-1660521599@www.chiendarret.fr
SUMMARY:CALLEN - FTGN CUSCA-40 - 14/08/22
DESCRIPTION:
URL:https://www.chiendarret.fr/les-concours/callen-ftgn-cusca-40-14-08-22/
LOCATION:40430 CALLEN\, CALLEN\, 40430
CATEGORIES:Fields Trials Gibier Naturel
ORGANIZER;CN="CUSCA-40 - M. CHAUVET JOEL":MAILTO:joel.chauvet@cusca40.fr
END:VEVENT
BEGIN:VEVENT
DTSTART;VALUE=DATE:20220819
DTEND;VALUE=DATE:20220820
DTSTAMP:20260420T075013
CREATED:20220615T215505Z
LAST-MODIFIED:20220617T204618Z
UID:3835-1660867200-1660953599@www.chiendarret.fr
SUMMARY:NUISEMENT SUR COOLE - FTGN C SETTER ANGLAIS - 19/08/22
DESCRIPTION:CSA – PCF – RASG – RED.CLUB –
URL:https://www.chiendarret.fr/les-concours/nuisement-sur-coole-ftgn-c-setter-anglais-19-08-22/
LOCATION:51240 NUISEMENT SUR COOLE\, NUISEMENT SUR COOLE\, 51240\, France
CATEGORIES:Fields Trials Gibier Naturel
ORGANIZER;CN="C SETTER ANGLAIS - M. BERBE DOMINIQUE":MAILTO:dominique.berbe@wanadoo.fr
END:VEVENT
BEGIN:VEVENT
DTSTART;VALUE=DATE:20220820
DTEND;VALUE=DATE:20220821
DTSTAMP:20260420T075013
CREATED:20220617T210216Z
LAST-MODIFIED:20220617T210216Z
UID:4175-1660953600-1661039999@www.chiendarret.fr
SUMMARY:NUISEMENT SUR COOLE - FTGN C SETTER ANGLAIS - 20/08/22
DESCRIPTION:
URL:https://www.chiendarret.fr/les-concours/nuisement-sur-coole-ftgn-c-setter-anglais-20-08-22/
LOCATION:51240 NUISEMENT SUR COOLE\, NUISEMENT SUR COOLE\, 51240\, France
CATEGORIES:Fields Trials Gibier Naturel
ORGANIZER;CN="C SETTER ANGLAIS - M. BERBE DOMINIQUE":MAILTO:dominique.berbe@wanadoo.fr
END:VEVENT
BEGIN:VEVENT
DTSTART;VALUE=DATE:20220821
DTEND;VALUE=DATE:20220822
DTSTAMP:20260420T075013
CREATED:20220615T215505Z
LAST-MODIFIED:20220617T204618Z
UID:3836-1661040000-1661126399@www.chiendarret.fr
SUMMARY:SUIPPES - FTGN POINTER CF - 21/08/22
DESCRIPTION:CSA – PCF – RASG – RED.CLUB –
URL:https://www.chiendarret.fr/les-concours/suippes-ftgn-pointer-cf-21-08-22/
LOCATION:51600 SUIPPES\, SUIPPES\, 51600\, France
CATEGORIES:Fields Trials Gibier Naturel
ORGANIZER;CN="POINTER CF - M. BURLAT PASCAL":MAILTO:burlat.scca@gmail.com
END:VEVENT
BEGIN:VEVENT
DTSTART;VALUE=DATE:20220821
DTEND;VALUE=DATE:20220822
DTSTAMP:20260420T075013
CREATED:20220617T205600Z
LAST-MODIFIED:20220617T205600Z
UID:4165-1661040000-1661126399@www.chiendarret.fr
SUMMARY:REVEL - FTGN C BRAQUE FRANCAIS - 21/08/22
DESCRIPTION:
URL:https://www.chiendarret.fr/les-concours/revel-ftgn-c-braque-francais-21-08-22/
LOCATION:31250 REVEL\, REVEL\, 31250\, France
CATEGORIES:Fields Trials Gibier Naturel
ORGANIZER;CN="C BRAQUE FRANCAIS - M. GASIOT PASCAL":MAILTO:gasiot.pascal@gmail.com
END:VEVENT
BEGIN:VEVENT
DTSTART;VALUE=DATE:20220822
DTEND;VALUE=DATE:20220823
DTSTAMP:20260420T075013
CREATED:20220615T215506Z
LAST-MODIFIED:20220617T204618Z
UID:3837-1661126400-1661212799@www.chiendarret.fr
SUMMARY:AIX EN ISSART - FTGN C BRAQUE ST GERMAIN - 22/08/22
DESCRIPTION:CBF – CBSG – CEF – CEP – CGK – APBW – DCF – RABA – LIMITE A 2 BATTERIES. CONDITIONS SUR SITE CBSG
URL:https://www.chiendarret.fr/les-concours/aix-en-issart-ftgn-c-braque-st-germain-22-08-22/
LOCATION:62170 AIX EN ISSART\, AIX EN ISSART\, 62170\, France
CATEGORIES:Fields Trials Gibier Naturel
ORGANIZER;CN="C BRAQUE ST GERMAIN - Mme FAUQUEMBERT CATHERINE":MAILTO:fauquembert.catherine@orange.fr
END:VEVENT
BEGIN:VEVENT
DTSTART;VALUE=DATE:20220822
DTEND;VALUE=DATE:20220823
DTSTAMP:20260420T075013
CREATED:20220617T210831Z
LAST-MODIFIED:20220617T210831Z
UID:4192-1661126400-1661212799@www.chiendarret.fr
SUMMARY:SUIPPES - FTGN ACT CHAMPAGNE ARDENNES - 22/08/22
DESCRIPTION:
URL:https://www.chiendarret.fr/les-concours/suippes-ftgn-act-champagne-ardennes-22-08-22/
LOCATION:51600 SUIPPES\, SUIPPES\, 51600\, France
CATEGORIES:Fields Trials Gibier Naturel
ORGANIZER;CN="ACT CHAMPAGNE ARDENNES - M. BURLAT PASCAL":MAILTO:burlat.scca@gmail.com
END:VEVENT
BEGIN:VEVENT
DTSTART;VALUE=DATE:20220822
DTEND;VALUE=DATE:20220823
DTSTAMP:20260420T075013
CREATED:20220617T211323Z
LAST-MODIFIED:20220617T211324Z
UID:4204-1661126400-1661212799@www.chiendarret.fr
SUMMARY:LA-POMAREDE - FTGN CUSCA-LR - 22/08/22
DESCRIPTION:
URL:https://www.chiendarret.fr/les-concours/la-pomarede-ftgn-cusca-lr-22-08-22/
LOCATION:11400 LA POMAREDE\, LA POMAREDE\, 11400\, France
CATEGORIES:Fields Trials Gibier Naturel
ORGANIZER;CN="CUSCA-LR - M. GASIOT PASCAL":MAILTO:gasiot.pascal@gmail.com
END:VEVENT
BEGIN:VEVENT
DTSTART;VALUE=DATE:20220823
DTEND;VALUE=DATE:20220824
DTSTAMP:20260420T075013
CREATED:20220617T205221Z
LAST-MODIFIED:20220617T205221Z
UID:4153-1661212800-1661299199@www.chiendarret.fr
SUMMARY:GOUY ST ANDRE - FTGN DRAHTHAAR CF - 23/08/22
DESCRIPTION:CBF – CBSG – CEF – CEP – CGK – APBW – DCF – RABA – LIMITE A DEUX CONCOURS
URL:https://www.chiendarret.fr/les-concours/gouy-st-andre-ftgn-drahthaar-cf-23-08-22/
LOCATION:62123 GOUY EN ARTOIS\, GOUY EN ARTOIS\, 62123\, France
CATEGORIES:Fields Trials Gibier Naturel
ORGANIZER;CN="DRAHTHAAR CF - M. BEUVAIN STEPHANE":MAILTO:stephanebeuvain-dcf@orange.fr
END:VEVENT
BEGIN:VEVENT
DTSTART;VALUE=DATE:20220823
DTEND;VALUE=DATE:20220824
DTSTAMP:20260420T075013
CREATED:20220617T211323Z
LAST-MODIFIED:20220617T211524Z
UID:4205-1661212800-1661299199@www.chiendarret.fr
SUMMARY:LA-POMAREDE - FTGN CUSCA-LR - 23/08/22
DESCRIPTION:
URL:https://www.chiendarret.fr/les-concours/la-pomarede-ftgn-cusca-lr-23-08-22/
LOCATION:11400 LA POMAREDE\, LA POMAREDE\, 11400\, France
CATEGORIES:Fields Trials Gibier Naturel
ORGANIZER;CN="CUSCA-LR - M. GASIOT PASCAL":MAILTO:gasiot.pascal@gmail.com
END:VEVENT
BEGIN:VEVENT
DTSTART;VALUE=DATE:20220824
DTEND;VALUE=DATE:20220825
DTSTAMP:20260420T075013
CREATED:20220615T215506Z
LAST-MODIFIED:20220617T204618Z
UID:3838-1661299200-1661385599@www.chiendarret.fr
SUMMARY:AUDINGHEN - FTGN RA SETTER GORDON - 24/08/22
DESCRIPTION:CSA – PCF – RASG – RED.CLUB – CHEQUE CUSCA 62 – UNIQUEMENT SOLO
URL:https://www.chiendarret.fr/les-concours/audinghen-ftgn-ra-setter-gordon-24-08-22/
LOCATION:62179 AUDINGHEN\, AUDINGHEN\, 62179\, France
CATEGORIES:Fields Trials Gibier Naturel
ORGANIZER;CN="RA SETTER GORDON - M. TASTET YVES":MAILTO:yves.tastet@orange.fr
END:VEVENT
BEGIN:VEVENT
DTSTART;VALUE=DATE:20220824
DTEND;VALUE=DATE:20220825
DTSTAMP:20260420T075013
CREATED:20220617T204819Z
LAST-MODIFIED:20220617T204819Z
UID:4144-1661299200-1661385599@www.chiendarret.fr
SUMMARY:AUDINGHEN - FTGN C BRAQUE ST GERMAIN - 24/08/22
DESCRIPTION:CBF – CBSG – CEB – CGK – APBW – CFBA – DCF – RABA –
URL:https://www.chiendarret.fr/les-concours/audinghen-ftgn-c-braque-st-germain-24-08-22/
LOCATION:62179 AUDINGHEN\, AUDINGHEN\, 62179\, France
CATEGORIES:Fields Trials Gibier Naturel
ORGANIZER;CN="C BRAQUE ST GERMAIN - M. TASTET YVES":MAILTO:yves.tastet@orange.fr
END:VEVENT
BEGIN:VEVENT
DTSTART;VALUE=DATE:20220824
DTEND;VALUE=DATE:20220825
DTSTAMP:20260420T075013
CREATED:20220617T205600Z
LAST-MODIFIED:20220617T205600Z
UID:4164-1661299200-1661385599@www.chiendarret.fr
SUMMARY:REVEL - FTGN C BRAQUE FRANCAIS - 24/08/22
DESCRIPTION:
URL:https://www.chiendarret.fr/les-concours/revel-ftgn-c-braque-francais-24-08-22/
LOCATION:31250 REVEL\, REVEL\, 31250\, France
CATEGORIES:Fields Trials Gibier Naturel
ORGANIZER;CN="C BRAQUE FRANCAIS - M. GASIOT PASCAL":MAILTO:gasiot.pascal@gmail.com
END:VEVENT
BEGIN:VEVENT
DTSTART;VALUE=DATE:20220824
DTEND;VALUE=DATE:20220825
DTSTAMP:20260420T075013
CREATED:20220617T210216Z
LAST-MODIFIED:20220617T210216Z
UID:4176-1661299200-1661385599@www.chiendarret.fr
SUMMARY:AUDINGHEN - FTGN POINTER CF - 24/08/22
DESCRIPTION:CHEQUES CUSCA 62
URL:https://www.chiendarret.fr/les-concours/audinghen-ftgn-pointer-cf-24-08-22/
LOCATION:62179 AUDINGHEN\, AUDINGHEN\, 62179\, France
CATEGORIES:Fields Trials Gibier Naturel
ORGANIZER;CN="POINTER CF - M. TASTET YVES":MAILTO:yves.tastet@orange.fr
END:VEVENT
BEGIN:VEVENT
DTSTART;VALUE=DATE:20220824
DTEND;VALUE=DATE:20220825
DTSTAMP:20260420T075013
CREATED:20220617T210832Z
LAST-MODIFIED:20220617T210832Z
UID:4196-1661299200-1661385599@www.chiendarret.fr
SUMMARY:AUDINGHEN - FTGN CUSCA-62 - 24/08/22
DESCRIPTION:
URL:https://www.chiendarret.fr/les-concours/audinghen-ftgn-cusca-62-24-08-22/
LOCATION:62179 AUDINGHEN\, AUDINGHEN\, 62179\, France
CATEGORIES:Fields Trials Gibier Naturel
ORGANIZER;CN="CUSCA-62 - M. TASTET YVES":MAILTO:yves.tastet@orange.fr
END:VEVENT
BEGIN:VEVENT
DTSTART;VALUE=DATE:20220825
DTEND;VALUE=DATE:20220826
DTSTAMP:20260420T075013
CREATED:20220615T215506Z
LAST-MODIFIED:20220617T204618Z
UID:3839-1661385600-1661471999@www.chiendarret.fr
SUMMARY:AUDINGHEN - FTGN RA SETTER GORDON - 25/08/22
DESCRIPTION:CSA – PCF – RASG – RED.CLUB – CHEQUE CUSCA 62 UNIQUEMENT SOLO
URL:https://www.chiendarret.fr/les-concours/audinghen-ftgn-ra-setter-gordon-25-08-22/
LOCATION:62179 AUDINGHEN\, AUDINGHEN\, 62179\, France
CATEGORIES:Fields Trials Gibier Naturel
ORGANIZER;CN="RA SETTER GORDON - M. TASTET YVES":MAILTO:yves.tastet@orange.fr
END:VEVENT
BEGIN:VEVENT
DTSTART;VALUE=DATE:20220825
DTEND;VALUE=DATE:20220826
DTSTAMP:20260420T075013
CREATED:20220617T204820Z
LAST-MODIFIED:20220617T204820Z
UID:4145-1661385600-1661471999@www.chiendarret.fr
SUMMARY:AUDINGHEN - FTGN C BRAQUE ST GERMAIN - 25/08/22
DESCRIPTION:CBF – CBSG – CEB – CGK – APBW – CFBA – DCF – RABA –
URL:https://www.chiendarret.fr/les-concours/audinghen-ftgn-c-braque-st-germain-25-08-22/
LOCATION:62179 AUDINGHEN\, AUDINGHEN\, 62179\, France
CATEGORIES:Fields Trials Gibier Naturel
ORGANIZER;CN="C BRAQUE ST GERMAIN - M. TASTET YVES":MAILTO:yves.tastet@orange.fr
END:VEVENT
BEGIN:VEVENT
DTSTART;VALUE=DATE:20220825
DTEND;VALUE=DATE:20220826
DTSTAMP:20260420T075013
CREATED:20220617T210831Z
LAST-MODIFIED:20220617T210831Z
UID:4194-1661385600-1661471999@www.chiendarret.fr
SUMMARY:AUDINGHEN - FTGN CUSCA-62 - 25/08/22
DESCRIPTION:
URL:https://www.chiendarret.fr/les-concours/audinghen-ftgn-cusca-62-25-08-22/
LOCATION:62179 AUDINGHEN\, AUDINGHEN\, 62179\, France
CATEGORIES:Fields Trials Gibier Naturel
ORGANIZER;CN="CUSCA-62 - M. TASTET YVES":MAILTO:yves.tastet@orange.fr
END:VEVENT
BEGIN:VEVENT
DTSTART;VALUE=DATE:20220826
DTEND;VALUE=DATE:20220827
DTSTAMP:20260420T075013
CREATED:20220617T204819Z
LAST-MODIFIED:20220617T204819Z
UID:4142-1661472000-1661558399@www.chiendarret.fr
SUMMARY:AUDINGHEN - FTGN RA SETTER GORDON - 26/08/22
DESCRIPTION:CSA – PCF – RASG – RED.CLUB – CHEQUE CUSCA 62 UNIQUEMENT SOLO
URL:https://www.chiendarret.fr/les-concours/audinghen-ftgn-ra-setter-gordon-26-08-22/
LOCATION:62179 AUDINGHEN\, AUDINGHEN\, 62179\, France
CATEGORIES:Fields Trials Gibier Naturel
ORGANIZER;CN="RA SETTER GORDON - M. TASTET YVES":MAILTO:yves.tastet@orange.fr
END:VEVENT
BEGIN:VEVENT
DTSTART;VALUE=DATE:20220826
DTEND;VALUE=DATE:20220827
DTSTAMP:20260420T075013
CREATED:20220617T204820Z
LAST-MODIFIED:20220617T204820Z
UID:4146-1661472000-1661558399@www.chiendarret.fr
SUMMARY:AUDINGHEN - FTGN C BRAQUE ST GERMAIN - 26/08/22
DESCRIPTION:CBF – CBSG – CEB – CEF – CEP – CGK – CFBA – DCF –
URL:https://www.chiendarret.fr/les-concours/audinghen-ftgn-c-braque-st-germain-26-08-22/
LOCATION:62179 AUDINGHEN\, AUDINGHEN\, 62179\, France
CATEGORIES:Fields Trials Gibier Naturel
ORGANIZER;CN="C BRAQUE ST GERMAIN - M. TASTET YVES":MAILTO:yves.tastet@orange.fr
END:VEVENT
BEGIN:VEVENT
DTSTART;VALUE=DATE:20220826
DTEND;VALUE=DATE:20220827
DTSTAMP:20260420T075013
CREATED:20220617T210832Z
LAST-MODIFIED:20220617T210832Z
UID:4195-1661472000-1661558399@www.chiendarret.fr
SUMMARY:AUDINGHEN - FTGN CUSCA-62 - 26/08/22
DESCRIPTION:
URL:https://www.chiendarret.fr/les-concours/audinghen-ftgn-cusca-62-26-08-22/
LOCATION:62179 AUDINGHEN\, AUDINGHEN\, 62179\, France
CATEGORIES:Fields Trials Gibier Naturel
ORGANIZER;CN="CUSCA-62 - M. TASTET YVES":MAILTO:yves.tastet@orange.fr
END:VEVENT
BEGIN:VEVENT
DTSTART;VALUE=DATE:20220827
DTEND;VALUE=DATE:20220828
DTSTAMP:20260420T075013
CREATED:20220617T204819Z
LAST-MODIFIED:20220617T204819Z
UID:4143-1661558400-1661644799@www.chiendarret.fr
SUMMARY:AUDINGHEN - FTGN RA SETTER GORDON - 27/08/22
DESCRIPTION:CSA – PCF – RASG – RED.CLUB – CHEQUE CUSCA 62 – UNIQUEMENT SOLO
URL:https://www.chiendarret.fr/les-concours/audinghen-ftgn-ra-setter-gordon-27-08-22/
LOCATION:62179 AUDINGHEN\, AUDINGHEN\, 62179\, France
CATEGORIES:Fields Trials Gibier Naturel
ORGANIZER;CN="RA SETTER GORDON - M. TASTET YVES":MAILTO:yves.tastet@orange.fr
END:VEVENT
BEGIN:VEVENT
DTSTART;VALUE=DATE:20220827
DTEND;VALUE=DATE:20220828
DTSTAMP:20260420T075013
CREATED:20220617T205019Z
LAST-MODIFIED:20220617T205019Z
UID:4147-1661558400-1661644799@www.chiendarret.fr
SUMMARY:AUDINGHEN - FTGN C BRAQUE ST GERMAIN - 27/08/22
DESCRIPTION:CBF – CBSG – CEB – CEF – CEP – CGK – CFBA – DCF – CHEQUES CUSCA 62
URL:https://www.chiendarret.fr/les-concours/audinghen-ftgn-c-braque-st-germain-27-08-22/
LOCATION:62179 AUDINGHEN\, AUDINGHEN\, 62179\, France
CATEGORIES:Fields Trials Gibier Naturel
ORGANIZER;CN="C BRAQUE ST GERMAIN - M. TASTET YVES":MAILTO:yves.tastet@orange.fr
END:VEVENT
BEGIN:VEVENT
DTSTART;VALUE=DATE:20220827
DTEND;VALUE=DATE:20220828
DTSTAMP:20260420T075013
CREATED:20220617T210227Z
LAST-MODIFIED:20220617T210227Z
UID:4177-1661558400-1661644799@www.chiendarret.fr
SUMMARY:AUDINGHEN - FTGN POINTER CF - 27/08/22
DESCRIPTION:CHEQUES CUSCA 62
URL:https://www.chiendarret.fr/les-concours/audinghen-ftgn-pointer-cf-27-08-22/
LOCATION:62179 AUDINGHEN\, AUDINGHEN\, 62179\, France
CATEGORIES:Fields Trials Gibier Naturel
ORGANIZER;CN="POINTER CF - M. TASTET YVES":MAILTO:yves.tastet@orange.fr
END:VEVENT
BEGIN:VEVENT
DTSTART;VALUE=DATE:20220827
DTEND;VALUE=DATE:20220828
DTSTAMP:20260420T075013
CREATED:20220617T210831Z
LAST-MODIFIED:20220617T210831Z
UID:4193-1661558400-1661644799@www.chiendarret.fr
SUMMARY:SUIPPES - FTGN ACT CHAMPAGNE ARDENNES - 27/08/22
DESCRIPTION:
URL:https://www.chiendarret.fr/les-concours/suippes-ftgn-act-champagne-ardennes-27-08-22/
LOCATION:51600 SUIPPES\, SUIPPES\, 51600\, France
CATEGORIES:Fields Trials Gibier Naturel
ORGANIZER;CN="ACT CHAMPAGNE ARDENNES - M. BURLAT PASCAL":MAILTO:burlat.scca@gmail.com
END:VEVENT
BEGIN:VEVENT
DTSTART;VALUE=DATE:20220827
DTEND;VALUE=DATE:20220828
DTSTAMP:20260420T075013
CREATED:20220617T211032Z
LAST-MODIFIED:20220617T211032Z
UID:4197-1661558400-1661644799@www.chiendarret.fr
SUMMARY:AUDINGHEN - FTGN CUSCA-62 - 27/08/22
DESCRIPTION:
URL:https://www.chiendarret.fr/les-concours/audinghen-ftgn-cusca-62-27-08-22/
LOCATION:62179 AUDINGHEN\, AUDINGHEN\, 62179\, France
CATEGORIES:Fields Trials Gibier Naturel
ORGANIZER;CN="CUSCA-62 - M. TASTET YVES":MAILTO:yves.tastet@orange.fr
END:VEVENT
BEGIN:VEVENT
DTSTART;VALUE=DATE:20220827
DTEND;VALUE=DATE:20220828
DTSTAMP:20260420T075013
CREATED:20220617T211623Z
LAST-MODIFIED:20220617T211623Z
UID:4214-1661558400-1661644799@www.chiendarret.fr
SUMMARY:RICHELAIS - FTGN CUCC-37 - 27/08/22
DESCRIPTION:
URL:https://www.chiendarret.fr/les-concours/richelais-ftgn-cucc-37-27-08-22/
LOCATION:37120 RICHELIEU\, RICHELIEU\, 37120
CATEGORIES:Fields Trials Gibier Naturel
ORGANIZER;CN="CUCC-37 - M. BOURGEOIS BRUNO":MAILTO:bruno.bourgeois0326@orange.fr
END:VEVENT
BEGIN:VEVENT
DTSTART;VALUE=DATE:20220828
DTEND;VALUE=DATE:20220829
DTSTAMP:20260420T075013
CREATED:20220617T211623Z
LAST-MODIFIED:20220617T211637Z
UID:4215-1661644800-1661731199@www.chiendarret.fr
SUMMARY:RICHELAIS - FTGN CUCC-37 - 28/08/22
DESCRIPTION:
URL:https://www.chiendarret.fr/les-concours/richelais-ftgn-cucc-37-28-08-22/
LOCATION:37120 RICHELIEU\, RICHELIEU\, 37120
CATEGORIES:Fields Trials Gibier Naturel
ORGANIZER;CN="CUCC-37 - M. BOURGEOIS BRUNO":MAILTO:bruno.bourgeois0326@orange.fr
END:VEVENT
END:VCALENDAR