BEGIN:VCALENDAR
VERSION:2.0
PRODID:-//Chiens d&#039;arrêt - ECPv6.8.3//NONSGML v1.0//EN
CALSCALE:GREGORIAN
METHOD:PUBLISH
X-WR-CALNAME:Chiens d&#039;arrêt
X-ORIGINAL-URL:https://www.chiendarret.fr
X-WR-CALDESC:Évènements pour Chiens d&#039;arrêt
REFRESH-INTERVAL;VALUE=DURATION:PT1H
X-Robots-Tag:noindex
X-PUBLISHED-TTL:PT1H
BEGIN:VTIMEZONE
TZID:Europe/Paris
BEGIN:DAYLIGHT
TZOFFSETFROM:+0100
TZOFFSETTO:+0200
TZNAME:CEST
DTSTART:20210328T010000
END:DAYLIGHT
BEGIN:STANDARD
TZOFFSETFROM:+0200
TZOFFSETTO:+0100
TZNAME:CET
DTSTART:20211031T010000
END:STANDARD
END:VTIMEZONE
BEGIN:VEVENT
DTSTART;VALUE=DATE:20211001
DTEND;VALUE=DATE:20211002
DTSTAMP:20260420T230828
CREATED:20210618T231949Z
LAST-MODIFIED:20210619T065920Z
UID:1633-1633046400-1633132799@www.chiendarret.fr
SUMMARY:ANCELLE 2 - CACIT BRITANNIQUES - ACT-SCMCA
DESCRIPTION:
URL:https://www.chiendarret.fr/les-concours/ancelle-2-cacit-britanniques-act-scmca/
LOCATION:05260 ANCELLE\, ANCELLE\, 5260\, France
CATEGORIES:Fields Trials d'Automne
ATTACH;FMTTYPE=image/jpeg:https://www.chiendarret.fr/wp-content/uploads/2021/06/iamalaya.jpg
ORGANIZER;CN="ACT-SCMCA - M. JUIF DANIEL":MAILTO:daniel.juif@wanadoo.fr
END:VEVENT
BEGIN:VEVENT
DTSTART;VALUE=DATE:20211001
DTEND;VALUE=DATE:20211002
DTSTAMP:20260420T230828
CREATED:20210618T231952Z
LAST-MODIFIED:20210619T065923Z
UID:1634-1633046400-1633132799@www.chiendarret.fr
SUMMARY:ANCELLE 2 - CACIT CONTINENTAUX - ACT-SCMCA
DESCRIPTION:
URL:https://www.chiendarret.fr/les-concours/ancelle-2-cacit-continentaux-act-scmca/
LOCATION:05260 ANCELLE\, ANCELLE\, 5260\, France
CATEGORIES:Fields Trials d'Automne
ATTACH;FMTTYPE=image/jpeg:https://www.chiendarret.fr/wp-content/uploads/2021/06/iamalaya.jpg
ORGANIZER;CN="ACT-SCMCA - M. JUIF DANIEL":MAILTO:daniel.juif@wanadoo.fr
END:VEVENT
BEGIN:VEVENT
DTSTART;VALUE=DATE:20211001
DTEND;VALUE=DATE:20211002
DTSTAMP:20260420T230828
CREATED:20210618T232132Z
LAST-MODIFIED:20210619T070108Z
UID:1676-1633046400-1633132799@www.chiendarret.fr
SUMMARY:DAMERY - CACIT CONTINENTAUX - C EPAGNEUL PICARD
DESCRIPTION:CLÔTURE DES ENGAGEMENTS LE 17 SEPTEMBRE
URL:https://www.chiendarret.fr/les-concours/damery-cacit-continentaux-c-epagneul-picard-2/
LOCATION:80700 DAMERY\, DAMERY\, 80700\, France
CATEGORIES:Fields Trials d'Automne
ATTACH;FMTTYPE=image/jpeg:https://www.chiendarret.fr/wp-content/uploads/2021/06/iamalaya.jpg
ORGANIZER;CN="C EPAGNEUL PICARD - M. BRUTELLE WILLIAM":MAILTO:william.brutelle@wanadoo.fr
END:VEVENT
BEGIN:VEVENT
DTSTART;VALUE=DATE:20211002
DTEND;VALUE=DATE:20211003
DTSTAMP:20260420T230828
CREATED:20210618T231949Z
LAST-MODIFIED:20210619T065920Z
UID:1632-1633132800-1633219199@www.chiendarret.fr
SUMMARY:ANCELLE - CACT CONTINENTAUX - C BRAQUE FRANCAIS
DESCRIPTION:CBF – CBSG – CEB – CEF – CGK – CABW – CFBA – VCF – RÉGLEMENT PAR CHÉQUE A C.B.F
URL:https://www.chiendarret.fr/les-concours/ancelle-cact-continentaux-c-braque-francais-2/
LOCATION:05260 ANCELLE\, ANCELLE\, 5260\, France
CATEGORIES:Fields Trials d'Automne
ATTACH;FMTTYPE=image/jpeg:https://www.chiendarret.fr/wp-content/uploads/2021/06/iamalaya.jpg
ORGANIZER;CN="C BRAQUE FRANCAIS - M. JUIF DANIEL":MAILTO:daniel.juif@wanadoo.fr
END:VEVENT
BEGIN:VEVENT
DTSTART;VALUE=DATE:20211002
DTEND;VALUE=DATE:20211003
DTSTAMP:20260420T230828
CREATED:20210618T231949Z
LAST-MODIFIED:20210619T065920Z
UID:1631-1633132800-1633219199@www.chiendarret.fr
SUMMARY:ANCELLE - CACT BRITANNIQUES - RED CLUB
DESCRIPTION:CSA – PCF – RED.CLUB –
URL:https://www.chiendarret.fr/les-concours/ancelle-cact-britanniques-red-club-2/
LOCATION:05260 ANCELLE\, ANCELLE\, 5260\, France
CATEGORIES:Fields Trials d'Automne
ATTACH;FMTTYPE=image/jpeg:https://www.chiendarret.fr/wp-content/uploads/2021/06/iamalaya.jpg
ORGANIZER;CN="RED CLUB - M. JUIF DANIEL":MAILTO:daniel.juif@wanadoo.fr
END:VEVENT
BEGIN:VEVENT
DTSTART;VALUE=DATE:20211002
DTEND;VALUE=DATE:20211003
DTSTAMP:20260420T230828
CREATED:20210618T231952Z
LAST-MODIFIED:20210619T065923Z
UID:1635-1633132800-1633219199@www.chiendarret.fr
SUMMARY:ANDECHY - CACIT CONTINENTAUX - C BRAQUE ST GERMAIN
DESCRIPTION:SEULS LES ENGAGEMENTS PAYÉS SERONT VALIDÉS
URL:https://www.chiendarret.fr/les-concours/andechy-cacit-continentaux-c-braque-st-germain-2/
LOCATION:80700 ANDECHY\, ANDECHY\, 80700\, France
CATEGORIES:Fields Trials d'Automne
ATTACH;FMTTYPE=image/jpeg:https://www.chiendarret.fr/wp-content/uploads/2021/06/iamalaya.jpg
ORGANIZER;CN="C BRAQUE ST GERMAIN - Mme FAUQUEMBERT CATHERINE":MAILTO:fauquembert.catherine@orange.fr
END:VEVENT
BEGIN:VEVENT
DTSTART;VALUE=DATE:20211003
DTEND;VALUE=DATE:20211004
DTSTAMP:20260420T230828
CREATED:20210619T070323Z
LAST-MODIFIED:20210619T070323Z
UID:1902-1633219200-1633305599@www.chiendarret.fr
SUMMARY:LA VACQUERIE ET ST MARTIN DE CASTRIES - CACIT CONTINENTAUX - C BRAQUE FRANCAIS
DESCRIPTION:
URL:https://www.chiendarret.fr/les-concours/la-vacquerie-et-st-martin-de-castries-cacit-continentaux-c-braque-francais/
LOCATION:34520 LA VACQUERIE ET ST MARTIN DE CASTRIES\, LA VACQUERIE ET ST MARTIN DE CASTRIES\, 34520\, France
CATEGORIES:Fields Trials d'Automne
ATTACH;FMTTYPE=image/jpeg:https://www.chiendarret.fr/wp-content/uploads/2021/06/iamalaya.jpg
ORGANIZER;CN="C BRAQUE FRANCAIS - M. GASIOT PASCAL":MAILTO:gasiot.pascal@gmail.com
END:VEVENT
BEGIN:VEVENT
DTSTART;VALUE=DATE:20211004
DTEND;VALUE=DATE:20211005
DTSTAMP:20260420T230828
CREATED:20210618T232109Z
LAST-MODIFIED:20210619T070038Z
UID:1663-1633305600-1633391999@www.chiendarret.fr
SUMMARY:COMBON - CACT BRITANNIQUES - POINTER CF
DESCRIPTION:CSA – PCF – RED.CLUB –
URL:https://www.chiendarret.fr/les-concours/combon-cact-britanniques-pointer-cf-2/
LOCATION:27170 COMBON\, COMBON\, 27170\, France
CATEGORIES:Fields Trials d'Automne
ATTACH;FMTTYPE=image/jpeg:https://www.chiendarret.fr/wp-content/uploads/2021/06/iamalaya.jpg
ORGANIZER;CN="POINTER CF - Mme PIFFETEAU NATACHA":MAILTO:natacha.piffeteau@fdc27.com
END:VEVENT
BEGIN:VEVENT
DTSTART;VALUE=DATE:20211004
DTEND;VALUE=DATE:20211005
DTSTAMP:20260420T230828
CREATED:20210618T232110Z
LAST-MODIFIED:20210619T070038Z
UID:1666-1633305600-1633391999@www.chiendarret.fr
SUMMARY:COMBON - CACT CONTINENTAUX - C BRAQUE ST GERMAIN
DESCRIPTION:CBF – CBSG – CEB – CEP – CGK – CABW – CFBA – VCF –
URL:https://www.chiendarret.fr/les-concours/combon-cact-continentaux-c-braque-st-germain-3/
LOCATION:27170 COMBON\, COMBON\, 27170\, France
CATEGORIES:Fields Trials d'Automne
ATTACH;FMTTYPE=image/jpeg:https://www.chiendarret.fr/wp-content/uploads/2021/06/iamalaya.jpg
ORGANIZER;CN="C BRAQUE ST GERMAIN - M. LEROUX DOMINIQUE":MAILTO:ftbeaumontel@gmail.com
END:VEVENT
BEGIN:VEVENT
DTSTART;VALUE=DATE:20211004
DTEND;VALUE=DATE:20211005
DTSTAMP:20260420T230828
CREATED:20210619T070308Z
LAST-MODIFIED:20210619T070308Z
UID:1899-1633305600-1633391999@www.chiendarret.fr
SUMMARY:LA VACQUERIE ET ST MARTIN DE CASTRIES - CACIT BRITANNIQUES - C SETTER ANGLAIS
DESCRIPTION:
URL:https://www.chiendarret.fr/les-concours/la-vacquerie-et-st-martin-de-castries-cacit-britanniques-c-setter-anglais/
LOCATION:34520 LA VACQUERIE ET ST MARTIN DE CASTRIES\, LA VACQUERIE ET ST MARTIN DE CASTRIES\, 34520\, France
CATEGORIES:Fields Trials d'Automne
ATTACH;FMTTYPE=image/jpeg:https://www.chiendarret.fr/wp-content/uploads/2021/06/iamalaya.jpg
ORGANIZER;CN="C SETTER ANGLAIS - M. GASIOT PASCAL":MAILTO:gasiot.pascal@gmail.com
END:VEVENT
BEGIN:VEVENT
DTSTART;VALUE=DATE:20211004
DTEND;VALUE=DATE:20211005
DTSTAMP:20260420T230828
CREATED:20210619T070338Z
LAST-MODIFIED:20210619T070338Z
UID:1907-1633305600-1633391999@www.chiendarret.fr
SUMMARY:LA VACQUERIE ET ST MARTIN DE CASTRIES 2 - CACIT CONTINENTAUX - C BRAQUE FRANCAIS
DESCRIPTION:
URL:https://www.chiendarret.fr/les-concours/la-vacquerie-et-st-martin-de-castries-2-cacit-continentaux-c-braque-francais/
LOCATION:34520 LA VACQUERIE ET ST MARTIN DE CASTRIES\, LA VACQUERIE ET ST MARTIN DE CASTRIES\, 34520\, France
CATEGORIES:Fields Trials d'Automne
ATTACH;FMTTYPE=image/jpeg:https://www.chiendarret.fr/wp-content/uploads/2021/06/iamalaya.jpg
ORGANIZER;CN="C BRAQUE FRANCAIS - M. GASIOT PASCAL":MAILTO:gasiot.pascal@gmail.com
END:VEVENT
BEGIN:VEVENT
DTSTART;VALUE=DATE:20211005
DTEND;VALUE=DATE:20211006
DTSTAMP:20260420T230828
CREATED:20210618T232109Z
LAST-MODIFIED:20210619T070038Z
UID:1664-1633392000-1633478399@www.chiendarret.fr
SUMMARY:COMBON - CACT BRITANNIQUES - RED CLUB
DESCRIPTION:CSA – PCF – RED.CLUB –
URL:https://www.chiendarret.fr/les-concours/combon-cact-britanniques-red-club-2/
LOCATION:27170 COMBON\, COMBON\, 27170\, France
CATEGORIES:Fields Trials d'Automne
ATTACH;FMTTYPE=image/jpeg:https://www.chiendarret.fr/wp-content/uploads/2021/06/iamalaya.jpg
ORGANIZER;CN="RED CLUB - Mme PIFFETEAU NATACHA":MAILTO:natacha.piffeteau@fdc27.com
END:VEVENT
BEGIN:VEVENT
DTSTART;VALUE=DATE:20211005
DTEND;VALUE=DATE:20211006
DTSTAMP:20260420T230828
CREATED:20210618T232124Z
LAST-MODIFIED:20210619T070053Z
UID:1668-1633392000-1633478399@www.chiendarret.fr
SUMMARY:COMBON 2 - CACT CONTINENTAUX - C BRAQUE ST GERMAIN
DESCRIPTION:CBF – CBSG – CEB – CEP – CGK – CABW – CFBA – VCF –
URL:https://www.chiendarret.fr/les-concours/combon-2-cact-continentaux-c-braque-st-germain/
LOCATION:27170 COMBON\, COMBON\, 27170\, France
CATEGORIES:Fields Trials d'Automne
ATTACH;FMTTYPE=image/jpeg:https://www.chiendarret.fr/wp-content/uploads/2021/06/iamalaya.jpg
ORGANIZER;CN="C BRAQUE ST GERMAIN - M. LEROUX DOMINIQUE":MAILTO:ftbeaumontel@gmail.com
END:VEVENT
BEGIN:VEVENT
DTSTART;VALUE=DATE:20211006
DTEND;VALUE=DATE:20211007
DTSTAMP:20260420T230828
CREATED:20210618T232109Z
LAST-MODIFIED:20210619T070038Z
UID:1662-1633478400-1633564799@www.chiendarret.fr
SUMMARY:COMBON - CACIT CONTINENTAUX - SC EURE
DESCRIPTION:LIEU A DEFINIR
URL:https://www.chiendarret.fr/les-concours/combon-cacit-continentaux-sc-eure-2/
LOCATION:27170 COMBON\, COMBON\, 27170\, France
CATEGORIES:Fields Trials d'Automne
ATTACH;FMTTYPE=image/jpeg:https://www.chiendarret.fr/wp-content/uploads/2021/06/iamalaya.jpg
ORGANIZER;CN="SC EURE - M. LEROUX DOMINIQUE":MAILTO:ftbeaumontel@gmail.com
END:VEVENT
BEGIN:VEVENT
DTSTART;VALUE=DATE:20211006
DTEND;VALUE=DATE:20211007
DTSTAMP:20260420T230828
CREATED:20210618T232109Z
LAST-MODIFIED:20210619T070038Z
UID:1665-1633478400-1633564799@www.chiendarret.fr
SUMMARY:COMBON - CACT BRITANNIQUES - SC EURE
DESCRIPTION:LIEU A DEFINIR
URL:https://www.chiendarret.fr/les-concours/combon-cact-britanniques-sc-eure-2/
LOCATION:27170 COMBON\, COMBON\, 27170\, France
CATEGORIES:Fields Trials d'Automne
ATTACH;FMTTYPE=image/jpeg:https://www.chiendarret.fr/wp-content/uploads/2021/06/iamalaya.jpg
ORGANIZER;CN="SC EURE - M. LEROUX DOMINIQUE":MAILTO:ftbeaumontel@gmail.com
END:VEVENT
BEGIN:VEVENT
DTSTART;VALUE=DATE:20211006
DTEND;VALUE=DATE:20211007
DTSTAMP:20260420T230828
CREATED:20210619T070309Z
LAST-MODIFIED:20210619T070309Z
UID:1900-1633478400-1633564799@www.chiendarret.fr
SUMMARY:LA VACQUERIE ET ST MARTIN DE CASTRIES - CACIT BRITANNIQUES - CUSCA-LR
DESCRIPTION:RÉGLEMENT PAR CHÉQUE A C.B.F
URL:https://www.chiendarret.fr/les-concours/la-vacquerie-et-st-martin-de-castries-cacit-britanniques-cusca-lr/
LOCATION:34520 LA VACQUERIE ET ST MARTIN DE CASTRIES\, LA VACQUERIE ET ST MARTIN DE CASTRIES\, 34520\, France
CATEGORIES:Fields Trials d'Automne
ATTACH;FMTTYPE=image/jpeg:https://www.chiendarret.fr/wp-content/uploads/2021/06/iamalaya.jpg
ORGANIZER;CN="CUSCA-LR - M. GASIOT PASCAL":MAILTO:gasiot.pascal@gmail.com
END:VEVENT
BEGIN:VEVENT
DTSTART;VALUE=DATE:20211006
DTEND;VALUE=DATE:20211007
DTSTAMP:20260420T230828
CREATED:20210619T070323Z
LAST-MODIFIED:20210619T070323Z
UID:1903-1633478400-1633564799@www.chiendarret.fr
SUMMARY:LA VACQUERIE ET ST MARTIN DE CASTRIES - CACIT CONTINENTAUX - CUSCA-LR
DESCRIPTION:RÉGLEMENT PAR CHÉQUE A C.B.F
URL:https://www.chiendarret.fr/les-concours/la-vacquerie-et-st-martin-de-castries-cacit-continentaux-cusca-lr/
LOCATION:34520 LA VACQUERIE ET ST MARTIN DE CASTRIES\, LA VACQUERIE ET ST MARTIN DE CASTRIES\, 34520\, France
CATEGORIES:Fields Trials d'Automne
ATTACH;FMTTYPE=image/jpeg:https://www.chiendarret.fr/wp-content/uploads/2021/06/iamalaya.jpg
ORGANIZER;CN="CUSCA-LR - M. GASIOT PASCAL":MAILTO:gasiot.pascal@gmail.com
END:VEVENT
BEGIN:VEVENT
DTSTART;VALUE=DATE:20211007
DTEND;VALUE=DATE:20211008
DTSTAMP:20260420T230828
CREATED:20210618T232054Z
LAST-MODIFIED:20210619T070023Z
UID:1654-1633564800-1633651199@www.chiendarret.fr
SUMMARY:CHIPILLY - CACT CONTINENTAUX - C EPAGNEUL PICARD
DESCRIPTION:CBF – CBSG – CEF – CGK – CABW – CFEML – DCF – VCF – A CONFIRMER
URL:https://www.chiendarret.fr/les-concours/chipilly-cact-continentaux-c-epagneul-picard-2/
LOCATION:80800 CHIPILLY\, CHIPILLY\, 80800\, France
CATEGORIES:Fields Trials d'Automne
ATTACH;FMTTYPE=image/jpeg:https://www.chiendarret.fr/wp-content/uploads/2021/06/iamalaya.jpg
ORGANIZER;CN="C EPAGNEUL PICARD - M. BRUTELLE WILLIAM":MAILTO:william.brutelle@wanadoo.fr
END:VEVENT
BEGIN:VEVENT
DTSTART;VALUE=DATE:20211007
DTEND;VALUE=DATE:20211008
DTSTAMP:20260420T230828
CREATED:20210619T070309Z
LAST-MODIFIED:20210619T070309Z
UID:1901-1633564800-1633651199@www.chiendarret.fr
SUMMARY:LA VACQUERIE ET ST MARTIN DE CASTRIES - CACIT BRITANNIQUES - SCC-CUNCA
DESCRIPTION:OPEN DE FRANCE
URL:https://www.chiendarret.fr/les-concours/la-vacquerie-et-st-martin-de-castries-cacit-britanniques-scc-cunca/
LOCATION:34520 LA VACQUERIE ET ST MARTIN DE CASTRIES\, LA VACQUERIE ET ST MARTIN DE CASTRIES\, 34520\, France
CATEGORIES:Fields Trials d'Automne
ATTACH;FMTTYPE=image/jpeg:https://www.chiendarret.fr/wp-content/uploads/2021/06/iamalaya.jpg
ORGANIZER;CN="SCC-CUNCA - M. GASIOT PASCAL":MAILTO:gasiot.pascal@gmail.com
END:VEVENT
BEGIN:VEVENT
DTSTART;VALUE=DATE:20211007
DTEND;VALUE=DATE:20211008
DTSTAMP:20260420T230828
CREATED:20210619T070323Z
LAST-MODIFIED:20210619T070323Z
UID:1904-1633564800-1633651199@www.chiendarret.fr
SUMMARY:LA VACQUERIE ET ST MARTIN DE CASTRIES - CACIT CONTINENTAUX - SCC-CUNCA
DESCRIPTION:OPEN DE FRANCE
URL:https://www.chiendarret.fr/les-concours/la-vacquerie-et-st-martin-de-castries-cacit-continentaux-scc-cunca/
LOCATION:34520 LA VACQUERIE ET ST MARTIN DE CASTRIES\, LA VACQUERIE ET ST MARTIN DE CASTRIES\, 34520\, France
CATEGORIES:Fields Trials d'Automne
ATTACH;FMTTYPE=image/jpeg:https://www.chiendarret.fr/wp-content/uploads/2021/06/iamalaya.jpg
ORGANIZER;CN="SCC-CUNCA - M. GASIOT PASCAL":MAILTO:gasiot.pascal@gmail.com
END:VEVENT
BEGIN:VEVENT
DTSTART;VALUE=DATE:20211008
DTEND;VALUE=DATE:20211009
DTSTAMP:20260420T230828
CREATED:20210619T070324Z
LAST-MODIFIED:20210619T070324Z
UID:1906-1633651200-1633737599@www.chiendarret.fr
SUMMARY:LA VACQUERIE ET ST MARTIN DE CASTRIES 2 - CACIT BRITANNIQUES - SCC-CUNCA
DESCRIPTION:OPEN DE FRANCE
URL:https://www.chiendarret.fr/les-concours/la-vacquerie-et-st-martin-de-castries-2-cacit-britanniques-scc-cunca/
LOCATION:34520 LA VACQUERIE ET ST MARTIN DE CASTRIES\, LA VACQUERIE ET ST MARTIN DE CASTRIES\, 34520\, France
CATEGORIES:Fields Trials d'Automne
ATTACH;FMTTYPE=image/jpeg:https://www.chiendarret.fr/wp-content/uploads/2021/06/iamalaya.jpg
ORGANIZER;CN="SCC-CUNCA - M. GASIOT PASCAL":MAILTO:gasiot.pascal@gmail.com
END:VEVENT
BEGIN:VEVENT
DTSTART;VALUE=DATE:20211008
DTEND;VALUE=DATE:20211009
DTSTAMP:20260420T230828
CREATED:20210619T070339Z
LAST-MODIFIED:20210619T070339Z
UID:1910-1633651200-1633737599@www.chiendarret.fr
SUMMARY:LE MESNIL EN THELLE - CACT CONTINENTAUX - VIZSLA CF
DESCRIPTION:CBF – CBSG – CEP – CABW – CFEML – DCF – RABA – VCF –
URL:https://www.chiendarret.fr/les-concours/le-mesnil-en-thelle-cact-continentaux-vizsla-cf/
LOCATION:60530 LE MESNIL EN THELLE\, LE MESNIL EN THELLE\, 60530\, France
CATEGORIES:Fields Trials d'Automne
ATTACH;FMTTYPE=image/jpeg:https://www.chiendarret.fr/wp-content/uploads/2021/06/iamalaya.jpg
ORGANIZER;CN="VIZSLA CF - Mme AARON ISABELLE":MAILTO:isabeaaron@sfr.fr
END:VEVENT
BEGIN:VEVENT
DTSTART;VALUE=DATE:20211008
DTEND;VALUE=DATE:20211009
DTSTAMP:20260420T230828
CREATED:20210619T070339Z
LAST-MODIFIED:20210619T070339Z
UID:1909-1633651200-1633737599@www.chiendarret.fr
SUMMARY:LA VACQUERIE ET ST MARTIN DE CASTRIES 2 - CACIT CONTINENTAUX - SCC-CUNCA
DESCRIPTION:OPEN DE FRANCE
URL:https://www.chiendarret.fr/les-concours/la-vacquerie-et-st-martin-de-castries-2-cacit-continentaux-scc-cunca/
LOCATION:34520 LA VACQUERIE ET ST MARTIN DE CASTRIES\, LA VACQUERIE ET ST MARTIN DE CASTRIES\, 34520\, France
CATEGORIES:Fields Trials d'Automne
ATTACH;FMTTYPE=image/jpeg:https://www.chiendarret.fr/wp-content/uploads/2021/06/iamalaya.jpg
ORGANIZER;CN="SCC-CUNCA - M. GASIOT PASCAL":MAILTO:gasiot.pascal@gmail.com
END:VEVENT
BEGIN:VEVENT
DTSTART;VALUE=DATE:20211009
DTEND;VALUE=DATE:20211010
DTSTAMP:20260420T230828
CREATED:20210619T070323Z
LAST-MODIFIED:20210619T070323Z
UID:1905-1633737600-1633823999@www.chiendarret.fr
SUMMARY:LA VACQUERIE ET ST MARTIN DE CASTRIES 2 - CACIT BRITANNIQUES - CUSCA-LR
DESCRIPTION:RÉGLEMENT PAR CHÉQUE A C.B.F
URL:https://www.chiendarret.fr/les-concours/la-vacquerie-et-st-martin-de-castries-2-cacit-britanniques-cusca-lr/
LOCATION:34520 LA VACQUERIE ET ST MARTIN DE CASTRIES\, LA VACQUERIE ET ST MARTIN DE CASTRIES\, 34520\, France
CATEGORIES:Fields Trials d'Automne
ATTACH;FMTTYPE=image/jpeg:https://www.chiendarret.fr/wp-content/uploads/2021/06/iamalaya.jpg
ORGANIZER;CN="CUSCA-LR - M. GASIOT PASCAL":MAILTO:gasiot.pascal@gmail.com
END:VEVENT
BEGIN:VEVENT
DTSTART;VALUE=DATE:20211009
DTEND;VALUE=DATE:20211010
DTSTAMP:20260420T230828
CREATED:20210619T070338Z
LAST-MODIFIED:20210619T070338Z
UID:1908-1633737600-1633823999@www.chiendarret.fr
SUMMARY:LA VACQUERIE ET ST MARTIN DE CASTRIES 2 - CACIT CONTINENTAUX - CUSCA-LR
DESCRIPTION:RÉGLEMENT PAR CHÉQUE A C.B.F
URL:https://www.chiendarret.fr/les-concours/la-vacquerie-et-st-martin-de-castries-2-cacit-continentaux-cusca-lr/
LOCATION:34520 LA VACQUERIE ET ST MARTIN DE CASTRIES\, LA VACQUERIE ET ST MARTIN DE CASTRIES\, 34520\, France
CATEGORIES:Fields Trials d'Automne
ATTACH;FMTTYPE=image/jpeg:https://www.chiendarret.fr/wp-content/uploads/2021/06/iamalaya.jpg
ORGANIZER;CN="CUSCA-LR - M. GASIOT PASCAL":MAILTO:gasiot.pascal@gmail.com
END:VEVENT
BEGIN:VEVENT
DTSTART;VALUE=DATE:20211009
DTEND;VALUE=DATE:20211010
DTSTAMP:20260420T230828
CREATED:20210619T070339Z
LAST-MODIFIED:20210619T070339Z
UID:1911-1633737600-1633823999@www.chiendarret.fr
SUMMARY:LE MESNIL EN THELLE 2 - CACT CONTINENTAUX - VIZSLA CF
DESCRIPTION:CBF – CBSG – CEP – CABW – CFEML – DCF – RABA – VCF –
URL:https://www.chiendarret.fr/les-concours/le-mesnil-en-thelle-2-cact-continentaux-vizsla-cf/
LOCATION:60530 LE MESNIL EN THELLE\, LE MESNIL EN THELLE\, 60530\, France
CATEGORIES:Fields Trials d'Automne
ATTACH;FMTTYPE=image/jpeg:https://www.chiendarret.fr/wp-content/uploads/2021/06/iamalaya.jpg
ORGANIZER;CN="VIZSLA CF - Mme AARON ISABELLE":MAILTO:isabeaaron@sfr.fr
END:VEVENT
BEGIN:VEVENT
DTSTART;VALUE=DATE:20211010
DTEND;VALUE=DATE:20211011
DTSTAMP:20260420T230828
CREATED:20210619T070153Z
LAST-MODIFIED:20210619T070153Z
UID:1873-1633824000-1633910399@www.chiendarret.fr
SUMMARY:ESCOURCE - CACIT CONTINENTAUX - C EPAGNEUL BRETON
DESCRIPTION:REGLEMENT CARTE BANCAIRE OU CHEQUE À L ORDRE DU CEB
URL:https://www.chiendarret.fr/les-concours/escource-cacit-continentaux-c-epagneul-breton/
LOCATION:40210 ESCOURCE\, ESCOURCE\, 40210\, France
CATEGORIES:Fields Trials d'Automne
ATTACH;FMTTYPE=image/jpeg:https://www.chiendarret.fr/wp-content/uploads/2021/06/iamalaya.jpg
ORGANIZER;CN="C EPAGNEUL BRETON - M. VERON BRUNO":MAILTO:veronbruno@wanadoo.fr
END:VEVENT
BEGIN:VEVENT
DTSTART;VALUE=DATE:20211010
DTEND;VALUE=DATE:20211011
DTSTAMP:20260420T230828
CREATED:20210619T070153Z
LAST-MODIFIED:20210619T070153Z
UID:1874-1633824000-1633910399@www.chiendarret.fr
SUMMARY:ESCOURCE - CACIT CONTINENTAUX - C GRIFFON KORTHALS
DESCRIPTION:POULE KORTHALS 2021
URL:https://www.chiendarret.fr/les-concours/escource-cacit-continentaux-c-griffon-korthals/
LOCATION:40210 ESCOURCE\, ESCOURCE\, 40210\, France
CATEGORIES:Fields Trials d'Automne
ATTACH;FMTTYPE=image/jpeg:https://www.chiendarret.fr/wp-content/uploads/2021/06/iamalaya.jpg
ORGANIZER;CN="C GRIFFON KORTHALS - M. CHARDON PIERRE":MAILTO:pierre.chardon.iphone@gmail.com
END:VEVENT
BEGIN:VEVENT
DTSTART;VALUE=DATE:20211010
DTEND;VALUE=DATE:20211011
DTSTAMP:20260420T230828
CREATED:20210619T070154Z
LAST-MODIFIED:20210619T070154Z
UID:1875-1633824000-1633910399@www.chiendarret.fr
SUMMARY:ESCOURCE - CACIT CONTINENTAUX - CF BRAQUE ALLEMAND
DESCRIPTION:
URL:https://www.chiendarret.fr/les-concours/escource-cacit-continentaux-cf-braque-allemand/
LOCATION:40210 ESCOURCE\, ESCOURCE\, 40210\, France
CATEGORIES:Fields Trials d'Automne
ATTACH;FMTTYPE=image/jpeg:https://www.chiendarret.fr/wp-content/uploads/2021/06/iamalaya.jpg
ORGANIZER;CN="CF BRAQUE ALLEMAND - Mme PIAT SYLVIE":MAILTO:piatsylvie@orange.fr
END:VEVENT
BEGIN:VEVENT
DTSTART;VALUE=DATE:20211010
DTEND;VALUE=DATE:20211011
DTSTAMP:20260420T230828
CREATED:20210619T070154Z
LAST-MODIFIED:20210619T070154Z
UID:1876-1633824000-1633910399@www.chiendarret.fr
SUMMARY:ESCOURCE - CACT CONTINENTAUX - C BRAQUE FRANCAIS
DESCRIPTION:
URL:https://www.chiendarret.fr/les-concours/escource-cact-continentaux-c-braque-francais/
LOCATION:40210 ESCOURCE\, ESCOURCE\, 40210\, France
CATEGORIES:Fields Trials d'Automne
ATTACH;FMTTYPE=image/jpeg:https://www.chiendarret.fr/wp-content/uploads/2021/06/iamalaya.jpg
ORGANIZER;CN="C BRAQUE FRANCAIS - M. GASIOT PASCAL":MAILTO:gasiot.pascal@gmail.com
END:VEVENT
END:VCALENDAR