BEGIN:VCALENDAR
VERSION:2.0
PRODID:-//Chiens d&#039;arrêt - ECPv6.8.3//NONSGML v1.0//EN
CALSCALE:GREGORIAN
METHOD:PUBLISH
X-ORIGINAL-URL:https://www.chiendarret.fr
X-WR-CALDESC:Évènements pour Chiens d&#039;arrêt
REFRESH-INTERVAL;VALUE=DURATION:PT1H
X-Robots-Tag:noindex
X-PUBLISHED-TTL:PT1H
BEGIN:VTIMEZONE
TZID:Europe/Paris
BEGIN:DAYLIGHT
TZOFFSETFROM:+0100
TZOFFSETTO:+0200
TZNAME:CEST
DTSTART:20210328T010000
END:DAYLIGHT
BEGIN:STANDARD
TZOFFSETFROM:+0200
TZOFFSETTO:+0100
TZNAME:CET
DTSTART:20211031T010000
END:STANDARD
END:VTIMEZONE
BEGIN:VEVENT
DTSTART;VALUE=DATE:20210821
DTEND;VALUE=DATE:20210822
DTSTAMP:20260421T062224
CREATED:20210618T233327Z
LAST-MODIFIED:20210619T071929Z
UID:1813-1629504000-1629590399@www.chiendarret.fr
SUMMARY:PUYLAURENS - CACIT CONTINENTAUX - C GRIFFON KORTHALS
DESCRIPTION:PERDRIX
URL:https://www.chiendarret.fr/les-concours/puylaurens-cacit-continentaux-c-griffon-korthals/
LOCATION:81700 PUYLAURENS\, PUYLAURENS\, 81700\, France
CATEGORIES:Fields Trials Gibier Naturel
ATTACH;FMTTYPE=image/jpeg:https://www.chiendarret.fr/wp-content/uploads/2021/07/field-trial-griffon.jpg
ORGANIZER;CN="C GRIFFON KORTHALS - M. BURATTO ROBERT":MAILTO:robertburatto81@wanadoo.fr
END:VEVENT
BEGIN:VEVENT
DTSTART;VALUE=DATE:20210821
DTEND;VALUE=DATE:20210822
DTSTAMP:20260421T062224
CREATED:20210619T071058Z
LAST-MODIFIED:20210619T071058Z
UID:2012-1629504000-1629590399@www.chiendarret.fr
SUMMARY:LA FAJOLLE - CACT BRITANNIQUES - POINTER CF
DESCRIPTION:
URL:https://www.chiendarret.fr/les-concours/la-fajolle-cact-britanniques-pointer-cf/
LOCATION:11140 LA FAJOLLE\, LA FAJOLLE\, 11140\, France
CATEGORIES:Fields Trials Gibier Sauvage
ATTACH;FMTTYPE=image/jpeg:https://www.chiendarret.fr/wp-content/uploads/2021/07/setter_irlandais_field.jpg
ORGANIZER;CN="POINTER CF - M. GLEIZES JEAN-CHARLES":MAILTO:jcgleizes11@free.fr
END:VEVENT
BEGIN:VEVENT
DTSTART;VALUE=DATE:20210821
DTEND;VALUE=DATE:20210822
DTSTAMP:20260421T062224
CREATED:20210619T071114Z
LAST-MODIFIED:20210619T071114Z
UID:2021-1629504000-1629590399@www.chiendarret.fr
SUMMARY:LASCOLS - CACT BRITANNIQUES - C SETTER ANGLAIS
DESCRIPTION:
URL:https://www.chiendarret.fr/les-concours/lascols-cact-britanniques-c-setter-anglais/
LOCATION:15430 CUSSAC\, CUSSAC\, 15430\, France
CATEGORIES:Fields Trials Gibier Sauvage
ATTACH;FMTTYPE=image/jpeg:https://www.chiendarret.fr/wp-content/uploads/2021/07/setter_irlandais_field.jpg
ORGANIZER;CN="C SETTER ANGLAIS - M. LANORD OCTAVE":MAILTO:ol.boisdebene@orange.fr
END:VEVENT
BEGIN:VEVENT
DTSTART;VALUE=DATE:20210822
DTEND;VALUE=DATE:20210823
DTSTAMP:20260421T062224
CREATED:20210618T233327Z
LAST-MODIFIED:20210619T071929Z
UID:1815-1629590400-1629676799@www.chiendarret.fr
SUMMARY:PUYLAURENS - CACT CONTINENTAUX - AC TARN
DESCRIPTION:
URL:https://www.chiendarret.fr/les-concours/puylaurens-cact-continentaux-ac-tarn/
LOCATION:81700 PUYLAURENS\, PUYLAURENS\, 81700\, France
CATEGORIES:Fields Trials Gibier Naturel
ATTACH;FMTTYPE=image/jpeg:https://www.chiendarret.fr/wp-content/uploads/2021/07/field-trial-griffon.jpg
ORGANIZER;CN="AC TARN - M. BURATTO ROBERT":MAILTO:robertburatto81@wanadoo.fr
END:VEVENT
BEGIN:VEVENT
DTSTART;VALUE=DATE:20210822
DTEND;VALUE=DATE:20210823
DTSTAMP:20260421T062224
CREATED:20210618T233327Z
LAST-MODIFIED:20210619T071929Z
UID:1814-1629590400-1629676799@www.chiendarret.fr
SUMMARY:PUYLAURENS - CACT BRITANNIQUES - AC TARN
DESCRIPTION:
URL:https://www.chiendarret.fr/les-concours/puylaurens-cact-britanniques-ac-tarn/
LOCATION:81700 PUYLAURENS\, PUYLAURENS\, 81700\, France
CATEGORIES:Fields Trials Gibier Naturel
ATTACH;FMTTYPE=image/jpeg:https://www.chiendarret.fr/wp-content/uploads/2021/07/field-trial-griffon.jpg
ORGANIZER;CN="AC TARN - M. BURATTO ROBERT":MAILTO:robertburatto81@wanadoo.fr
END:VEVENT
BEGIN:VEVENT
DTSTART;VALUE=DATE:20210822
DTEND;VALUE=DATE:20210823
DTSTAMP:20260421T062224
CREATED:20210619T071044Z
LAST-MODIFIED:20210619T071044Z
UID:2011-1629590400-1629676799@www.chiendarret.fr
SUMMARY:LA FAJOLLE - CACIT BRITANNIQUES - POINTER CF
DESCRIPTION:
URL:https://www.chiendarret.fr/les-concours/la-fajolle-cacit-britanniques-pointer-cf/
LOCATION:11140 LA FAJOLLE\, LA FAJOLLE\, 11140\, France
CATEGORIES:Fields Trials Gibier Sauvage
ATTACH;FMTTYPE=image/jpeg:https://www.chiendarret.fr/wp-content/uploads/2021/07/setter_irlandais_field.jpg
ORGANIZER;CN="POINTER CF - M. GLEIZES JEAN-CHARLES":MAILTO:jcgleizes11@free.fr
END:VEVENT
BEGIN:VEVENT
DTSTART;VALUE=DATE:20210823
DTEND;VALUE=DATE:20210824
DTSTAMP:20260421T062224
CREATED:20210618T232505Z
LAST-MODIFIED:20210619T071600Z
UID:1761-1629676800-1629763199@www.chiendarret.fr
SUMMARY:AIX EN ISSART - CACT CONTINENTAUX - C BRAQUE ST GERMAIN
DESCRIPTION:CBSG – CEF – CEP – CGK – CABW – CFBA – RABA – VCF – LIMITÉ À 2 CONCOURS DE 12 CHIENS. VALIDATION A RÉCEPTION DU PAIEMENT.
URL:https://www.chiendarret.fr/les-concours/aix-en-issart-cact-continentaux-c-braque-st-germain/
LOCATION:62170 AIX EN ISSART\, AIX EN ISSART\, 62170\, France
CATEGORIES:Fields Trials Gibier Naturel
ATTACH;FMTTYPE=image/jpeg:https://www.chiendarret.fr/wp-content/uploads/2021/07/field-trial-griffon.jpg
ORGANIZER;CN="C BRAQUE ST GERMAIN - Mme FAUQUEMBERT CATHERINE":MAILTO:fauquembert.catherine@orange.fr
END:VEVENT
BEGIN:VEVENT
DTSTART;VALUE=DATE:20210823
DTEND;VALUE=DATE:20210824
DTSTAMP:20260421T062224
CREATED:20210618T232816Z
LAST-MODIFIED:20210619T071703Z
UID:1788-1629676800-1629763199@www.chiendarret.fr
SUMMARY:LA POMAREDE - CACIT CONTINENTAUX - CUSCA-LR
DESCRIPTION:RÉGLEMENT PAR CHÉQUE A C.B.F
URL:https://www.chiendarret.fr/les-concours/la-pomarede-cacit-continentaux-cusca-lr-2/
LOCATION:11400 LA POMAREDE\, LA POMAREDE\, 11400\, France
CATEGORIES:Fields Trials Gibier Naturel
ATTACH;FMTTYPE=image/jpeg:https://www.chiendarret.fr/wp-content/uploads/2021/07/field-trial-griffon.jpg
ORGANIZER;CN="CUSCA-LR - M. GASIOT PASCAL":MAILTO:gasiot.pascal@gmail.com
END:VEVENT
BEGIN:VEVENT
DTSTART;VALUE=DATE:20210823
DTEND;VALUE=DATE:20210824
DTSTAMP:20260421T062224
CREATED:20210618T232817Z
LAST-MODIFIED:20210619T071703Z
UID:1789-1629676800-1629763199@www.chiendarret.fr
SUMMARY:LA POMAREDE - CACT BRITANNIQUES - CUSCA-LR
DESCRIPTION:RÉGLEMENT PAR CHÉQUE A C.B.F
URL:https://www.chiendarret.fr/les-concours/la-pomarede-cact-britanniques-cusca-lr/
LOCATION:11400 LA POMAREDE\, LA POMAREDE\, 11400\, France
CATEGORIES:Fields Trials Gibier Naturel
ATTACH;FMTTYPE=image/jpeg:https://www.chiendarret.fr/wp-content/uploads/2021/07/field-trial-griffon.jpg
ORGANIZER;CN="CUSCA-LR - M. GASIOT PASCAL":MAILTO:gasiot.pascal@gmail.com
END:VEVENT
BEGIN:VEVENT
DTSTART;VALUE=DATE:20210823
DTEND;VALUE=DATE:20210824
DTSTAMP:20260421T062224
CREATED:20210619T071214Z
LAST-MODIFIED:20210619T071214Z
UID:2038-1629676800-1629763199@www.chiendarret.fr
SUMMARY:MERIAL - CACIT BRITANNIQUES - POINTER CF
DESCRIPTION:
URL:https://www.chiendarret.fr/les-concours/merial-cacit-britanniques-pointer-cf/
LOCATION:11140 MERIAL\, MERIAL\, 11140\, France
CATEGORIES:Fields Trials Gibier Sauvage
ATTACH;FMTTYPE=image/jpeg:https://www.chiendarret.fr/wp-content/uploads/2021/07/setter_irlandais_field.jpg
ORGANIZER;CN="POINTER CF - M. GLEIZES JEAN-CHARLES":MAILTO:jcgleizes11@free.fr
END:VEVENT
BEGIN:VEVENT
DTSTART;VALUE=DATE:20210824
DTEND;VALUE=DATE:20210825
DTSTAMP:20260421T062224
CREATED:20210618T232505Z
LAST-MODIFIED:20210701T072243Z
UID:1762-1629763200-1629849599@www.chiendarret.fr
SUMMARY:AUDINGHEN - CACIT BRITANNIQUES - CUSCA-62
DESCRIPTION:
URL:https://www.chiendarret.fr/les-concours/audinghen-cacit-britanniques-cusca-62/
LOCATION:62179 AUDINGHEN\, AUDINGHEN\, 62179\, France
CATEGORIES:Fields Trials Gibier Naturel
ATTACH;FMTTYPE=image/jpeg:https://www.chiendarret.fr/wp-content/uploads/2021/07/field-trial-griffon.jpg
ORGANIZER;CN="CUSCA-62 - M. MERLIN PIERRE":MAILTO:pierre.merlin0135@bbox.fr
END:VEVENT
BEGIN:VEVENT
DTSTART;VALUE=DATE:20210824
DTEND;VALUE=DATE:20210825
DTSTAMP:20260421T062224
CREATED:20210618T232505Z
LAST-MODIFIED:20210701T072227Z
UID:1763-1629763200-1629849599@www.chiendarret.fr
SUMMARY:AUDINGHEN - CACIT CONTINENTAUX - CUSCA-62
DESCRIPTION:
URL:https://www.chiendarret.fr/les-concours/audinghen-cacit-continentaux-cusca-62/
LOCATION:62179 AUDINGHEN\, AUDINGHEN\, 62179\, France
CATEGORIES:Fields Trials Gibier Naturel
ATTACH;FMTTYPE=image/jpeg:https://www.chiendarret.fr/wp-content/uploads/2021/07/field-trial-griffon.jpg
ORGANIZER;CN="CUSCA-62 - M. MERLIN PIERRE":MAILTO:pierre.merlin0135@bbox.fr
END:VEVENT
BEGIN:VEVENT
DTSTART;VALUE=DATE:20210824
DTEND;VALUE=DATE:20210825
DTSTAMP:20260421T062224
CREATED:20210618T232817Z
LAST-MODIFIED:20210619T071703Z
UID:1790-1629763200-1629849599@www.chiendarret.fr
SUMMARY:LA POMAREDE 2 - CACIT CONTINENTAUX - CUSCA-LR
DESCRIPTION:RÉGLEMENT PAR CHÉQUE A C.B.F
URL:https://www.chiendarret.fr/les-concours/la-pomarede-2-cacit-continentaux-cusca-lr/
LOCATION:11400 LA POMAREDE\, LA POMAREDE\, 11400\, France
CATEGORIES:Fields Trials Gibier Naturel
ATTACH;FMTTYPE=image/jpeg:https://www.chiendarret.fr/wp-content/uploads/2021/07/field-trial-griffon.jpg
ORGANIZER;CN="CUSCA-LR - M. GASIOT PASCAL":MAILTO:gasiot.pascal@gmail.com
END:VEVENT
BEGIN:VEVENT
DTSTART;VALUE=DATE:20210824
DTEND;VALUE=DATE:20210825
DTSTAMP:20260421T062224
CREATED:20210618T232927Z
LAST-MODIFIED:20210619T071717Z
UID:1791-1629763200-1629849599@www.chiendarret.fr
SUMMARY:LA POMAREDE 2 - CACT BRITANNIQUES - CUSCA-LR
DESCRIPTION:RÉGLEMENT PAR CHÉQUE A C.B.F
URL:https://www.chiendarret.fr/les-concours/la-pomarede-2-cact-britanniques-cusca-lr/
LOCATION:11400 LA POMAREDE\, LA POMAREDE\, 11400\, France
CATEGORIES:Fields Trials Gibier Naturel
ATTACH;FMTTYPE=image/jpeg:https://www.chiendarret.fr/wp-content/uploads/2021/07/field-trial-griffon.jpg
ORGANIZER;CN="CUSCA-LR - M. GASIOT PASCAL":MAILTO:gasiot.pascal@gmail.com
END:VEVENT
BEGIN:VEVENT
DTSTART;VALUE=DATE:20210825
DTEND;VALUE=DATE:20210826
DTSTAMP:20260421T062224
CREATED:20210618T232505Z
LAST-MODIFIED:20210619T071600Z
UID:1765-1629849600-1629935999@www.chiendarret.fr
SUMMARY:AUDINGHEN 2 - CACIT CONTINENTAUX - CUSCA-62
DESCRIPTION:
URL:https://www.chiendarret.fr/les-concours/audinghen-2-cacit-continentaux-cusca-62/
LOCATION:62179 AUDINGHEN\, AUDINGHEN\, 62179\, France
CATEGORIES:Fields Trials Gibier Naturel
ATTACH;FMTTYPE=image/jpeg:https://www.chiendarret.fr/wp-content/uploads/2021/07/field-trial-griffon.jpg
ORGANIZER;CN="CUSCA-62 - M. MERLIN PIERRE":MAILTO:pierre.merlin0135@bbox.fr
END:VEVENT
BEGIN:VEVENT
DTSTART;VALUE=DATE:20210825
DTEND;VALUE=DATE:20210826
DTSTAMP:20260421T062224
CREATED:20210618T232505Z
LAST-MODIFIED:20210619T071600Z
UID:1764-1629849600-1629935999@www.chiendarret.fr
SUMMARY:AUDINGHEN 2 - CACIT BRITANNIQUES - CUSCA-62
DESCRIPTION:
URL:https://www.chiendarret.fr/les-concours/audinghen-2-cacit-britanniques-cusca-62/
LOCATION:62179 AUDINGHEN\, AUDINGHEN\, 62179\, France
CATEGORIES:Fields Trials Gibier Naturel
ATTACH;FMTTYPE=image/jpeg:https://www.chiendarret.fr/wp-content/uploads/2021/07/field-trial-griffon.jpg
ORGANIZER;CN="CUSCA-62 - M. MERLIN PIERRE":MAILTO:pierre.merlin0135@bbox.fr
END:VEVENT
BEGIN:VEVENT
DTSTART;VALUE=DATE:20210826
DTEND;VALUE=DATE:20210827
DTSTAMP:20260421T062224
CREATED:20210618T232508Z
LAST-MODIFIED:20210619T071602Z
UID:1767-1629936000-1630022399@www.chiendarret.fr
SUMMARY:AUDINGHEN 3 - CACIT CONTINENTAUX - CUSCA-62
DESCRIPTION:
URL:https://www.chiendarret.fr/les-concours/audinghen-3-cacit-continentaux-cusca-62/
LOCATION:62179 AUDINGHEN\, AUDINGHEN\, 62179\, France
CATEGORIES:Fields Trials Gibier Naturel
ATTACH;FMTTYPE=image/jpeg:https://www.chiendarret.fr/wp-content/uploads/2021/07/field-trial-griffon.jpg
ORGANIZER;CN="CUSCA-62 - M. MERLIN PIERRE":MAILTO:pierre.merlin0135@bbox.fr
END:VEVENT
BEGIN:VEVENT
DTSTART;VALUE=DATE:20210826
DTEND;VALUE=DATE:20210827
DTSTAMP:20260421T062224
CREATED:20210618T232508Z
LAST-MODIFIED:20210619T071602Z
UID:1766-1629936000-1630022399@www.chiendarret.fr
SUMMARY:AUDINGHEN 3 - CACIT BRITANNIQUES - CUSCA-62
DESCRIPTION:
URL:https://www.chiendarret.fr/les-concours/audinghen-3-cacit-britanniques-cusca-62/
LOCATION:62179 AUDINGHEN\, AUDINGHEN\, 62179\, France
CATEGORIES:Fields Trials Gibier Naturel
ATTACH;FMTTYPE=image/jpeg:https://www.chiendarret.fr/wp-content/uploads/2021/07/field-trial-griffon.jpg
ORGANIZER;CN="CUSCA-62 - M. MERLIN PIERRE":MAILTO:pierre.merlin0135@bbox.fr
END:VEVENT
BEGIN:VEVENT
DTSTART;VALUE=DATE:20210827
DTEND;VALUE=DATE:20210828
DTSTAMP:20260421T062224
CREATED:20210618T232508Z
LAST-MODIFIED:20210619T071603Z
UID:1768-1630022400-1630108799@www.chiendarret.fr
SUMMARY:AUDINGHEN 4 - CACIT BRITANNIQUES - CUSCA-62
DESCRIPTION:
URL:https://www.chiendarret.fr/les-concours/audinghen-4-cacit-britanniques-cusca-62/
LOCATION:62179 AUDINGHEN\, AUDINGHEN\, 62179\, France
CATEGORIES:Fields Trials Gibier Naturel
ATTACH;FMTTYPE=image/jpeg:https://www.chiendarret.fr/wp-content/uploads/2021/07/field-trial-griffon.jpg
ORGANIZER;CN="CUSCA-62 - M. MERLIN PIERRE":MAILTO:pierre.merlin0135@bbox.fr
END:VEVENT
BEGIN:VEVENT
DTSTART;VALUE=DATE:20210827
DTEND;VALUE=DATE:20210828
DTSTAMP:20260421T062224
CREATED:20210618T232509Z
LAST-MODIFIED:20210619T071603Z
UID:1769-1630022400-1630108799@www.chiendarret.fr
SUMMARY:AUDINGHEN 4 - CACIT CONTINENTAUX - CUSCA-62
DESCRIPTION:
URL:https://www.chiendarret.fr/les-concours/audinghen-4-cacit-continentaux-cusca-62/
LOCATION:62179 AUDINGHEN\, AUDINGHEN\, 62179\, France
CATEGORIES:Fields Trials Gibier Naturel
ATTACH;FMTTYPE=image/jpeg:https://www.chiendarret.fr/wp-content/uploads/2021/07/field-trial-griffon.jpg
ORGANIZER;CN="CUSCA-62 - M. MERLIN PIERRE":MAILTO:pierre.merlin0135@bbox.fr
END:VEVENT
BEGIN:VEVENT
DTSTART;VALUE=DATE:20210828
DTEND;VALUE=DATE:20210829
DTSTAMP:20260421T062224
CREATED:20210618T233200Z
LAST-MODIFIED:20210825T121544Z
UID:1806-1630108800-1630195199@www.chiendarret.fr
SUMMARY:Annulé - NUISEMENT SUR COOLE - CACIT BRITANNIQUES - C SETTER ANGLAIS
DESCRIPTION:Une mauvaise reproduction de la perdrix grise ne nous permet pas d’accueillir les concurrents dans de bonnes conditions de réussite. \nAfin que vous compreniez bien notre décision\, il faut souligner qu’une grande majorité de ces territoires ne chasseront pas la perdrix.
URL:https://www.chiendarret.fr/les-concours/nuisement-sur-coole-cacit-britanniques-c-setter-anglais/
LOCATION:51240 NUISEMENT SUR COOLE\, NUISEMENT SUR COOLE\, 51240\, France
CATEGORIES:Fields Trials Gibier Naturel
ATTACH;FMTTYPE=image/jpeg:https://www.chiendarret.fr/wp-content/uploads/2021/07/field-trial-griffon.jpg
ORGANIZER;CN="C SETTER ANGLAIS - M. BERBE DOMINIQUE":MAILTO:dominique.berbe@wanadoo.fr
END:VEVENT
BEGIN:VEVENT
DTSTART;VALUE=DATE:20210828
DTEND;VALUE=DATE:20210829
DTSTAMP:20260421T062224
CREATED:20210618T233201Z
LAST-MODIFIED:20210619T071803Z
UID:1809-1630108800-1630195199@www.chiendarret.fr
SUMMARY:PORTS SUR VIENNE - CACT BRITANNIQUES - CUCC-37
DESCRIPTION:
URL:https://www.chiendarret.fr/les-concours/ports-sur-vienne-cact-britanniques-cucc-37/
LOCATION:37800 PORTS SUR VIENNE\, PORTS SUR VIENNE\, 37800\, France
CATEGORIES:Fields Trials Gibier Naturel
ATTACH;FMTTYPE=image/jpeg:https://www.chiendarret.fr/wp-content/uploads/2021/07/field-trial-griffon.jpg
ORGANIZER;CN="CUCC-37 - M. BOURGEOIS BRUNO":MAILTO:bruno.bourgeois0326@orange.fr
END:VEVENT
BEGIN:VEVENT
DTSTART;VALUE=DATE:20210828
DTEND;VALUE=DATE:20210829
DTSTAMP:20260421T062224
CREATED:20210618T233201Z
LAST-MODIFIED:20210619T071803Z
UID:1810-1630108800-1630195199@www.chiendarret.fr
SUMMARY:PORTS SUR VIENNE - CACT CONTINENTAUX - CUCC-37
DESCRIPTION:
URL:https://www.chiendarret.fr/les-concours/ports-sur-vienne-cact-continentaux-cucc-37/
LOCATION:37800 PORTS SUR VIENNE\, PORTS SUR VIENNE\, 37800\, France
CATEGORIES:Fields Trials Gibier Naturel
ATTACH;FMTTYPE=image/jpeg:https://www.chiendarret.fr/wp-content/uploads/2021/07/field-trial-griffon.jpg
ORGANIZER;CN="CUCC-37 - M. BOURGEOIS BRUNO":MAILTO:bruno.bourgeois0326@orange.fr
END:VEVENT
BEGIN:VEVENT
DTSTART;VALUE=DATE:20210829
DTEND;VALUE=DATE:20210830
DTSTAMP:20260421T062224
CREATED:20210618T233201Z
LAST-MODIFIED:20210825T121615Z
UID:1808-1630195200-1630281599@www.chiendarret.fr
SUMMARY:Annulé - NUISEMENT SUR COOLE 2 - CACIT BRITANNIQUES - C SETTER ANGLAIS
DESCRIPTION:Une mauvaise reproduction de la perdrix grise ne nous permet pas d’accueillir les concurrents dans de bonnes conditions de réussite. \nAfin que vous compreniez bien notre décision\, il faut souligner qu’une grande majorité de ces territoires ne chasseront pas la perdrix.
URL:https://www.chiendarret.fr/les-concours/nuisement-sur-coole-2-cacit-britanniques-c-setter-anglais/
LOCATION:51240 NUISEMENT SUR COOLE\, NUISEMENT SUR COOLE\, 51240\, France
CATEGORIES:Fields Trials Gibier Naturel
ATTACH;FMTTYPE=image/jpeg:https://www.chiendarret.fr/wp-content/uploads/2021/07/field-trial-griffon.jpg
ORGANIZER;CN="C SETTER ANGLAIS - M. BERBE DOMINIQUE":MAILTO:dominique.berbe@wanadoo.fr
END:VEVENT
BEGIN:VEVENT
DTSTART;VALUE=DATE:20210829
DTEND;VALUE=DATE:20210830
DTSTAMP:20260421T062224
CREATED:20210618T233326Z
LAST-MODIFIED:20210619T071929Z
UID:1811-1630195200-1630281599@www.chiendarret.fr
SUMMARY:PORTS SUR VIENNE 2 - CACT BRITANNIQUES - CUCC-37
DESCRIPTION:
URL:https://www.chiendarret.fr/les-concours/ports-sur-vienne-2-cact-britanniques-cucc-37/
LOCATION:37800 PORTS SUR VIENNE\, PORTS SUR VIENNE\, 37800\, France
CATEGORIES:Fields Trials Gibier Naturel
ATTACH;FMTTYPE=image/jpeg:https://www.chiendarret.fr/wp-content/uploads/2021/07/field-trial-griffon.jpg
ORGANIZER;CN="CUCC-37 - M. BOURGEOIS BRUNO":MAILTO:bruno.bourgeois0326@orange.fr
END:VEVENT
BEGIN:VEVENT
DTSTART;VALUE=DATE:20210829
DTEND;VALUE=DATE:20210830
DTSTAMP:20260421T062224
CREATED:20210618T233327Z
LAST-MODIFIED:20210619T071929Z
UID:1812-1630195200-1630281599@www.chiendarret.fr
SUMMARY:PORTS SUR VIENNE 2 - CACT CONTINENTAUX - CUCC-37
DESCRIPTION:
URL:https://www.chiendarret.fr/les-concours/ports-sur-vienne-2-cact-continentaux-cucc-37/
LOCATION:37800 PORTS SUR VIENNE\, PORTS SUR VIENNE\, 37800\, France
CATEGORIES:Fields Trials Gibier Naturel
ATTACH;FMTTYPE=image/jpeg:https://www.chiendarret.fr/wp-content/uploads/2021/07/field-trial-griffon.jpg
ORGANIZER;CN="CUCC-37 - M. BOURGEOIS BRUNO":MAILTO:bruno.bourgeois0326@orange.fr
END:VEVENT
BEGIN:VEVENT
DTSTART;VALUE=DATE:20210830
DTEND;VALUE=DATE:20210831
DTSTAMP:20260421T062224
CREATED:20210619T071244Z
LAST-MODIFIED:20210619T071244Z
UID:2050-1630281600-1630367999@www.chiendarret.fr
SUMMARY:ORCIERES - CACT BRITANNIQUES - POINTER CF
DESCRIPTION:CSA – PCF – RED.CLUB –
URL:https://www.chiendarret.fr/les-concours/orcieres-cact-britanniques-pointer-cf/
LOCATION:05170 ORCIERES\, ORCIERES\, 5170\, France
CATEGORIES:Fields Trials Gibier Sauvage
ATTACH;FMTTYPE=image/jpeg:https://www.chiendarret.fr/wp-content/uploads/2021/07/setter_irlandais_field.jpg
ORGANIZER;CN="POINTER CF - M. HISSELLI DAMIEN":MAILTO:mrhissellidamien@hotmail.fr
END:VEVENT
BEGIN:VEVENT
DTSTART;VALUE=DATE:20210831
DTEND;VALUE=DATE:20210901
DTSTAMP:20260421T062224
CREATED:20210619T071229Z
LAST-MODIFIED:20210619T071229Z
UID:2045-1630368000-1630454399@www.chiendarret.fr
SUMMARY:NEVACHE - CACIT BRITANNIQUES - POINTER CF
DESCRIPTION:
URL:https://www.chiendarret.fr/les-concours/nevache-cacit-britanniques-pointer-cf/
LOCATION:05100 NEVACHE\, NEVACHE\, 5100\, France
CATEGORIES:Fields Trials Gibier Sauvage
ATTACH;FMTTYPE=image/jpeg:https://www.chiendarret.fr/wp-content/uploads/2021/07/setter_irlandais_field.jpg
ORGANIZER;CN="POINTER CF - M. HISSELLI DAMIEN":MAILTO:mrhissellidamien@hotmail.fr
END:VEVENT
END:VCALENDAR