BEGIN:VCALENDAR
VERSION:2.0
PRODID:-//Chiens d&#039;arrêt - ECPv6.8.3//NONSGML v1.0//EN
CALSCALE:GREGORIAN
METHOD:PUBLISH
X-WR-CALNAME:Chiens d&#039;arrêt
X-ORIGINAL-URL:https://www.chiendarret.fr
X-WR-CALDESC:Évènements pour Chiens d&#039;arrêt
REFRESH-INTERVAL;VALUE=DURATION:PT1H
X-Robots-Tag:noindex
X-PUBLISHED-TTL:PT1H
BEGIN:VTIMEZONE
TZID:Europe/Paris
BEGIN:DAYLIGHT
TZOFFSETFROM:+0100
TZOFFSETTO:+0200
TZNAME:CEST
DTSTART:20210328T010000
END:DAYLIGHT
BEGIN:STANDARD
TZOFFSETFROM:+0200
TZOFFSETTO:+0100
TZNAME:CET
DTSTART:20211031T010000
END:STANDARD
END:VTIMEZONE
BEGIN:VEVENT
DTSTART;VALUE=DATE:20210925
DTEND;VALUE=DATE:20210926
DTSTAMP:20260422T063654
CREATED:20210811T145810Z
LAST-MODIFIED:20210811T145810Z
UID:3193-1632528000-1632614399@www.chiendarret.fr
SUMMARY:Finale du Challenge FDC 35
DESCRIPTION:La Fédération Départementale des Chasseurs d’Ille et Vilaine organise le \nChallenge pour chiens d’arrêt LOF ou non LOF 2021\nsur 2 lieux d’épreuves au choix\ndans le respect des gestes barrières en vigueur \nle samedi 04 septembre 2021\, à Saint Gilles\nle samedi 18 septembre 2021\, à St Etienne en Cogles \net une finale à la FDC35 le samedi 25 septembre 2021frfdc
URL:https://www.chiendarret.fr/les-concours/finale-du-challenge-fdc-35/
LOCATION:FDC 35\, Beauregard\, St Symphorien\, 35630\, France
CATEGORIES:Concours amateurs
ATTACH;FMTTYPE=image/jpeg:https://www.chiendarret.fr/wp-content/uploads/2021/07/StGilles.jpg
ORGANIZER;CN="FDC 35":MAILTO:fdc35@fdc35.com
END:VEVENT
END:VCALENDAR