BEGIN:VCALENDAR
VERSION:2.0
PRODID:-//Chiens d&#039;arrêt - ECPv6.8.3//NONSGML v1.0//EN
CALSCALE:GREGORIAN
METHOD:PUBLISH
X-WR-CALNAME:Chiens d&#039;arrêt
X-ORIGINAL-URL:https://www.chiendarret.fr
X-WR-CALDESC:Évènements pour Chiens d&#039;arrêt
REFRESH-INTERVAL;VALUE=DURATION:PT1H
X-Robots-Tag:noindex
X-PUBLISHED-TTL:PT1H
BEGIN:VTIMEZONE
TZID:Europe/Paris
BEGIN:DAYLIGHT
TZOFFSETFROM:+0100
TZOFFSETTO:+0200
TZNAME:CEST
DTSTART:20210328T010000
END:DAYLIGHT
BEGIN:STANDARD
TZOFFSETFROM:+0200
TZOFFSETTO:+0100
TZNAME:CET
DTSTART:20211031T010000
END:STANDARD
END:VTIMEZONE
BEGIN:VEVENT
DTSTART;VALUE=DATE:20210918
DTEND;VALUE=DATE:20210919
DTSTAMP:20260422T063654
CREATED:20210811T145606Z
LAST-MODIFIED:20210811T150004Z
UID:3190-1631923200-1632009599@www.chiendarret.fr
SUMMARY:Challenge FDC 35 - Sélection St Etienne en Coglès
DESCRIPTION:La Fédération Départementale des Chasseurs d’Ille et Vilaine organise le \nChallenge pour chiens d’arrêt LOF ou non LOF 2021\nSélection 35sur 2 lieux d’épreuves au choix\, dans le respect des gestes barrières en vigueur \n\nle samedi 04 septembre 2021\, à Saint Gilles\nle samedi 18 septembre 2021\, à St Etienne en Cogles\n\nFinale à la FDC35 le samedi 25 septembre 2021
URL:https://www.chiendarret.fr/les-concours/challenge-fdc-35-selection-st-etienne-en-cogles/
LOCATION:35460 St Etienne en coglès\, St Etienne en Coglès\, 35460\, France
CATEGORIES:Concours amateurs
ATTACH;FMTTYPE=image/jpeg:https://www.chiendarret.fr/wp-content/uploads/2021/07/StGilles.jpg
ORGANIZER;CN="FDC 35":MAILTO:fdc35@fdc35.com
END:VEVENT
END:VCALENDAR