BEGIN:VCALENDAR
VERSION:2.0
PRODID:-//Chiens d&#039;arrêt - ECPv6.8.3//NONSGML v1.0//EN
CALSCALE:GREGORIAN
METHOD:PUBLISH
X-ORIGINAL-URL:https://www.chiendarret.fr
X-WR-CALDESC:Évènements pour Chiens d&#039;arrêt
REFRESH-INTERVAL;VALUE=DURATION:PT1H
X-Robots-Tag:noindex
X-PUBLISHED-TTL:PT1H
BEGIN:VTIMEZONE
TZID:Europe/Paris
BEGIN:DAYLIGHT
TZOFFSETFROM:+0100
TZOFFSETTO:+0200
TZNAME:CEST
DTSTART:20210328T010000
END:DAYLIGHT
BEGIN:STANDARD
TZOFFSETFROM:+0200
TZOFFSETTO:+0100
TZNAME:CET
DTSTART:20211031T010000
END:STANDARD
END:VTIMEZONE
BEGIN:VEVENT
DTSTART;VALUE=DATE:20210912
DTEND;VALUE=DATE:20210913
DTSTAMP:20260422T063724
CREATED:20210825T122311Z
LAST-MODIFIED:20210825T122311Z
UID:3213-1631404800-1631491199@www.chiendarret.fr
SUMMARY:Concours de chien d'arrêt amateur - Quelneuc
DESCRIPTION:Organisé par la société de chasse « Saint François ». \nCatégories \n\nContinentaux – amateurs / trialisant\nBritanniques – amateurs / trialisant\nJeunes (Moins de 24 mois)\n\nInscription par téléphone ou sur place à partir de 7h30
URL:https://www.chiendarret.fr/les-concours/concours-de-chien-darret-amateur-quelneuc/
LOCATION:56910 Quelneuc\, Quelneuc\, 56910
CATEGORIES:Concours amateurs
ATTACH;FMTTYPE=image/jpeg:https://www.chiendarret.fr/wp-content/uploads/2021/08/Quelneuc.jpg
END:VEVENT
END:VCALENDAR