BEGIN:VCALENDAR
VERSION:2.0
PRODID:-//Chiens d&#039;arrêt - ECPv6.8.3//NONSGML v1.0//EN
CALSCALE:GREGORIAN
METHOD:PUBLISH
X-WR-CALNAME:Chiens d&#039;arrêt
X-ORIGINAL-URL:https://www.chiendarret.fr
X-WR-CALDESC:Évènements pour Chiens d&#039;arrêt
REFRESH-INTERVAL;VALUE=DURATION:PT1H
X-Robots-Tag:noindex
X-PUBLISHED-TTL:PT1H
BEGIN:VTIMEZONE
TZID:Europe/Paris
BEGIN:DAYLIGHT
TZOFFSETFROM:+0100
TZOFFSETTO:+0200
TZNAME:CEST
DTSTART:20210328T010000
END:DAYLIGHT
BEGIN:STANDARD
TZOFFSETFROM:+0200
TZOFFSETTO:+0100
TZNAME:CET
DTSTART:20211031T010000
END:STANDARD
END:VTIMEZONE
BEGIN:VEVENT
DTSTART;VALUE=DATE:20210911
DTEND;VALUE=DATE:20210912
DTSTAMP:20260422T063653
CREATED:20210706T141538Z
LAST-MODIFIED:20210706T141655Z
UID:3110-1631318400-1631404799@www.chiendarret.fr
SUMMARY:Concours amateur - ACCA de Parcé (35)
DESCRIPTION:Concours amateur de chiens d’arrêt et leveurs de gibier sur perdrix. \nOuvert à tous les chiens (LOF et non LOF). \n20€ / chien. 3 perdrix posées. Epreuves solo et couples.
URL:https://www.chiendarret.fr/les-concours/concours-amateur-acca-de-parce-35/
LOCATION:35210 PARCE\, Lieu dit Villeray\, Parcé\, 35210
CATEGORIES:Concours amateurs
ATTACH;FMTTYPE=image/jpeg:https://www.chiendarret.fr/wp-content/uploads/2021/07/concours_parce.jpg
END:VEVENT
END:VCALENDAR