BEGIN:VCALENDAR
VERSION:2.0
PRODID:-//Chiens d&#039;arrêt - ECPv6.8.3//NONSGML v1.0//EN
CALSCALE:GREGORIAN
METHOD:PUBLISH
X-ORIGINAL-URL:https://www.chiendarret.fr
X-WR-CALDESC:Évènements pour Chiens d&#039;arrêt
REFRESH-INTERVAL;VALUE=DURATION:PT1H
X-Robots-Tag:noindex
X-PUBLISHED-TTL:PT1H
BEGIN:VTIMEZONE
TZID:Europe/Paris
BEGIN:DAYLIGHT
TZOFFSETFROM:+0100
TZOFFSETTO:+0200
TZNAME:CEST
DTSTART:20210328T010000
END:DAYLIGHT
BEGIN:STANDARD
TZOFFSETFROM:+0200
TZOFFSETTO:+0100
TZNAME:CET
DTSTART:20211031T010000
END:STANDARD
END:VTIMEZONE
BEGIN:VEVENT
DTSTART;VALUE=DATE:20210711
DTEND;VALUE=DATE:20210712
DTSTAMP:20260422T094832
CREATED:20210707T135106Z
LAST-MODIFIED:20210707T135106Z
UID:3128-1625961600-1626047999@www.chiendarret.fr
SUMMARY:Elliant - Concours de chiens d'arrêt et rapport à l'eau
DESCRIPTION:Concours de chiens d’arrêt et rapport à l’eau le 11 juillet à ELLIANT 29370.soc\n\n\nClôture des inscriptions le mercredi 7 juillet.\nPar Téléphone ou SMS\n\n\nLa société de chasse « la saint Gilles » Remercie dès à présent les agriculteurs d’Elliant \, nos sponsors\, juges \, participants et bénévoles …qui sont les maillons indispensables à l’organisation de cette journée
URL:https://www.chiendarret.fr/les-concours/elliant-concours-de-chiens-darret-et-rapport-a-leau/
LOCATION:29370 ELLIANT\, Elliant\, 29370
CATEGORIES:Concours amateurs
ATTACH;FMTTYPE=image/jpeg:https://www.chiendarret.fr/wp-content/uploads/2021/07/StGilles.jpg
END:VEVENT
END:VCALENDAR