BEGIN:VCALENDAR
VERSION:2.0
PRODID:-//Chiens d&#039;arrêt - ECPv6.8.3//NONSGML v1.0//EN
CALSCALE:GREGORIAN
METHOD:PUBLISH
X-ORIGINAL-URL:https://www.chiendarret.fr
X-WR-CALDESC:Évènements pour Chiens d&#039;arrêt
REFRESH-INTERVAL;VALUE=DURATION:PT1H
X-Robots-Tag:noindex
X-PUBLISHED-TTL:PT1H
BEGIN:VTIMEZONE
TZID:Europe/Paris
BEGIN:DAYLIGHT
TZOFFSETFROM:+0100
TZOFFSETTO:+0200
TZNAME:CEST
DTSTART:20210328T010000
END:DAYLIGHT
BEGIN:STANDARD
TZOFFSETFROM:+0200
TZOFFSETTO:+0100
TZNAME:CET
DTSTART:20211031T010000
END:STANDARD
END:VTIMEZONE
BEGIN:VEVENT
DTSTART;VALUE=DATE:20210704
DTEND;VALUE=DATE:20210705
DTSTAMP:20260422T094827
CREATED:20210628T075531Z
LAST-MODIFIED:20210628T075531Z
UID:3061-1625356800-1625443199@www.chiendarret.fr
SUMMARY:Journée d'entrainement 1 - CUSCA 28 - BONNEVAL
DESCRIPTION:
URL:https://www.chiendarret.fr/les-concours/journee-dentrainement-1-cusca-28-bonneval/
LOCATION:28800 BONNEVAL\, BONNEVAL\, 28800
CATEGORIES:Concours amateurs
ATTACH;FMTTYPE=image/jpeg:https://www.chiendarret.fr/wp-content/uploads/2021/07/StGilles.jpg
ORGANIZER;CN="CUSCA 28":MAILTO:laurence.madiot4@gmail.com
END:VEVENT
END:VCALENDAR