BEGIN:VCALENDAR
VERSION:2.0
PRODID:-//Chiens d&#039;arrêt - ECPv6.8.3//NONSGML v1.0//EN
CALSCALE:GREGORIAN
METHOD:PUBLISH
X-WR-CALNAME:Chiens d&#039;arrêt
X-ORIGINAL-URL:https://www.chiendarret.fr
X-WR-CALDESC:Évènements pour Chiens d&#039;arrêt
REFRESH-INTERVAL;VALUE=DURATION:PT1H
X-Robots-Tag:noindex
X-PUBLISHED-TTL:PT1H
BEGIN:VTIMEZONE
TZID:Europe/Paris
BEGIN:DAYLIGHT
TZOFFSETFROM:+0100
TZOFFSETTO:+0200
TZNAME:CEST
DTSTART:20210328T010000
END:DAYLIGHT
BEGIN:STANDARD
TZOFFSETFROM:+0200
TZOFFSETTO:+0100
TZNAME:CET
DTSTART:20211031T010000
END:STANDARD
END:VTIMEZONE
BEGIN:VEVENT
DTSTART;VALUE=DATE:20210703
DTEND;VALUE=DATE:20210704
DTSTAMP:20260422T112519
CREATED:20210625T205020Z
LAST-MODIFIED:20210625T205020Z
UID:2947-1625270400-1625356799@www.chiendarret.fr
SUMMARY:Journée d'entrainnement - ADUCC
DESCRIPTION:Journée d’entrainement sur perdrix dans la Drome. RDV à 8h
URL:https://www.chiendarret.fr/les-concours/journee-dentrainnement-aducc/
LOCATION:26190 LEONCEL\, 26190\, LEONCEL
CATEGORIES:Concours amateurs
ATTACH;FMTTYPE=image/jpeg:https://www.chiendarret.fr/wp-content/uploads/2021/07/StGilles.jpg
END:VEVENT
END:VCALENDAR