BEGIN:VCALENDAR
VERSION:2.0
PRODID:-//Chiens d&#039;arrêt - ECPv6.8.3//NONSGML v1.0//EN
CALSCALE:GREGORIAN
METHOD:PUBLISH
X-ORIGINAL-URL:https://www.chiendarret.fr
X-WR-CALDESC:Évènements pour Chiens d&#039;arrêt
REFRESH-INTERVAL;VALUE=DURATION:PT1H
X-Robots-Tag:noindex
X-PUBLISHED-TTL:PT1H
BEGIN:VTIMEZONE
TZID:Europe/Paris
BEGIN:DAYLIGHT
TZOFFSETFROM:+0100
TZOFFSETTO:+0200
TZNAME:CEST
DTSTART:20210328T010000
END:DAYLIGHT
BEGIN:STANDARD
TZOFFSETFROM:+0200
TZOFFSETTO:+0100
TZNAME:CET
DTSTART:20211031T010000
END:STANDARD
END:VTIMEZONE
BEGIN:VEVENT
DTSTART;VALUE=DATE:20211114
DTEND;VALUE=DATE:20211115
DTSTAMP:20260425T212530
CREATED:20210624T110636Z
LAST-MODIFIED:20210624T110636Z
UID:2849-1636848000-1636934399@www.chiendarret.fr
SUMMARY:BICP - GOUY SAINT ANDRE - CENTRALE CANINE Coupe de France de Chasse Pratique
DESCRIPTION:Conditions de participation : BICP 1er Cat ou 1er prix dans une épreuve terre et eau ou une épreuve complète obtenu à l’étranger quels que soient le nombre de points et la date d’obtention
URL:https://www.chiendarret.fr/les-concours/bicp-gouy-saint-andre-centrale-canine-coupe-de-france-de-chasse-pratique/
LOCATION:62870 GOUY SAINT ANDRE\, GOUY ST ANDRE\, 62870
CATEGORIES:BICP
ATTACH;FMTTYPE=image/jpeg:https://www.chiendarret.fr/wp-content/uploads/2021/07/BICP-braque-rapport.jpg
END:VEVENT
BEGIN:VEVENT
DTSTART;VALUE=DATE:20211114
DTEND;VALUE=DATE:20211115
DTSTAMP:20260425T212530
CREATED:20210624T110636Z
LAST-MODIFIED:20210624T110636Z
UID:2851-1636848000-1636934399@www.chiendarret.fr
SUMMARY:BICP - GOUY SAINT ANDRE - DRAHTHAAR CLUB DE France - 2
DESCRIPTION:7è et 8è groupe
URL:https://www.chiendarret.fr/les-concours/bicp-gouy-saint-andre-drahthaar-club-de-france-2/
LOCATION:62870 GOUY SAINT ANDRE\, GOUY ST ANDRE\, 62870
CATEGORIES:BICP
ATTACH;FMTTYPE=image/jpeg:https://www.chiendarret.fr/wp-content/uploads/2021/07/BICP-braque-rapport.jpg
END:VEVENT
END:VCALENDAR