BEGIN:VCALENDAR
VERSION:2.0
PRODID:-//Chiens d&#039;arrêt - ECPv6.8.3//NONSGML v1.0//EN
CALSCALE:GREGORIAN
METHOD:PUBLISH
X-ORIGINAL-URL:https://www.chiendarret.fr
X-WR-CALDESC:Évènements pour Chiens d&#039;arrêt
REFRESH-INTERVAL;VALUE=DURATION:PT1H
X-Robots-Tag:noindex
X-PUBLISHED-TTL:PT1H
BEGIN:VTIMEZONE
TZID:Europe/Paris
BEGIN:DAYLIGHT
TZOFFSETFROM:+0100
TZOFFSETTO:+0200
TZNAME:CEST
DTSTART:20210328T010000
END:DAYLIGHT
BEGIN:STANDARD
TZOFFSETFROM:+0200
TZOFFSETTO:+0100
TZNAME:CET
DTSTART:20211031T010000
END:STANDARD
END:VTIMEZONE
BEGIN:VEVENT
DTSTART;VALUE=DATE:20211106
DTEND;VALUE=DATE:20211107
DTSTAMP:20260425T212501
CREATED:20210624T110412Z
LAST-MODIFIED:20210624T110412Z
UID:2830-1636156800-1636243199@www.chiendarret.fr
SUMMARY:BICP - MERICOURT/SOMME - Club du Barbu Tchèque sous tutelle DCF
DESCRIPTION:Limité à 16 chiens
URL:https://www.chiendarret.fr/les-concours/bicp-mericourt-somme-club-du-barbu-tcheque-sous-tutelle-dcf/
LOCATION:80340 MERICOURT/SOMME\, ETINEHEM MERICOURT\, 80340
CATEGORIES:BICP
ATTACH;FMTTYPE=image/jpeg:https://www.chiendarret.fr/wp-content/uploads/2021/07/BICP-braque-rapport.jpg
ORGANIZER;CN="Club du Barbu Tch%C3%A8que sous tutelle DCF - Jacques Roloff":MAILTO:roloffjacques@gmail.com
END:VEVENT
BEGIN:VEVENT
DTSTART;VALUE=DATE:20211106
DTEND;VALUE=DATE:20211107
DTSTAMP:20260425T212501
CREATED:20210624T110526Z
LAST-MODIFIED:20210624T110526Z
UID:2845-1636156800-1636243199@www.chiendarret.fr
SUMMARY:BICP - MONTCEZ L’ABBAYE - ACT CHAMPAGNE ARDENNE
DESCRIPTION:7è et 8è groupe – date limite engagements 30/10
URL:https://www.chiendarret.fr/les-concours/bicp-montcez-labbaye-act-champagne-ardenne/
LOCATION:51290 MONTCEZ L’ABBAYE\, MONCETZ L ABBAYE\, 51290
CATEGORIES:BICP
ATTACH;FMTTYPE=image/jpeg:https://www.chiendarret.fr/wp-content/uploads/2021/07/BICP-braque-rapport.jpg
ORGANIZER;CN="ACT CHAMPAGNE ARDENNE - Pascal Burlat":MAILTO:burlatp.cca@gmail.com
END:VEVENT
END:VCALENDAR