BEGIN:VCALENDAR
VERSION:2.0
PRODID:-//Chiens d&#039;arrêt - ECPv6.8.3//NONSGML v1.0//EN
CALSCALE:GREGORIAN
METHOD:PUBLISH
X-WR-CALNAME:Chiens d&#039;arrêt
X-ORIGINAL-URL:https://www.chiendarret.fr
X-WR-CALDESC:Évènements pour Chiens d&#039;arrêt
REFRESH-INTERVAL;VALUE=DURATION:PT1H
X-Robots-Tag:noindex
X-PUBLISHED-TTL:PT1H
BEGIN:VTIMEZONE
TZID:Europe/Paris
BEGIN:DAYLIGHT
TZOFFSETFROM:+0100
TZOFFSETTO:+0200
TZNAME:CEST
DTSTART:20210328T010000
END:DAYLIGHT
BEGIN:STANDARD
TZOFFSETFROM:+0200
TZOFFSETTO:+0100
TZNAME:CET
DTSTART:20211031T010000
END:STANDARD
END:VTIMEZONE
BEGIN:VEVENT
DTSTART;VALUE=DATE:20211030
DTEND;VALUE=DATE:20211031
DTSTAMP:20260425T225311
CREATED:20210624T110406Z
LAST-MODIFIED:20210624T110406Z
UID:2826-1635552000-1635638399@www.chiendarret.fr
SUMMARY:BICP - MEILLANT - ACT Centre Val de Loire
DESCRIPTION:
URL:https://www.chiendarret.fr/les-concours/bicp-meillant-act-centre-val-de-loire/
LOCATION:18200 MEILLANT\, MEILLANT\, 18200
CATEGORIES:BICP
ATTACH;FMTTYPE=image/jpeg:https://www.chiendarret.fr/wp-content/uploads/2021/07/BICP-braque-rapport.jpg
ORGANIZER;CN="ACT Centre Val de Loire - Christian Descout":MAILTO:descouts.christian@wanadoo.fr
END:VEVENT
BEGIN:VEVENT
DTSTART;VALUE=DATE:20211030
DTEND;VALUE=DATE:20211031
DTSTAMP:20260425T225311
CREATED:20210624T110413Z
LAST-MODIFIED:20210624T110413Z
UID:2833-1635552000-1635638399@www.chiendarret.fr
SUMMARY:BICP - ENTRESSEN - Club Francais des Epagneuls de Münster et du langhaar
DESCRIPTION:
URL:https://www.chiendarret.fr/les-concours/bicp-entressen-club-francais-des-epagneuls-de-munster-et-du-langhaar/
LOCATION:13118 ENTRESSEN\, ISTRES\, 13118
CATEGORIES:BICP
ATTACH;FMTTYPE=image/jpeg:https://www.chiendarret.fr/wp-content/uploads/2021/07/BICP-braque-rapport.jpg
ORGANIZER;CN="Club Francais des Epagneuls de M%C3%BCnster et du langhaar - Joseph Catania":MAILTO:jose.catania@free.fr
END:VEVENT
END:VCALENDAR