BEGIN:VCALENDAR
VERSION:2.0
PRODID:-//Chiens d&#039;arrêt - ECPv6.8.3//NONSGML v1.0//EN
CALSCALE:GREGORIAN
METHOD:PUBLISH
X-ORIGINAL-URL:https://www.chiendarret.fr
X-WR-CALDESC:Évènements pour Chiens d&#039;arrêt
REFRESH-INTERVAL;VALUE=DURATION:PT1H
X-Robots-Tag:noindex
X-PUBLISHED-TTL:PT1H
BEGIN:VTIMEZONE
TZID:Europe/Paris
BEGIN:DAYLIGHT
TZOFFSETFROM:+0100
TZOFFSETTO:+0200
TZNAME:CEST
DTSTART:20210328T010000
END:DAYLIGHT
BEGIN:STANDARD
TZOFFSETFROM:+0200
TZOFFSETTO:+0100
TZNAME:CET
DTSTART:20211031T010000
END:STANDARD
END:VTIMEZONE
BEGIN:VEVENT
DTSTART;VALUE=DATE:20210902
DTEND;VALUE=DATE:20210903
DTSTAMP:20260425T225214
CREATED:20210624T110428Z
LAST-MODIFIED:20210624T110428Z
UID:2838-1630540800-1630627199@www.chiendarret.fr
SUMMARY:BICP - CHOUPPES -MONTS SUR GUESNES - A.C.T. du Poitou
DESCRIPTION:7ème groupe + chiens d’eau Gibier non tiré sur terre
URL:https://www.chiendarret.fr/les-concours/bicp-chouppes-monts-sur-guesnes-a-c-t-du-poitou/
LOCATION:86110 CHOUPPES – MONTS SUR GUESNES\, CHOUPPES\, 86110
CATEGORIES:BICP
ATTACH;FMTTYPE=image/jpeg:https://www.chiendarret.fr/wp-content/uploads/2021/07/BICP-braque-rapport.jpg
ORGANIZER;CN="A.C.T. du Poitou - Magali Boulanger":MAILTO:ptitmunst86@live.fr
END:VEVENT
BEGIN:VEVENT
DTSTART;VALUE=DATE:20210903
DTEND;VALUE=DATE:20210904
DTSTAMP:20260425T225214
CREATED:20210624T110510Z
LAST-MODIFIED:20210624T110510Z
UID:2840-1630627200-1630713599@www.chiendarret.fr
SUMMARY:BICP - CHOUPPES -MONTS SUR GUESNES - Club Francais des Epagneuls de Münster et du langhaar
DESCRIPTION:7ème groupe + chiens d’eau Gibier non tiré sur terre
URL:https://www.chiendarret.fr/les-concours/bicp-chouppes-monts-sur-guesnes-club-francais-des-epagneuls-de-munster-et-du-langhaar/
LOCATION:86110 CHOUPPES – MONTS SUR GUESNES\, CHOUPPES\, 86110
CATEGORIES:BICP
ATTACH;FMTTYPE=image/jpeg:https://www.chiendarret.fr/wp-content/uploads/2021/07/BICP-braque-rapport.jpg
END:VEVENT
BEGIN:VEVENT
DTSTART;VALUE=DATE:20210904
DTEND;VALUE=DATE:20210905
DTSTAMP:20260425T225214
CREATED:20210624T110510Z
LAST-MODIFIED:20210624T110510Z
UID:2841-1630713600-1630799999@www.chiendarret.fr
SUMMARY:BICP - CHOUPPES -MONTS SUR GUESNES - Club Francais des Epagneuls de Münster et du langhaar - 2
DESCRIPTION:7ème groupe + chiens d’eau Gibier non tiré sur terre
URL:https://www.chiendarret.fr/les-concours/bicp-chouppes-monts-sur-guesnes-club-francais-des-epagneuls-de-munster-et-du-langhaar-2/
LOCATION:86110 CHOUPPES – MONTS SUR GUESNES\, CHOUPPES\, 86110
CATEGORIES:BICP
ATTACH;FMTTYPE=image/jpeg:https://www.chiendarret.fr/wp-content/uploads/2021/07/BICP-braque-rapport.jpg
END:VEVENT
BEGIN:VEVENT
DTSTART;VALUE=DATE:20210905
DTEND;VALUE=DATE:20210906
DTSTAMP:20260425T225214
CREATED:20210624T110510Z
LAST-MODIFIED:20210624T110510Z
UID:2839-1630800000-1630886399@www.chiendarret.fr
SUMMARY:BICP - CHOUPPES -MONTS SUR GUESNES - A.C.T. du Poitou - 2
DESCRIPTION:7ème groupe + chiens d’eau Gibier non tiré sur terre
URL:https://www.chiendarret.fr/les-concours/bicp-chouppes-monts-sur-guesnes-a-c-t-du-poitou-2/
LOCATION:86110 CHOUPPES – MONTS SUR GUESNES\, CHOUPPES\, 86110
CATEGORIES:BICP
ATTACH;FMTTYPE=image/jpeg:https://www.chiendarret.fr/wp-content/uploads/2021/07/BICP-braque-rapport.jpg
ORGANIZER;CN="A.C.T. du Poitou - Magali Boulanger":MAILTO:ptitmunst86@live.fr
END:VEVENT
BEGIN:VEVENT
DTSTART;VALUE=DATE:20210911
DTEND;VALUE=DATE:20210912
DTSTAMP:20260425T225214
CREATED:20210624T110428Z
LAST-MODIFIED:20210624T110428Z
UID:2836-1631318400-1631404799@www.chiendarret.fr
SUMMARY:BICP - LANTY - ACT BOURGOGNE
DESCRIPTION:7è et 8è groupe
URL:https://www.chiendarret.fr/les-concours/bicp-lanty-act-bourgogne/
LOCATION:58250 LANTY\, LANTY\, 58250
CATEGORIES:BICP
ATTACH;FMTTYPE=image/jpeg:https://www.chiendarret.fr/wp-content/uploads/2021/07/BICP-braque-rapport.jpg
ORGANIZER;CN="ACT BOURGOGNE - M Favre":MAILTO:merl.favre@scb.asso.fr
END:VEVENT
BEGIN:VEVENT
DTSTART;VALUE=DATE:20210912
DTEND;VALUE=DATE:20210913
DTSTAMP:20260425T225214
CREATED:20210624T110428Z
LAST-MODIFIED:20210624T110428Z
UID:2837-1631404800-1631491199@www.chiendarret.fr
SUMMARY:BICP - LANTY - ACT BOURGOGNE - 2
DESCRIPTION:7è et 8è groupe
URL:https://www.chiendarret.fr/les-concours/bicp-lanty-act-bourgogne-2/
LOCATION:58250 LANTY\, LANTY\, 58250
CATEGORIES:BICP
ATTACH;FMTTYPE=image/jpeg:https://www.chiendarret.fr/wp-content/uploads/2021/07/BICP-braque-rapport.jpg
ORGANIZER;CN="ACT BOURGOGNE - M Favre":MAILTO:merl.favre@scb.asso.fr
END:VEVENT
BEGIN:VEVENT
DTSTART;VALUE=DATE:20210920
DTEND;VALUE=DATE:20210921
DTSTAMP:20260425T225214
CREATED:20210624T110413Z
LAST-MODIFIED:20210624T110413Z
UID:2832-1632096000-1632182399@www.chiendarret.fr
SUMMARY:BICP - COGGIA /Liamone - Club Français du Braque Allemand
DESCRIPTION:
URL:https://www.chiendarret.fr/les-concours/bicp-coggia-liamone-club-francais-du-braque-allemand/
LOCATION:20118 COGGIA /Liamone\, COGGIA\, 20118
CATEGORIES:BICP
ATTACH;FMTTYPE=image/jpeg:https://www.chiendarret.fr/wp-content/uploads/2021/07/BICP-braque-rapport.jpg
ORGANIZER;CN="Club Fran%C3%A7ais du Braque Allemand - Jean-Claude Mignot":MAILTO:mignot.jeanclaude@wanadoo.fr
END:VEVENT
END:VCALENDAR